BEGIN:VCALENDAR
VERSION:2.0
PRODID:-//American Young Coder - ECPv6.10.1.1//NONSGML v1.0//EN
CALSCALE:GREGORIAN
METHOD:PUBLISH
X-ORIGINAL-URL:https://www.ayclogic.com
X-WR-CALDESC:Events for American Young Coder
REFRESH-INTERVAL;VALUE=DURATION:PT1H
X-Robots-Tag:noindex
X-PUBLISHED-TTL:PT1H
BEGIN:VTIMEZONE
TZID:America/Los_Angeles
BEGIN:DAYLIGHT
TZOFFSETFROM:-0800
TZOFFSETTO:-0700
TZNAME:PDT
DTSTART:20220313T100000
END:DAYLIGHT
BEGIN:STANDARD
TZOFFSETFROM:-0700
TZOFFSETTO:-0800
TZNAME:PST
DTSTART:20221106T090000
END:STANDARD
END:VTIMEZONE
BEGIN:VEVENT
DTSTART;TZID=America/Los_Angeles:20220522T100000
DTEND;TZID=America/Los_Angeles:20220522T110000
DTSTAMP:20260423T214046
CREATED:20220524T054653Z
LAST-MODIFIED:20220524T054943Z
UID:13199-1653213600-1653217200@www.ayclogic.com
SUMMARY:10 AM - Scratch Level 1 - Allison
DESCRIPTION:Today we:\n\nContinued the Virtual Snow project\nRandomized where the Snowflake clones will start\nMade the Snowflake clones move a little to the left or right while falling\nDeleted the Snowflake clones when they reach close to the bottom edge\nReviewed how to make a card in Scratch\n\nImportant Information:\n\nIn honor of Memorial Day\, the school will be closed from Saturday 5/28 to Monday 5/30. Our next class will be on Saturday 6/4.\nYou can find the list of days the school will be closed in honor of holidays:  https://www.ayclogic.com/observed-holidays/\n\nHomework:\n\nCreate a Father’s Day card in Scratch. Have fun and be creative!\nMake sure to follow the competition rules listed in https://www.ayclogic.com/2022-scratch-coding-competition/.\n Contact us if you have any questions or need any help.
URL:https://www.ayclogic.com/event/10-am-scratch-level-1-allison/
CATEGORIES:Scratch Class,Scratch Class Level 1
END:VEVENT
END:VCALENDAR