BEGIN:VCALENDAR
VERSION:2.0
PRODID:-//American Young Coder - ECPv6.10.1.1//NONSGML v1.0//EN
CALSCALE:GREGORIAN
METHOD:PUBLISH
X-ORIGINAL-URL:https://www.ayclogic.com
X-WR-CALDESC:Events for American Young Coder
REFRESH-INTERVAL;VALUE=DURATION:PT1H
X-Robots-Tag:noindex
X-PUBLISHED-TTL:PT1H
BEGIN:VTIMEZONE
TZID:America/Los_Angeles
BEGIN:DAYLIGHT
TZOFFSETFROM:-0800
TZOFFSETTO:-0700
TZNAME:PDT
DTSTART:20220313T100000
END:DAYLIGHT
BEGIN:STANDARD
TZOFFSETFROM:-0700
TZOFFSETTO:-0800
TZNAME:PST
DTSTART:20221106T090000
END:STANDARD
END:VTIMEZONE
BEGIN:VEVENT
DTSTART;TZID=America/Los_Angeles:20220523T170000
DTEND;TZID=America/Los_Angeles:20220523T180000
DTSTAMP:20260423T214018
CREATED:20220526T044724Z
LAST-MODIFIED:20220527T002136Z
UID:13257-1653325200-1653328800@www.ayclogic.com
SUMMARY:5 PM – Intro To Python – Bill
DESCRIPTION:Today We:\n\nReviewed For Loops with Lists\nReviewed For Loops using range\nLearned how to print out things with a count in front (Ex: 1. Ayclogic 2.Ayclogic)\nLearned how to use a For loop using a range to loop through a list\n\nYour HW:\n\nCreate a new File called May_23_ForLoopHW2\nDo page 57 From the book\nDo #1 and #2 from: https://www.ayclogic.com/list-inputs-if-and-else-loops-and-function/\nNo Class Next Week: May 30th
URL:https://www.ayclogic.com/event/5-pm-intro-to-python-bill-3/
END:VEVENT
BEGIN:VEVENT
DTSTART;TZID=America/Los_Angeles:20220523T180000
DTEND;TZID=America/Los_Angeles:20220523T190000
DTSTAMP:20260423T214018
CREATED:20220525T061937Z
LAST-MODIFIED:20220525T062125Z
UID:13232-1653328800-1653332400@www.ayclogic.com
SUMMARY:6PM - Digital Illustration 2
DESCRIPTION:MONDAY \nToday we continued the Ayaka project. We have started the Lines today\, and finished her face\, necklace\, and hand. \n  \n  \nHOMEWORK \nFix up your lines and catch up to the class project\, if you need to. Otherwise\, no homework. \nAlso\, there is NO CLASS next week. (No class Monday\, May 30)
URL:https://www.ayclogic.com/event/6pm-digital-illustration-2-4/
CATEGORIES:Digital Illustration,Intermediate Digital Illustration
END:VEVENT
BEGIN:VEVENT
DTSTART;TZID=America/Los_Angeles:20220523T190000
DTEND;TZID=America/Los_Angeles:20220523T200000
DTSTAMP:20260423T214018
CREATED:20220524T030941Z
LAST-MODIFIED:20220524T030941Z
UID:13191-1653332400-1653336000@www.ayclogic.com
SUMMARY:7 PM – Coding Olympic Training
DESCRIPTION:Solve the two problems we discussed in class in different approaches\, compare time complexity. \n1. http://www.usaco.org/index.php?page=viewproblem2&cpid=1204 \n2. http://www.usaco.org/index.php?page=viewproblem2&cpid=1205
URL:https://www.ayclogic.com/event/7-pm-coding-olympic-training-12/
END:VEVENT
END:VCALENDAR