BEGIN:VCALENDAR
VERSION:2.0
PRODID:-//American Young Coder - ECPv6.10.1.1//NONSGML v1.0//EN
CALSCALE:GREGORIAN
METHOD:PUBLISH
X-ORIGINAL-URL:https://www.ayclogic.com
X-WR-CALDESC:Events for American Young Coder
REFRESH-INTERVAL;VALUE=DURATION:PT1H
X-Robots-Tag:noindex
X-PUBLISHED-TTL:PT1H
BEGIN:VTIMEZONE
TZID:America/Los_Angeles
BEGIN:DAYLIGHT
TZOFFSETFROM:-0800
TZOFFSETTO:-0700
TZNAME:PDT
DTSTART:20220313T100000
END:DAYLIGHT
BEGIN:STANDARD
TZOFFSETFROM:-0700
TZOFFSETTO:-0800
TZNAME:PST
DTSTART:20221106T090000
END:STANDARD
END:VTIMEZONE
BEGIN:VEVENT
DTSTART;TZID=America/Los_Angeles:20220527T150000
DTEND;TZID=America/Los_Angeles:20220527T160000
DTSTAMP:20260423T214047
CREATED:20220527T225632Z
LAST-MODIFIED:20220527T225632Z
UID:13269-1653663600-1653667200@www.ayclogic.com
SUMMARY:3 PM Intro to Java - Alex
DESCRIPTION:Today We Did:\n\nWe learned about how to use a scanner and how to use if and else if statements.\nAlso briefly covered how to create a list and get items.\n\nFor Homework:\n\nCreate a new project titled CarDealerHomework.java\nFollow this link for the instructions on it: https://www.ayclogic.com/java-exercise-2b-input-from-shell-and-if-else/
URL:https://www.ayclogic.com/event/3-pm-intro-to-java-alex/
CATEGORIES:Introduction To Java,Java
END:VEVENT
BEGIN:VEVENT
DTSTART;TZID=America/Los_Angeles:20220527T173000
DTEND;TZID=America/Los_Angeles:20220527T183000
DTSTAMP:20260423T214047
CREATED:20220528T012605Z
LAST-MODIFIED:20220528T012605Z
UID:13272-1653672600-1653676200@www.ayclogic.com
SUMMARY:5:30 PM Scratch Level 2 - Alex
DESCRIPTION:Today We Did:\n\nWe finished up the Supermarket List project\nAdding in the price for all the products and telling the user how much they owe.\nWe also started the Fireball Fighting project by making the first character move.\n\nFor Homework:\n\nIf you guys have not found your characters already\, find two characters that you like to fight each other and make sure their backgrounds are clear.\nAlso\, get two types of projectiles (like the fireball) that the characters can use to throw at each other.\nMake sure that both characters are able to move around with the arrow keys and also WASD.\nThe characters should also be able to shoot projectiles at each other\, look at past projects if you need help on how to shoot them.
URL:https://www.ayclogic.com/event/530-pm-scratch-level-2-alex-3/
CATEGORIES:Scratch Class,Scratch Class Level 2
END:VEVENT
BEGIN:VEVENT
DTSTART;TZID=America/Los_Angeles:20220527T180000
DTEND;TZID=America/Los_Angeles:20220527T190000
DTSTAMP:20260423T214047
CREATED:20220528T020223Z
LAST-MODIFIED:20220528T020223Z
UID:13274-1653674400-1653678000@www.ayclogic.com
SUMMARY:6 PM – Scratch Level 1 – Yitong
DESCRIPTION:Today we:\n\nMade the 3rd letter get smaller after it gets bigger forever\nMade the 5th letter glow and go back to normal forever\nMade the 6th letter change affects forever\nFinished Name Animation\n\nHomework:\n\nMake a letter spin counter-clockwise (the opposite direction of the 2nd letter)\n\n\n\n\nHint: think about how we made the 3rd sprite smaller!\n\n\n\n\n\n\nIf you need help email me: idyllicalyssum@gmail.com
URL:https://www.ayclogic.com/event/6-pm-scratch-level-1-yitong-37/
CATEGORIES:Scratch Class,Scratch Class Level 1
END:VEVENT
BEGIN:VEVENT
DTSTART;TZID=America/Los_Angeles:20220527T190000
DTEND;TZID=America/Los_Angeles:20220527T200000
DTSTAMP:20260423T214047
CREATED:20220530T170636Z
LAST-MODIFIED:20220603T213431Z
UID:13280-1653678000-1653681600@www.ayclogic.com
SUMMARY:7PM - Python Game Development - Latisha
DESCRIPTION:Today We Did:\n\nContinued working on Flappy Bird\n\nCreated Tube Class\nAdded Lower Tube\n\n\n\nHomework:\n\nDo Project Outline and share the google doc with me if you haven’t already. (click here for link to template)\nMake the Player class in player.py using the Green duck #1-01.png image. Then\, blit it to the screen.\n\nIf you have any questions\, please send an email to latisha@ayclogic.com
URL:https://www.ayclogic.com/event/7pm-python-game-development-6/
END:VEVENT
END:VCALENDAR