BEGIN:VCALENDAR
VERSION:2.0
PRODID:-//American Young Coder - ECPv6.10.1.1//NONSGML v1.0//EN
CALSCALE:GREGORIAN
METHOD:PUBLISH
X-ORIGINAL-URL:https://www.ayclogic.com
X-WR-CALDESC:Events for American Young Coder
REFRESH-INTERVAL;VALUE=DURATION:PT1H
X-Robots-Tag:noindex
X-PUBLISHED-TTL:PT1H
BEGIN:VTIMEZONE
TZID:America/Los_Angeles
BEGIN:DAYLIGHT
TZOFFSETFROM:-0800
TZOFFSETTO:-0700
TZNAME:PDT
DTSTART:20220313T100000
END:DAYLIGHT
BEGIN:STANDARD
TZOFFSETFROM:-0700
TZOFFSETTO:-0800
TZNAME:PST
DTSTART:20221106T090000
END:STANDARD
END:VTIMEZONE
BEGIN:VEVENT
DTSTART;TZID=America/Los_Angeles:20220528T100000
DTEND;TZID=America/Los_Angeles:20220528T110000
DTSTAMP:20260423T230006
CREATED:20220528T040048Z
LAST-MODIFIED:20220528T040048Z
UID:13276-1653732000-1653735600@www.ayclogic.com
SUMMARY:10 AM - Scratch 2 - Gamas
DESCRIPTION:Homework\n\nContinue on Fireball Fighting game\nCreate 2 variables: leftPlayerHealth\, rightPlayerHealth\nSet these 2 variables to 4 in the beginning.\nMake the apple sprite randomly appear on the screen every 3 seconds.\nWhen the player touch the apple increase the player’s health
URL:https://www.ayclogic.com/event/10-am-scratch-2-gamas-2/
END:VEVENT
END:VCALENDAR