BEGIN:VCALENDAR
VERSION:2.0
PRODID:-//American Young Coder - ECPv6.10.1.1//NONSGML v1.0//EN
CALSCALE:GREGORIAN
METHOD:PUBLISH
X-WR-CALNAME:American Young Coder
X-ORIGINAL-URL:https://www.ayclogic.com
X-WR-CALDESC:Events for American Young Coder
REFRESH-INTERVAL;VALUE=DURATION:PT1H
X-Robots-Tag:noindex
X-PUBLISHED-TTL:PT1H
BEGIN:VTIMEZONE
TZID:America/Los_Angeles
BEGIN:DAYLIGHT
TZOFFSETFROM:-0800
TZOFFSETTO:-0700
TZNAME:PDT
DTSTART:20220313T100000
END:DAYLIGHT
BEGIN:STANDARD
TZOFFSETFROM:-0700
TZOFFSETTO:-0800
TZNAME:PST
DTSTART:20221106T090000
END:STANDARD
END:VTIMEZONE
BEGIN:VEVENT
DTSTART;TZID=America/Los_Angeles:20220531T170000
DTEND;TZID=America/Los_Angeles:20220531T180000
DTSTAMP:20260423T202208
CREATED:20220602T235517Z
LAST-MODIFIED:20220603T000315Z
UID:13326-1654016400-1654020000@www.ayclogic.com
SUMMARY:5 PM – Python OOP – Bill
DESCRIPTION:Today We:\n\nContinued the Shopping Cart V3 project\nMade it so the shopping_cart list is now a list of GroceryItem instead of a list of string like before\nCleaned up the code\nMade it so after the user checks out\, the shopping cart list also shows the price and if it needs to be frozen\nFinished the Shopping Cart V3 project\nCreated a new Project file\, SchoolApplication\n\nYour HW:\n\nCreate a src folder inside the project folder\nCreate a new Python file inside the src folder called “student_class”\nInside StudentClass file create a new class called Student that has the following attributes:\n\nName\nAge\nGrade
URL:https://www.ayclogic.com/event/5-pm-python-oop-bill-8/
END:VEVENT
BEGIN:VEVENT
DTSTART;TZID=America/Los_Angeles:20220531T173000
DTEND;TZID=America/Los_Angeles:20220531T183000
DTSTAMP:20260423T202208
CREATED:20220601T045929Z
LAST-MODIFIED:20220601T045929Z
UID:13302-1654018200-1654021800@www.ayclogic.com
SUMMARY:5:30 PM – Intro to Python – Parna
DESCRIPTION:Today We Do\n\nWe reviewed last weeks homework.\n\nHomework\n\nPage 123-124 TRY IT YOURSELF 7-4\, 7-5\, 7-6\, 7-7\nComplete these exercises: https://www.ayclogic.com/intro-to-python-exercises/
URL:https://www.ayclogic.com/event/530-pm-intro-to-python-parna-10/
END:VEVENT
BEGIN:VEVENT
DTSTART;TZID=America/Los_Angeles:20220531T180000
DTEND;TZID=America/Los_Angeles:20220531T190000
DTSTAMP:20260423T202208
CREATED:20220601T020304Z
LAST-MODIFIED:20220602T225345Z
UID:13299-1654020000-1654023600@www.ayclogic.com
SUMMARY:6 PM – Scratch Level 1 – Yitong
DESCRIPTION:Today we:\n\nWent over X and Y coordinates\nFinished Virtual Snow project\n\nHomework:\n\nAdd Jingle-Bells music and make it play FOREVER!\n\n\n\n\nIf you need help email me: idyllicalyssum@gmail.com
URL:https://www.ayclogic.com/event/6-pm-scratch-level-1-yitong-38/
CATEGORIES:Scratch Class,Scratch Class Level 1
END:VEVENT
BEGIN:VEVENT
DTSTART;TZID=America/Los_Angeles:20220531T180000
DTEND;TZID=America/Los_Angeles:20220531T190000
DTSTAMP:20260423T202208
CREATED:20220601T070740Z
LAST-MODIFIED:20220601T070740Z
UID:13305-1654020000-1654023600@www.ayclogic.com
SUMMARY:6PM - Digital Illustration 1
DESCRIPTION:TUESDAY \nToday we finished the Katara project! We finished coloring her\, and added a little waterbending detail. \nCurrent Layers: \n\n4) Details – White eye sparkles and pink blush cheeks\n3) Lines\n2) Colors\n1) Sketch layer (turned off)\n\n \nHOMEWORK \nJust finish up and make things nice\, if you didn’t have time in class. \nThere will be real homework next time! I forgot to say it this time.. but that is ok. \nGood job so far everyone 🙂
URL:https://www.ayclogic.com/event/6pm-digital-illustration-1-5/
CATEGORIES:Beginner Digital Illustration,Digital Illustration
END:VEVENT
END:VCALENDAR