BEGIN:VCALENDAR
VERSION:2.0
PRODID:-//American Young Coder - ECPv6.10.1.1//NONSGML v1.0//EN
CALSCALE:GREGORIAN
METHOD:PUBLISH
X-ORIGINAL-URL:https://www.ayclogic.com
X-WR-CALDESC:Events for American Young Coder
REFRESH-INTERVAL;VALUE=DURATION:PT1H
X-Robots-Tag:noindex
X-PUBLISHED-TTL:PT1H
BEGIN:VTIMEZONE
TZID:America/Los_Angeles
BEGIN:DAYLIGHT
TZOFFSETFROM:-0800
TZOFFSETTO:-0700
TZNAME:PDT
DTSTART:20220313T100000
END:DAYLIGHT
BEGIN:STANDARD
TZOFFSETFROM:-0700
TZOFFSETTO:-0800
TZNAME:PST
DTSTART:20221106T090000
END:STANDARD
END:VTIMEZONE
BEGIN:VEVENT
DTSTART;TZID=America/Los_Angeles:20220602T170000
DTEND;TZID=America/Los_Angeles:20220602T180000
DTSTAMP:20260423T185337
CREATED:20220603T011249Z
LAST-MODIFIED:20220607T211943Z
UID:13330-1654189200-1654192800@www.ayclogic.com
SUMMARY:5 PM - Intro to Python - Parna
DESCRIPTION:Today We Do\n\nWe went over the difference between if and elif\nWe went over how to use +=\, -+\nWe went over how to get an input from shell\n\nHomework\n\nPage 117 . TRY IT YOURSELF: 7-1\, 7-2\nONLY number 1 on this link: https://www.ayclogic.com/tell-me-your-age/
URL:https://www.ayclogic.com/event/5-pm-intro-to-python-parna-2/
END:VEVENT
BEGIN:VEVENT
DTSTART;TZID=America/Los_Angeles:20220602T170000
DTEND;TZID=America/Los_Angeles:20220602T180000
DTSTAMP:20260423T185337
CREATED:20220603T212458Z
LAST-MODIFIED:20220603T212458Z
UID:13339-1654189200-1654192800@www.ayclogic.com
SUMMARY:5PM - Python Game Development - Latisha
DESCRIPTION:Today We Did:\n\nContinued Flappy Bird\n\nFinish Dizzy Mode\nAdd Credit Button\n\n\n\nHomework:\n\nContinue working on Final Project\nCreate the Game Over page similar to how you made landing page. It should only have the play button and credit button\, and if you change self.mode in main.py to GAME_OVER_PAGE you should the page should switch to Game Over.\n\nIf you have any questions\, please send an email to latisha@ayclogic.com
URL:https://www.ayclogic.com/event/5pm-python-game-development-latisha-18/
END:VEVENT
BEGIN:VEVENT
DTSTART;TZID=America/Los_Angeles:20220602T190000
DTEND;TZID=America/Los_Angeles:20220602T200000
DTSTAMP:20260423T185337
CREATED:20220603T030207Z
LAST-MODIFIED:20220603T030246Z
UID:13332-1654196400-1654200000@www.ayclogic.com
SUMMARY:7PM – Intro to Python – Parna
DESCRIPTION:Today We Do\n\nWent over Quiz 2 most missed questions\nIntroduced Turtle module\n\nHomework\n\nCreate rectangle function and draw rectangle according to coordinate below.\nCreate octagon function and draw octagon according to coordinate below.
URL:https://www.ayclogic.com/event/7pm-intro-to-python-parna-4/
END:VEVENT
BEGIN:VEVENT
DTSTART;TZID=America/Los_Angeles:20220602T190000
DTEND;TZID=America/Los_Angeles:20220602T200000
DTSTAMP:20260423T185337
CREATED:20220603T041311Z
LAST-MODIFIED:20220603T041311Z
UID:13336-1654196400-1654200000@www.ayclogic.com
SUMMARY:7 PM - Intro To Java - Gamas
DESCRIPTION:Today We Do\n\nWe learned how to clear the sourceTempTextField and convertedTempTextField when user select a drop down menu.\nWe learned how to deploy your application to an Android phone by generating APK file.\n\nHomework\n\nIn IntelliJ\, create a new Java project.\nDo exercises from https://docs.google.com/forms/d/1-ItfQEoc2YUTuUOUzMxdsU4OW3UPBdlGmoH49dUxQDU\nDon’t forget to submit the form.
URL:https://www.ayclogic.com/event/7-pm-intro-to-java-gamas-21/
CATEGORIES:Introduction To Java,Java
END:VEVENT
END:VCALENDAR