BEGIN:VCALENDAR
VERSION:2.0
PRODID:-//American Young Coder - ECPv6.10.1.1//NONSGML v1.0//EN
CALSCALE:GREGORIAN
METHOD:PUBLISH
X-WR-CALNAME:American Young Coder
X-ORIGINAL-URL:https://www.ayclogic.com
X-WR-CALDESC:Events for American Young Coder
REFRESH-INTERVAL;VALUE=DURATION:PT1H
X-Robots-Tag:noindex
X-PUBLISHED-TTL:PT1H
BEGIN:VTIMEZONE
TZID:America/Los_Angeles
BEGIN:DAYLIGHT
TZOFFSETFROM:-0800
TZOFFSETTO:-0700
TZNAME:PDT
DTSTART:20220313T100000
END:DAYLIGHT
BEGIN:STANDARD
TZOFFSETFROM:-0700
TZOFFSETTO:-0800
TZNAME:PST
DTSTART:20221106T090000
END:STANDARD
END:VTIMEZONE
BEGIN:VEVENT
DTSTART;TZID=America/Los_Angeles:20220603T173000
DTEND;TZID=America/Los_Angeles:20220603T183000
DTSTAMP:20260423T202208
CREATED:20220604T013525Z
LAST-MODIFIED:20220604T013525Z
UID:13347-1654277400-1654281000@www.ayclogic.com
SUMMARY:5:30 Scratch Level 2 - Alex
DESCRIPTION:Today We Did:\n\nWe started the Fireball Fighting project by making the characters move so they could shoot the fireballs.\nThe first character can now only shoot 5 fireballs at a time since we added in the number of fireballs.\n\nFor Homework:\n\nMake it so that the second character can also only shoot 5 fireballs at a time.\nAlso\, create a new variable called Lives for each of the characters.\nWhen a character is hit\, their lives should go down by 1 and the fireball should be deleted.
URL:https://www.ayclogic.com/event/530-scratch-level-2-alex/
CATEGORIES:Scratch Class,Scratch Class Level 2
END:VEVENT
BEGIN:VEVENT
DTSTART;TZID=America/Los_Angeles:20220603T180000
DTEND;TZID=America/Los_Angeles:20220603T190000
DTSTAMP:20260423T202208
CREATED:20220604T022057Z
LAST-MODIFIED:20220604T022057Z
UID:13349-1654279200-1654282800@www.ayclogic.com
SUMMARY:6 PM – Scratch Level 1 – Yitong
DESCRIPTION:Today we:\n\nStarted Ask Gobo project\nMade Gobo wait until the space bar is pressed\nMade ReplyNumber variable and set it to a random number between 1-4\nIf ReplyNumber = 1\, then Gobo will say no\nIf ReplyNumber = 2\, then Gobo will say yes\n\nHomework:\n\nAdd something for Gobo to say if ReplyNumber = 3\nAdd something for Gobo to say if ReplyNumber = 4\n\n\n\n\n\n\n\nIf you need help email me: idyllicalyssum@gmail.com
URL:https://www.ayclogic.com/event/6-pm-scratch-level-1-yitong-39/
CATEGORIES:Scratch Class,Scratch Class Level 1
END:VEVENT
BEGIN:VEVENT
DTSTART;TZID=America/Los_Angeles:20220603T190000
DTEND;TZID=America/Los_Angeles:20220603T200000
DTSTAMP:20260423T202208
CREATED:20220604T043106Z
LAST-MODIFIED:20220604T154150Z
UID:13356-1654282800-1654286400@www.ayclogic.com
SUMMARY:7 PM - Python Game Development - Latisha
DESCRIPTION:Today We Do\n\nWe reviewed project proposals\nWe displayed player sprite on the screen.\nWe reviewed Birdie project how to make the player flaps its wings.\n\nHomework\n\nContinue on the Flappy Bird project.\nMake the player sprite flaps its wings. Look at how we did it in the Birdie project.\nImprove your project proposals according to the discussion today. Answer the red highlighted points.
URL:https://www.ayclogic.com/event/7-pm-python-game-development-latisha/
CATEGORIES:Python Class,Python Game Development
END:VEVENT
END:VCALENDAR