BEGIN:VCALENDAR
VERSION:2.0
PRODID:-//American Young Coder - ECPv6.10.1.1//NONSGML v1.0//EN
CALSCALE:GREGORIAN
METHOD:PUBLISH
X-WR-CALNAME:American Young Coder
X-ORIGINAL-URL:https://www.ayclogic.com
X-WR-CALDESC:Events for American Young Coder
REFRESH-INTERVAL;VALUE=DURATION:PT1H
X-Robots-Tag:noindex
X-PUBLISHED-TTL:PT1H
BEGIN:VTIMEZONE
TZID:America/Los_Angeles
BEGIN:DAYLIGHT
TZOFFSETFROM:-0800
TZOFFSETTO:-0700
TZNAME:PDT
DTSTART:20220313T100000
END:DAYLIGHT
BEGIN:STANDARD
TZOFFSETFROM:-0700
TZOFFSETTO:-0800
TZNAME:PST
DTSTART:20221106T090000
END:STANDARD
END:VTIMEZONE
BEGIN:VEVENT
DTSTART;TZID=America/Los_Angeles:20220605T150000
DTEND;TZID=America/Los_Angeles:20220605T160000
DTSTAMP:20260423T185213
CREATED:20220606T031730Z
LAST-MODIFIED:20220606T031759Z
UID:13396-1654441200-1654444800@www.ayclogic.com
SUMMARY:3 PM - Scratch Level 1 - Allison
DESCRIPTION:Today we:\n\nAdded a Snowman sprite\nCoded the Snowflake clones to leave a stamp\nRandomized the chances the Snowflake clones would leave a stamp\nFinished the Virtual Snow project\nStarted the Spaceship project\nChanged the Snowflake sprite into the Star sprite by redesigning the costume\, deleting the stamp codes\, and making the clones fall straight down\nAdded the Rocketship sprite\n\nHomework:\n\nCode the Rocketship to move up when the player presses the up arrow key\nCode the Rocketship to move down when the player presses the down arrow key\nCode the Rocketship to move left when the player presses the left arrow key\nCode the Rocketship to move right when the player presses the right arrow key\nContact us if you have any questions or need any help
URL:https://www.ayclogic.com/event/3-pm-scratch-level-1-allison-13/
CATEGORIES:Scratch Class,Scratch Class Level 1
END:VEVENT
END:VCALENDAR