BEGIN:VCALENDAR
VERSION:2.0
PRODID:-//American Young Coder - ECPv6.10.1.1//NONSGML v1.0//EN
CALSCALE:GREGORIAN
METHOD:PUBLISH
X-ORIGINAL-URL:https://www.ayclogic.com
X-WR-CALDESC:Events for American Young Coder
REFRESH-INTERVAL;VALUE=DURATION:PT1H
X-Robots-Tag:noindex
X-PUBLISHED-TTL:PT1H
BEGIN:VTIMEZONE
TZID:America/Los_Angeles
BEGIN:DAYLIGHT
TZOFFSETFROM:-0800
TZOFFSETTO:-0700
TZNAME:PDT
DTSTART:20220313T100000
END:DAYLIGHT
BEGIN:STANDARD
TZOFFSETFROM:-0700
TZOFFSETTO:-0800
TZNAME:PST
DTSTART:20221106T090000
END:STANDARD
END:VTIMEZONE
BEGIN:VEVENT
DTSTART;TZID=America/Los_Angeles:20220614T083000
DTEND;TZID=America/Los_Angeles:20220614T093000
DTSTAMP:20260423T185401
CREATED:20220621T153202Z
LAST-MODIFIED:20220621T153202Z
UID:13685-1655195400-1655199000@www.ayclogic.com
SUMMARY:7:30 AM - Intro To Python - Gamas
DESCRIPTION:Homework\n\nContinue to finish https://www.ayclogic.com/intro-to-python-exercises/
URL:https://www.ayclogic.com/event/730-am-intro-to-python-gamas-10/
CATEGORIES:Python Class,Python Level 1
END:VEVENT
BEGIN:VEVENT
DTSTART;TZID=America/Los_Angeles:20220614T170000
DTEND;TZID=America/Los_Angeles:20220614T180000
DTSTAMP:20260423T185401
CREATED:20220616T211557Z
LAST-MODIFIED:20220616T211557Z
UID:13562-1655226000-1655229600@www.ayclogic.com
SUMMARY:5 PM – Python OOP – Bill
DESCRIPTION:Today We:\n\nContinued the SchoolApplication project\nChanged the list_all_students method to print out the students in the students list attribute of the School Application class\nAdded a new method to the student class that returns a string that describes the student\nAdded a new method: find_student\nLearned how to use user input to sort through a list\n\nYour HW:\n\nCreate a new file in your src folder called teacher_class\nIn the new file\, create a teacher class with the attributes: name\, age\, course_teaching\nInside the main file\, give the SchoolApplication class the same functionality that the students have but for the new teacher_class\nMake sure to have the following features:\n\nadd_new_teacher\nlist_all_teachers (hint: create a new attribute list to hold all the teachers)\nfind_teacher\n\n\n\n 
URL:https://www.ayclogic.com/event/5-pm-python-oop-bill-10/
END:VEVENT
BEGIN:VEVENT
DTSTART;TZID=America/Los_Angeles:20220614T180000
DTEND;TZID=America/Los_Angeles:20220614T190000
DTSTAMP:20260423T185401
CREATED:20220615T021613Z
LAST-MODIFIED:20220615T021613Z
UID:13529-1655229600-1655233200@www.ayclogic.com
SUMMARY:6 PM – Scratch Level 1 – Yitong
DESCRIPTION:Today we:\n\nWent over the Scratch Level 1 Practice Test\n\nHomework:\n\nFinish the practice test and turn it in by MONDAY NIGHT!!\n\nLook at your old projects to help yourself!
URL:https://www.ayclogic.com/event/6-pm-scratch-level-1-yitong-40/
CATEGORIES:Scratch Class,Scratch Class Level 1
END:VEVENT
BEGIN:VEVENT
DTSTART;TZID=America/Los_Angeles:20220614T180000
DTEND;TZID=America/Los_Angeles:20220614T190000
DTSTAMP:20260423T185401
CREATED:20220616T073110Z
LAST-MODIFIED:20220616T075924Z
UID:13554-1655229600-1655233200@www.ayclogic.com
SUMMARY:6PM - Digital Illustration 1
DESCRIPTION:TUESDAY \nToday we continued the Simba project. We finished the lines. \n  \nHOMEWORK \nRefine your version of Simba as best as you can.
URL:https://www.ayclogic.com/event/6pm-digital-illustration-1-7/
CATEGORIES:Beginner Digital Illustration,Digital Illustration
END:VEVENT
END:VCALENDAR