BEGIN:VCALENDAR
VERSION:2.0
PRODID:-//American Young Coder - ECPv6.10.1.1//NONSGML v1.0//EN
CALSCALE:GREGORIAN
METHOD:PUBLISH
X-WR-CALNAME:American Young Coder
X-ORIGINAL-URL:https://www.ayclogic.com
X-WR-CALDESC:Events for American Young Coder
REFRESH-INTERVAL;VALUE=DURATION:PT1H
X-Robots-Tag:noindex
X-PUBLISHED-TTL:PT1H
BEGIN:VTIMEZONE
TZID:America/Los_Angeles
BEGIN:DAYLIGHT
TZOFFSETFROM:-0800
TZOFFSETTO:-0700
TZNAME:PDT
DTSTART:20220313T100000
END:DAYLIGHT
BEGIN:STANDARD
TZOFFSETFROM:-0700
TZOFFSETTO:-0800
TZNAME:PST
DTSTART:20221106T090000
END:STANDARD
END:VTIMEZONE
BEGIN:VEVENT
DTSTART;TZID=America/Los_Angeles:20220615T170000
DTEND;TZID=America/Los_Angeles:20220615T180000
DTSTAMP:20260423T202206
CREATED:20220616T075819Z
LAST-MODIFIED:20220616T075819Z
UID:13558-1655312400-1655316000@www.ayclogic.com
SUMMARY:5PM - Digital Illustration 3
DESCRIPTION:WEDNESDAY \nToday we continued the Hand-application project. We finished up the sketch\, the lines\, and started on the color and shading. \n  \nHOMEWORK \nAdd hair! \nYou can choose to do any style and any color. Remember to leave room for hair volume\, and remember that people have hairlines that go a little down their forehead. \nUse a minimum of three layers \n\nLines\nShading\nColor
URL:https://www.ayclogic.com/event/5pm-digital-illustration-3-8/
CATEGORIES:Digital Illustration,Intermediate Digital Illustration
END:VEVENT
BEGIN:VEVENT
DTSTART;TZID=America/Los_Angeles:20220615T180000
DTEND;TZID=America/Los_Angeles:20220615T190000
DTSTAMP:20260423T202206
CREATED:20220616T021302Z
LAST-MODIFIED:20220616T021302Z
UID:13542-1655316000-1655319600@www.ayclogic.com
SUMMARY:6 PM - Intro To Python - Gamas
DESCRIPTION:Today We Do\n\nWe continued with draw_letter_p function. How to draw letter P using turtle and using 3 rectangles. We learned how to draw rectangles in different angle than 0 degree.\n\nHomework\n\nMake sure to use the x and y coordinate properly inside draw_letter_p function. This way when you call draw_letter_p three times with 3 different coordinates\, you can see 3 different letter p.\nAdd one more parameter to draw_letter_p function: color. And use it properly inside the function so you can specify different color when calling the function.\nMake progress on your turtle project. The project is due on July 13. So by next week you need to be at least 25% complete. And don’t forget to upload your project to the google drive.
URL:https://www.ayclogic.com/event/6-pm-intro-to-python-gamas-14/
CATEGORIES:Python Class,Python Level 1
END:VEVENT
BEGIN:VEVENT
DTSTART;TZID=America/Los_Angeles:20220615T190000
DTEND;TZID=America/Los_Angeles:20220615T200000
DTSTAMP:20260423T202206
CREATED:20220616T030451Z
LAST-MODIFIED:20220616T030451Z
UID:13546-1655319600-1655323200@www.ayclogic.com
SUMMARY:7 PM – Coding Olympic Training
DESCRIPTION:Homeqwork: \n\nTry to solve the problems we discussed in class by yourself and compare your result with https://drive.google.com/file/d/1FJGvc1AJaBjdn2RxuMmlN32dYULKPCxa/view?usp=sharing\nhttp://www.usaco.org/index.php?page=viewproblem2&cpid=1131
URL:https://www.ayclogic.com/event/7-pm-coding-olympic-training-18/
END:VEVENT
BEGIN:VEVENT
DTSTART;TZID=America/Los_Angeles:20220615T190000
DTEND;TZID=America/Los_Angeles:20220615T200000
DTSTAMP:20260423T202206
CREATED:20220617T231615Z
LAST-MODIFIED:20220617T232653Z
UID:13579-1655319600-1655323200@www.ayclogic.com
SUMMARY:7 PM Intro To Java - Alex
DESCRIPTION:Today We Did:\n\nToday we learned about how to utilize methods better for coding and how to do object-oriented programming.\nWe learned about how to create methods to ask the user a question and also give the user a reply for their answer.\n\nFor Homework:\n\nEdit the Magic8Ball project one more time so that it consists of 3 new methods\, run()\, getUserQuestion()\, and provideMagic8BallResponse()\nThe main method should only have two lines of code for creating the mainClass and using the run method.
URL:https://www.ayclogic.com/event/7-pm-intro-to-java-alex-6/
CATEGORIES:Introduction To Java,Java
END:VEVENT
BEGIN:VEVENT
DTSTART;TZID=America/Los_Angeles:20220615T190000
DTEND;TZID=America/Los_Angeles:20220615T200000
DTSTAMP:20260423T202206
CREATED:20220618T013602Z
LAST-MODIFIED:20220618T014234Z
UID:13590-1655319600-1655323200@www.ayclogic.com
SUMMARY:7PM - Intro to Python - Latisha
DESCRIPTION:Today we Did:\n\n\n\nWent over Fixing Python Bugs 1 AND 2\nReviewed for Quiz 2\n\n\n\nHomework:\n\n\n\nExtra Practice: https://www.ayclogic.com/intro-to-python-exercises-for-quiz-2/\nNext week is 2nd quiz\, please come 10 mins early 6:50 PM.Study and redo the following exercises for your practice:\n\n1st quiz. You should have gotten your 1st quiz result from me. Redo the 1st quiz. Try not to look at my solution unless you are stuck. If you don’t get your 1st quiz result\, call me at 626-532-7844.\nYou should study functions with return value\, functions without return value\, random module and how to fix Python errors.\nTry to redo this exercise: https://www.ayclogic.com/intro-to-python-exercises/\nTry to do this exercise: https://www.ayclogic.com/python-function-exercises/\nTry to redo this exercise: https://www.ayclogic.com/list-inputs-if-and-else-loops-and-function/\nTry to redo this exercise: https://www.ayclogic.com/intro-to-python/magic-8-ball/\n\n\n\n\n\nIf you have any questions\, please send an email to latisha@ayclogic.com
URL:https://www.ayclogic.com/event/7pm-intro-to-python-latisha/
END:VEVENT
END:VCALENDAR