BEGIN:VCALENDAR
VERSION:2.0
PRODID:-//American Young Coder - ECPv6.10.1.1//NONSGML v1.0//EN
CALSCALE:GREGORIAN
METHOD:PUBLISH
X-WR-CALNAME:American Young Coder
X-ORIGINAL-URL:https://www.ayclogic.com
X-WR-CALDESC:Events for American Young Coder
REFRESH-INTERVAL;VALUE=DURATION:PT1H
X-Robots-Tag:noindex
X-PUBLISHED-TTL:PT1H
BEGIN:VTIMEZONE
TZID:America/Los_Angeles
BEGIN:DAYLIGHT
TZOFFSETFROM:-0800
TZOFFSETTO:-0700
TZNAME:PDT
DTSTART:20220313T100000
END:DAYLIGHT
BEGIN:STANDARD
TZOFFSETFROM:-0700
TZOFFSETTO:-0800
TZNAME:PST
DTSTART:20221106T090000
END:STANDARD
END:VTIMEZONE
BEGIN:VEVENT
DTSTART;TZID=America/Los_Angeles:20220616T170000
DTEND;TZID=America/Los_Angeles:20220616T180000
DTSTAMP:20260423T202212
CREATED:20220617T010340Z
LAST-MODIFIED:20220617T010340Z
UID:13567-1655398800-1655402400@www.ayclogic.com
SUMMARY:5 PM - Python Game Development - Gamas
DESCRIPTION:Today We Do\n\nWe went over Lawrence and Devan division of work.\nWe continued with Flappy Bird project. We started with Game Credit page.\n\nHomework\n\nContinue with your final project according to the google doc.\nComplete Credit Page with the following information\nRewrite the code for displaying score and countdown to the screen to utilize draw_regular_text method. This will reduce code duplication.
URL:https://www.ayclogic.com/event/5-pm-python-game-development-gamas/
CATEGORIES:Python Class,Python Game Development
END:VEVENT
BEGIN:VEVENT
DTSTART;TZID=America/Los_Angeles:20220616T170000
DTEND;TZID=America/Los_Angeles:20220616T180000
DTSTAMP:20260423T202212
CREATED:20220617T011012Z
LAST-MODIFIED:20220617T011012Z
UID:13569-1655398800-1655402400@www.ayclogic.com
SUMMARY:5 PM – Scratch Level 1 – Allison
DESCRIPTION:Today We:\n\nReviewed homework\nContinued the Dino Dance project\nLearned about directions in Scratch\nAdded the Ballerina sprite\nCoded the Ballerina sprite to switch costumes\nAdded background music\n\nHomework:\n\nContinue the Dino Dance project\nRead and do the codes from the “Might as well jump!” section on pg. 47\nContact us at gamas@ayclogic.com or allison@ayclogic.com if you have any questions or need any help
URL:https://www.ayclogic.com/event/5-pm-scratch-level-1-allison-31/
CATEGORIES:Scratch Class,Scratch Class Level 1
END:VEVENT
BEGIN:VEVENT
DTSTART;TZID=America/Los_Angeles:20220616T173000
DTEND;TZID=America/Los_Angeles:20220616T183000
DTSTAMP:20260423T202212
CREATED:20220617T031749Z
LAST-MODIFIED:20220617T031749Z
UID:13572-1655400600-1655404200@www.ayclogic.com
SUMMARY:5:30 PM – Intro to Python – Parna
DESCRIPTION:Today We Do\n\nWe went over last week’s homework\nWe went over built-in functions for lists: append\, insert\, del\, remove\, pop\n\nHomework\n\nRead and copy code from Page 57 to 58
URL:https://www.ayclogic.com/event/530-pm-intro-to-python-parna-13/
END:VEVENT
BEGIN:VEVENT
DTSTART;TZID=America/Los_Angeles:20220616T190000
DTEND;TZID=America/Los_Angeles:20220616T200000
DTSTAMP:20260423T202212
CREATED:20220617T032240Z
LAST-MODIFIED:20220621T042356Z
UID:13574-1655406000-1655409600@www.ayclogic.com
SUMMARY:7 PM – Intro to Python – Parna
DESCRIPTION:Today We Do\n\nWe continued with Jun9_RobotBuilder.py\nWe reviewed rectangle function with x\,y\,color\, height\, width parameters.\nWe completed drawing the body\, neck\, head\, eyes\, mouth of robot\n\nHomework\n\nPrepare a sketch of your Turtle Project Proposal. Follow the details outlined on this link: https://www.ayclogic.com/intro-to-python-final-project-criteria/\nYou can see examples of Turtle Projects from the past on this link: https://www.ayclogic.com/python-digital-illustrations/\nEmail your proposal screenshot to parna@ayclogic.com. This proposal is 10% of your project grade so please spend a good work on it.
URL:https://www.ayclogic.com/event/7-pm-intro-to-python-parna-2/
END:VEVENT
BEGIN:VEVENT
DTSTART;TZID=America/Los_Angeles:20220616T190000
DTEND;TZID=America/Los_Angeles:20220616T210000
DTSTAMP:20260423T202212
CREATED:20220617T040836Z
LAST-MODIFIED:20220617T040836Z
UID:13577-1655406000-1655413200@www.ayclogic.com
SUMMARY:7 PM - Intro To Java - Gamas
DESCRIPTION:2 hours final test.
URL:https://www.ayclogic.com/event/7-pm-intro-to-java-gamas-23/
CATEGORIES:Introduction To Java,Java
END:VEVENT
END:VCALENDAR