BEGIN:VCALENDAR
VERSION:2.0
PRODID:-//American Young Coder - ECPv6.10.1.1//NONSGML v1.0//EN
CALSCALE:GREGORIAN
METHOD:PUBLISH
X-ORIGINAL-URL:https://www.ayclogic.com
X-WR-CALDESC:Events for American Young Coder
REFRESH-INTERVAL;VALUE=DURATION:PT1H
X-Robots-Tag:noindex
X-PUBLISHED-TTL:PT1H
BEGIN:VTIMEZONE
TZID:America/Los_Angeles
BEGIN:DAYLIGHT
TZOFFSETFROM:-0800
TZOFFSETTO:-0700
TZNAME:PDT
DTSTART:20220313T100000
END:DAYLIGHT
BEGIN:STANDARD
TZOFFSETFROM:-0700
TZOFFSETTO:-0800
TZNAME:PST
DTSTART:20221106T090000
END:STANDARD
END:VTIMEZONE
BEGIN:VEVENT
DTSTART;TZID=America/Los_Angeles:20220617T170000
DTEND;TZID=America/Los_Angeles:20220617T180000
DTSTAMP:20260423T185338
CREATED:20220618T011147Z
LAST-MODIFIED:20220618T011147Z
UID:13584-1655485200-1655488800@www.ayclogic.com
SUMMARY:5 PM – Scratch Level 1 – Yitong
DESCRIPTION:Today we:\n\nFinished Ask Gobo\nMade Eyes sprite\nMade Head sprite\nMade the Head sprite go to back layer\nAdded a Mouth sprite\nMade the Head start at the same spot every time the green flag is clicked\n\nHomework:\n\nMake 2 accessories for the face\n\n\n\n\nEx: hair\, hat\, etc.
URL:https://www.ayclogic.com/event/5-pm-scratch-level-1-yitong-2/
CATEGORIES:Scratch Class,Scratch Class Level 1
END:VEVENT
BEGIN:VEVENT
DTSTART;TZID=America/Los_Angeles:20220617T190000
DTEND;TZID=America/Los_Angeles:20220617T200000
DTSTAMP:20260423T185338
CREATED:20220618T030953Z
LAST-MODIFIED:20220618T030953Z
UID:13594-1655492400-1655496000@www.ayclogic.com
SUMMARY:7 PM - Python Game Development - Gamas
DESCRIPTION:Today We Do\n\nWe went over the project planning.\nWe created coins periodically after Tube is created.\n\nHomework\n\nDo more of the project planning based on what we discussed in the class.\nContinue of Flappy Bird.\n\nAdd score on the top of the screen. Start with 0.\nAdd collision detection between coin and player\, increase the score.\nIf you have question about your code\, push your code to the gitlab and email to gamas@ayclogic.com. Don’t to explain the problem in the email.
URL:https://www.ayclogic.com/event/7-pm-python-game-development-gamas/
END:VEVENT
END:VCALENDAR