BEGIN:VCALENDAR
VERSION:2.0
PRODID:-//American Young Coder - ECPv6.10.1.1//NONSGML v1.0//EN
CALSCALE:GREGORIAN
METHOD:PUBLISH
X-WR-CALNAME:American Young Coder
X-ORIGINAL-URL:https://www.ayclogic.com
X-WR-CALDESC:Events for American Young Coder
REFRESH-INTERVAL;VALUE=DURATION:PT1H
X-Robots-Tag:noindex
X-PUBLISHED-TTL:PT1H
BEGIN:VTIMEZONE
TZID:America/Los_Angeles
BEGIN:DAYLIGHT
TZOFFSETFROM:-0800
TZOFFSETTO:-0700
TZNAME:PDT
DTSTART:20220313T100000
END:DAYLIGHT
BEGIN:STANDARD
TZOFFSETFROM:-0700
TZOFFSETTO:-0800
TZNAME:PST
DTSTART:20221106T090000
END:STANDARD
END:VTIMEZONE
BEGIN:VEVENT
DTSTART;TZID=America/Los_Angeles:20220620T140000
DTEND;TZID=America/Los_Angeles:20220620T160000
DTSTAMP:20260423T185220
CREATED:20220621T034233Z
LAST-MODIFIED:20220621T204334Z
UID:13661-1655733600-1655740800@www.ayclogic.com
SUMMARY:2 PM - Intro To Python - Bill
DESCRIPTION:Today We:\n\nLearned about variables and data types\nLearned about concatenating(adding) strings and string functions(.upper()\, .lower()\, etc)\nLearned about if statements\nLearned about how to do math with variables\nLearned about getting user input\nLearned about converting between data types\n\nYour HW:\n\nCreate a new file in your HW folder called June_20_StringHomework.py\nCopy codes from pages 20-23 from the text book.\n\nRead those pages and copy the code they provide\nIn the book sometimes they put “>>>” this means\, the book is doing it in the shell.\nIf you don’t have the book yet\, you can see this temporary PDF: https://www.ayclogic.com/wp-content/uploads/2020/08/IntroToPythonP20toP23.pdf\n\n\nCreate a new file in your HW folder called June_20_IfElseHomework.py\nDo pages 79-81 from the textbook like you did from pages 20-23:\n\nIf you don’t have the book yet\, you can see this temporary PDF: https://www.ayclogic.com/wp-content/uploads/2020/08/IntroToPythonPg79to81.pdf
URL:https://www.ayclogic.com/event/2-pm-intro-to-python-bill/
END:VEVENT
BEGIN:VEVENT
DTSTART;TZID=America/Los_Angeles:20220620T170000
DTEND;TZID=America/Los_Angeles:20220620T180000
DTSTAMP:20260423T185220
CREATED:20220621T035729Z
LAST-MODIFIED:20220621T035729Z
UID:13668-1655744400-1655748000@www.ayclogic.com
SUMMARY:5 PM - Intro To Python - Bill
DESCRIPTION:Today We:\n\nReviewed the Website Practice for the first quiz\nReviewed what to study\n\nVariable Data types\nIf Statements (Review Indentation)\nfor loops (ESPECIALLY WITH RANGE)\nGetting user input\nString functions (.lower()\, .upper()\, \n\, \t\, etc.)\nIf chains (if\, elif\, else)\nlists and indexes(getting stuff from a list)\nWhile Loops (while True break kind of loop)\n\n\n\nYour HW:\n\nStudy for your first quiz next week\nSomethings you can do to study:\n\nDo last weeks homework again without looking at the answers I showed you in class\nReview your old notes (If you lost them some can be found on the google drive)
URL:https://www.ayclogic.com/event/5-pm-intro-to-python-bill-5/
END:VEVENT
BEGIN:VEVENT
DTSTART;TZID=America/Los_Angeles:20220620T180000
DTEND;TZID=America/Los_Angeles:20220620T190000
DTSTAMP:20260423T185220
CREATED:20220711T081441Z
LAST-MODIFIED:20220711T081441Z
UID:13886-1655748000-1655751600@www.ayclogic.com
SUMMARY:6PM - Digital Illustration 2
DESCRIPTION:MONDAY \nToday we finished adding all the base colors\, and started shading on the skin. \n \nNo homework.
URL:https://www.ayclogic.com/event/6pm-digital-illustration-2-6/
CATEGORIES:Digital Illustration,Intermediate Digital Illustration
END:VEVENT
BEGIN:VEVENT
DTSTART;TZID=America/Los_Angeles:20220620T190000
DTEND;TZID=America/Los_Angeles:20220620T200000
DTSTAMP:20260423T185220
CREATED:20220621T030443Z
LAST-MODIFIED:20220621T030443Z
UID:13658-1655751600-1655755200@www.ayclogic.com
SUMMARY:7 PM – Coding Olympic Training
DESCRIPTION:Homework: \nhttp://www.usaco.org/index.php?page=viewproblem2&cpid=1131 \nTry to submit your approach and make sure your solution can pass all test cases
URL:https://www.ayclogic.com/event/7-pm-coding-olympic-training-19/
END:VEVENT
END:VCALENDAR