BEGIN:VCALENDAR
VERSION:2.0
PRODID:-//American Young Coder - ECPv6.10.1.1//NONSGML v1.0//EN
CALSCALE:GREGORIAN
METHOD:PUBLISH
X-ORIGINAL-URL:https://www.ayclogic.com
X-WR-CALDESC:Events for American Young Coder
REFRESH-INTERVAL;VALUE=DURATION:PT1H
X-Robots-Tag:noindex
X-PUBLISHED-TTL:PT1H
BEGIN:VTIMEZONE
TZID:America/Los_Angeles
BEGIN:DAYLIGHT
TZOFFSETFROM:-0800
TZOFFSETTO:-0700
TZNAME:PDT
DTSTART:20220313T100000
END:DAYLIGHT
BEGIN:STANDARD
TZOFFSETFROM:-0700
TZOFFSETTO:-0800
TZNAME:PST
DTSTART:20221106T090000
END:STANDARD
END:VTIMEZONE
BEGIN:VEVENT
DTSTART;TZID=America/Los_Angeles:20220622T140000
DTEND;TZID=America/Los_Angeles:20220622T160000
DTSTAMP:20260423T202331
CREATED:20220623T034921Z
LAST-MODIFIED:20220623T034921Z
UID:13714-1655906400-1655913600@www.ayclogic.com
SUMMARY:2 PM - Intro To Python - Bill
DESCRIPTION:Today We:\n\nReviewed the HW\nReviewed If chains\nReviewed User Input\nDid the Tell Me Your Age project\nPracticed getting user input and checking it with if chains\nLearned about the list data type\nLearned about list functions\nLearned how to get individual data from a list of mutliple data\nLearned about the len() function\n\nYour HW:\n\nCreate a new file called “June_22_ListHomework”\nDo Pages 34 to 41\n\nMake sure to do the TRY IT YOURSELF on page 36
URL:https://www.ayclogic.com/event/2-pm-intro-to-python-bill-3/
END:VEVENT
BEGIN:VEVENT
DTSTART;TZID=America/Los_Angeles:20220622T170000
DTEND;TZID=America/Los_Angeles:20220622T180000
DTSTAMP:20260423T202331
CREATED:20220711T082336Z
LAST-MODIFIED:20220711T082336Z
UID:13894-1655917200-1655920800@www.ayclogic.com
SUMMARY:5PM - Digital Illustration 3
DESCRIPTION:WEDNESDAY \nToday we finished the [Hands on her face] project by adding shading\, and also adding a shirt on the figure. \n \nWe also started a new lesson/project about how to draw a room with [one-point-perspective]. The first step is to add the guiding lines in the first layer (the light blue lines)\, and then we will sketch on the room and furniture in the next layer. \n \n  \nHOMEWORK \nMake sure you are caught up in class. \n\nAdd shading and details to your character’s hair if you haven’t done it yet\nMatch your room drawing the example above from class\n\n(if you are all the way caught up there is no additional homework)
URL:https://www.ayclogic.com/event/5pm-digital-illustration-3-9/
CATEGORIES:Digital Illustration,Intermediate Digital Illustration
END:VEVENT
BEGIN:VEVENT
DTSTART;TZID=America/Los_Angeles:20220622T180000
DTEND;TZID=America/Los_Angeles:20220622T190000
DTSTAMP:20260423T202331
CREATED:20220623T021132Z
LAST-MODIFIED:20220623T021347Z
UID:13695-1655920800-1655924400@www.ayclogic.com
SUMMARY:6 PM - Intro To Python - Gamas
DESCRIPTION:Today We Do\n\nWe made draw_face(x\,y) function so it can draw face in Python turtle module.\n\nHomework\n\nContinue on your Turtle project. Don’t forget to upload your project to the google drive.\nThe draw_face(x\,y) function which we did in the class was not complete. It is missing the right side of the mouth. Please add the code so it will draw the right side of the mouth. When you call the draw_face(x\,y) twice\, one with (0\,0) and another with (100\,100) coordinates\, it needs to draw 2 faces like below
URL:https://www.ayclogic.com/event/6-pm-intro-to-python-gamas-15/
CATEGORIES:Python Class,Python Level 1
END:VEVENT
BEGIN:VEVENT
DTSTART;TZID=America/Los_Angeles:20220622T190000
DTEND;TZID=America/Los_Angeles:20220622T200000
DTSTAMP:20260423T202331
CREATED:20220623T025509Z
LAST-MODIFIED:20220623T025509Z
UID:13700-1655924400-1655928000@www.ayclogic.com
SUMMARY:7 PM Intro To Java - Alex
DESCRIPTION:Today We Did:\n\nWe started with the School System project.\nWe were able to figure out how to add a student in.\nLearned about how to create a constructor and that we can store multiple attributes into these objects.\n\nFor Homework:\n\nCreate a new method that is called createStudent() and this method should basically have all the code that we have already finished.\nAlso\, create another else if for when the user types in “2”\, and it should run a method called createTeacher() which should do the same thing as createStudent().\nIt should do the same thing\, but also ask the user what subject the teacher teaches.
URL:https://www.ayclogic.com/event/7-pm-intro-to-java-alex-7/
CATEGORIES:Introduction To Java,Java
END:VEVENT
BEGIN:VEVENT
DTSTART;TZID=America/Los_Angeles:20220622T190000
DTEND;TZID=America/Los_Angeles:20220622T200000
DTSTAMP:20260423T202331
CREATED:20220623T030447Z
LAST-MODIFIED:20220623T030447Z
UID:13704-1655924400-1655928000@www.ayclogic.com
SUMMARY:7 PM – Coding Olympic Training
DESCRIPTION:Homework: \n\nFinish http://www.usaco.org/index.php?page=viewproblem2&cpid=1132 and submit your solutions\nUnderstand and try to solve http://www.usaco.org/index.php?page=viewproblem2&cpid=1133
URL:https://www.ayclogic.com/event/7-pm-coding-olympic-training-20/
END:VEVENT
BEGIN:VEVENT
DTSTART;TZID=America/Los_Angeles:20220622T190000
DTEND;TZID=America/Los_Angeles:20220622T200000
DTSTAMP:20260423T202331
CREATED:20220627T155631Z
LAST-MODIFIED:20220627T155631Z
UID:13784-1655924400-1655928000@www.ayclogic.com
SUMMARY:7PM - Intro to Python - Latisha
DESCRIPTION:Today We Did:\n\nTook 2nd Quiz\n\nHomework:\n\nNone\n\nIf you have any questions\, please send an email to latisha@ayclogic.com
URL:https://www.ayclogic.com/event/7pm-intro-to-python-latisha-2/
END:VEVENT
END:VCALENDAR