BEGIN:VCALENDAR
VERSION:2.0
PRODID:-//American Young Coder - ECPv6.10.1.1//NONSGML v1.0//EN
CALSCALE:GREGORIAN
METHOD:PUBLISH
X-ORIGINAL-URL:https://www.ayclogic.com
X-WR-CALDESC:Events for American Young Coder
REFRESH-INTERVAL;VALUE=DURATION:PT1H
X-Robots-Tag:noindex
X-PUBLISHED-TTL:PT1H
BEGIN:VTIMEZONE
TZID:America/Los_Angeles
BEGIN:DAYLIGHT
TZOFFSETFROM:-0800
TZOFFSETTO:-0700
TZNAME:PDT
DTSTART:20220313T100000
END:DAYLIGHT
BEGIN:STANDARD
TZOFFSETFROM:-0700
TZOFFSETTO:-0800
TZNAME:PST
DTSTART:20221106T090000
END:STANDARD
END:VTIMEZONE
BEGIN:VEVENT
DTSTART;TZID=America/Los_Angeles:20220624T100000
DTEND;TZID=America/Los_Angeles:20220624T230000
DTSTAMP:20260423T185401
CREATED:20220624T053137Z
LAST-MODIFIED:20220624T203018Z
UID:13739-1656064800-1656111600@www.ayclogic.com
SUMMARY:10 AM - Digital Illustration 1 - Abigail
DESCRIPTION:What we did today\n\nWe started working on the cat drawing.\nWe used circles and shapes to sketch our cat.\nWe used our sketch to draw the outline of the cat.\n\nHomework\n\nTry to draw this cat using the techniques we learned today. (DON’T COLOR\, only outline like we did in class.)\n\n 
URL:https://www.ayclogic.com/event/10-am-digital-illustration-1-abigail/
CATEGORIES:Beginner Digital Illustration,Digital Illustration
END:VEVENT
BEGIN:VEVENT
DTSTART;TZID=America/Los_Angeles:20220624T170000
DTEND;TZID=America/Los_Angeles:20220624T180000
DTSTAMP:20260423T185401
CREATED:20220625T010740Z
LAST-MODIFIED:20220625T010740Z
UID:13752-1656090000-1656093600@www.ayclogic.com
SUMMARY:5 PM – Scratch Level 1 – Yitong
DESCRIPTION:Today we:\n\nWent over coordinates\nTalked about “Go to x y”\nMade a Nose sprite\nAdded a runny nose animation to the Nose sprite\nAdded different effects to other accessories\n\nHomework:\n\nAdd more effects to what your character is wearing!\n\n\n\n\nEx: you can make the accessories glow\, change colors\, spin\, etc.\nIf you don’t remember how to do something you can look at your Name Animation project!
URL:https://www.ayclogic.com/event/5-pm-scratch-level-1-yitong-3/
CATEGORIES:Scratch Class,Scratch Class Level 1
END:VEVENT
BEGIN:VEVENT
DTSTART;TZID=America/Los_Angeles:20220624T173000
DTEND;TZID=America/Los_Angeles:20220624T183000
DTSTAMP:20260423T185401
CREATED:20220625T012531Z
LAST-MODIFIED:20220625T012531Z
UID:13754-1656091800-1656095400@www.ayclogic.com
SUMMARY:5:30 PM - Scratch Level 2 - Alex
DESCRIPTION:Today We Did:\n\nToday we reviewed how to move a sprite around.\nWe also practiced creating clones and how to delete things on the edges of the screen without using if touching the edge.\nWe also reviewed “AND” and “OR”.\n\nFor Homework:\n\nTake the practice test I sent you in your email before the next class.\nIf you guys didn’t get the practice test here is the link to it: test
URL:https://www.ayclogic.com/event/530-pm-scratch-level-2-alex-4/
CATEGORIES:Scratch Class,Scratch Class Level 2
END:VEVENT
END:VCALENDAR