BEGIN:VCALENDAR
VERSION:2.0
PRODID:-//American Young Coder - ECPv6.10.1.1//NONSGML v1.0//EN
CALSCALE:GREGORIAN
METHOD:PUBLISH
X-ORIGINAL-URL:https://www.ayclogic.com
X-WR-CALDESC:Events for American Young Coder
REFRESH-INTERVAL;VALUE=DURATION:PT1H
X-Robots-Tag:noindex
X-PUBLISHED-TTL:PT1H
BEGIN:VTIMEZONE
TZID:America/Los_Angeles
BEGIN:DAYLIGHT
TZOFFSETFROM:-0800
TZOFFSETTO:-0700
TZNAME:PDT
DTSTART:20220313T100000
END:DAYLIGHT
BEGIN:STANDARD
TZOFFSETFROM:-0700
TZOFFSETTO:-0800
TZNAME:PST
DTSTART:20221106T090000
END:STANDARD
END:VTIMEZONE
BEGIN:VEVENT
DTSTART;TZID=America/Los_Angeles:20220629T140000
DTEND;TZID=America/Los_Angeles:20220629T160000
DTSTAMP:20260423T184930
CREATED:20220701T005250Z
LAST-MODIFIED:20220701T005250Z
UID:13815-1656511200-1656518400@www.ayclogic.com
SUMMARY:2 PM - Intro To Python - Bill
DESCRIPTION:Today We:\n\nReviewed the HW\nLearned about while loops\n\nYour HW:\n\nCreate a new file called “June_29_WhileLoopHW”\nDo Pages 119 to 121\, and page 123\nMake sure to do the TRY IT YOURSELF: 7-5
URL:https://www.ayclogic.com/event/2-pm-intro-to-python-bill-5/
END:VEVENT
BEGIN:VEVENT
DTSTART;TZID=America/Los_Angeles:20220629T190000
DTEND;TZID=America/Los_Angeles:20220629T200000
DTSTAMP:20260423T184930
CREATED:20220630T171104Z
LAST-MODIFIED:20220630T171147Z
UID:13812-1656529200-1656532800@www.ayclogic.com
SUMMARY:7PM - Intro to Python - Latisha
DESCRIPTION:Today We Did:\n\nReviewed 2nd Quiz Answers\nLearned basic turtle\n\nHomework:\n\nCreate a new file “June29_Turtle4ShapesHomework.py”\nCreate a new function “draw_rectangle”. One parameter: color. Inside the function\, draw a rectangle shape using turtle module. Call the function and pass any color to the function.\nCreate a new function “draw_square”. One parameter: color. Inside the function\, draw a square shape using turtle module. Call the function and pass any color to the function.\nCreate a new function “draw_octagon”. One parameter: color. Inside the function\, draw a octagon shape using turtle module. Call the function and pass any color to the function.\nCreate a new function “draw_triangle”. One parameter: color. Inside the function\, draw a triangle shape using turtle module. Call the function and pass any color to the function.\nLook at this image for your coordinate https://www.ayclogic.com/project-resources/\n\nNOTE: There is no class next week for the 4th of July holiday! \nIf you have any questions\, please send an email to latisha@ayclogic.com
URL:https://www.ayclogic.com/event/7pm-intro-to-python-latisha-3/
END:VEVENT
END:VCALENDAR