BEGIN:VCALENDAR
VERSION:2.0
PRODID:-//American Young Coder - ECPv6.10.1.1//NONSGML v1.0//EN
CALSCALE:GREGORIAN
METHOD:PUBLISH
X-WR-CALNAME:American Young Coder
X-ORIGINAL-URL:https://www.ayclogic.com
X-WR-CALDESC:Events for American Young Coder
REFRESH-INTERVAL;VALUE=DURATION:PT1H
X-Robots-Tag:noindex
X-PUBLISHED-TTL:PT1H
BEGIN:VTIMEZONE
TZID:America/Los_Angeles
BEGIN:DAYLIGHT
TZOFFSETFROM:-0800
TZOFFSETTO:-0700
TZNAME:PDT
DTSTART:20220313T100000
END:DAYLIGHT
BEGIN:STANDARD
TZOFFSETFROM:-0700
TZOFFSETTO:-0800
TZNAME:PST
DTSTART:20221106T090000
END:STANDARD
END:VTIMEZONE
BEGIN:VEVENT
DTSTART;TZID=America/Los_Angeles:20220701T170000
DTEND;TZID=America/Los_Angeles:20220701T180000
DTSTAMP:20260423T172450
CREATED:20220702T011922Z
LAST-MODIFIED:20220702T030255Z
UID:13825-1656694800-1656698400@www.ayclogic.com
SUMMARY:5 PM – Scratch Level 1 – Yitong
DESCRIPTION:Today we:\n\nLearned about the X-axis and Y-axis\nLearned about coordinates\nLearned how to find the X and Y coordinates\n\nHomework:\n\nFind the coordinates for all the corners of the octagon (the last shape)\n\nNO CLASS NEXT WEEK!!! 
URL:https://www.ayclogic.com/event/5-pm-scratch-level-1-yitong-4/
CATEGORIES:Scratch Class,Scratch Class Level 1
END:VEVENT
END:VCALENDAR