BEGIN:VCALENDAR
VERSION:2.0
PRODID:-//American Young Coder - ECPv6.10.1.1//NONSGML v1.0//EN
CALSCALE:GREGORIAN
METHOD:PUBLISH
X-WR-CALNAME:American Young Coder
X-ORIGINAL-URL:https://www.ayclogic.com
X-WR-CALDESC:Events for American Young Coder
REFRESH-INTERVAL;VALUE=DURATION:PT1H
X-Robots-Tag:noindex
X-PUBLISHED-TTL:PT1H
BEGIN:VTIMEZONE
TZID:America/Los_Angeles
BEGIN:DAYLIGHT
TZOFFSETFROM:-0800
TZOFFSETTO:-0700
TZNAME:PDT
DTSTART:20220313T100000
END:DAYLIGHT
BEGIN:STANDARD
TZOFFSETFROM:-0700
TZOFFSETTO:-0800
TZNAME:PST
DTSTART:20221106T090000
END:STANDARD
END:VTIMEZONE
BEGIN:VEVENT
DTSTART;TZID=America/Los_Angeles:20220706T140000
DTEND;TZID=America/Los_Angeles:20220706T160000
DTSTAMP:20260423T172432
CREATED:20220710T011930Z
LAST-MODIFIED:20220710T011930Z
UID:13879-1657116000-1657123200@www.ayclogic.com
SUMMARY:2 PM - Intro To Python - Bill
DESCRIPTION:Today We:\n\nReviewed the HW\nLearned about basic functions\nLearned about what functions are used for\nLearned how to create our own functions\nLearned about calling functions\nLearned about parameters\nLearned how to use Parameters\nLearned about functions with return values\n\nYour HW:\n\nCreate a new file called “July_6_FunctionHW”\nDo pages 130\, 131 (TRY IT YOURSELF)\, 138\, and 139\nDo numbers 4 to 7 from this link: https://www.ayclogic.com/list-inputs-if-and-else-loops-and-function/
URL:https://www.ayclogic.com/event/2-pm-intro-to-python-bill-6/
END:VEVENT
END:VCALENDAR