BEGIN:VCALENDAR
VERSION:2.0
PRODID:-//American Young Coder - ECPv6.10.1.1//NONSGML v1.0//EN
CALSCALE:GREGORIAN
METHOD:PUBLISH
X-ORIGINAL-URL:https://www.ayclogic.com
X-WR-CALDESC:Events for American Young Coder
REFRESH-INTERVAL;VALUE=DURATION:PT1H
X-Robots-Tag:noindex
X-PUBLISHED-TTL:PT1H
BEGIN:VTIMEZONE
TZID:America/Los_Angeles
BEGIN:DAYLIGHT
TZOFFSETFROM:-0800
TZOFFSETTO:-0700
TZNAME:PDT
DTSTART:20220313T100000
END:DAYLIGHT
BEGIN:STANDARD
TZOFFSETFROM:-0700
TZOFFSETTO:-0800
TZNAME:PST
DTSTART:20221106T090000
END:STANDARD
END:VTIMEZONE
BEGIN:VEVENT
DTSTART;TZID=America/Los_Angeles:20220712T080000
DTEND;TZID=America/Los_Angeles:20220712T170000
DTSTAMP:20260423T173335
CREATED:20220713T031433Z
LAST-MODIFIED:20220713T031433Z
UID:13913-1657612800-1657645200@www.ayclogic.com
SUMMARY:7 PM - 3D Animation Beginner
DESCRIPTION:Week – 03 3D Animation Beginner\nToday we do:\nHow to use maya: \n\nHow to polish bouncing ball\nHow to ease in and out the bouncing ball use graph editor\nHow to playblast your homework\nHow to upload your homework\n\nHomework:\nPolish your bouncing balls \n\nMake sure you have a nice arch on Translatetion Y on the graph editor.\nHave your bouncing balls move forward and slowly stops (ease in on Translatetion Z)\nAdd rotation to bouncing ball and slowly stop the rotation (ease in on Rotate X)
URL:https://www.ayclogic.com/event/7-pm-3d-animation-beginner/
END:VEVENT
BEGIN:VEVENT
DTSTART;TZID=America/Los_Angeles:20220712T170000
DTEND;TZID=America/Los_Angeles:20220712T180000
DTSTAMP:20260423T173335
CREATED:20220713T050619Z
LAST-MODIFIED:20220713T050619Z
UID:13916-1657645200-1657648800@www.ayclogic.com
SUMMARY:5 PM - Python OOP - Bill Han
DESCRIPTION:Gamas Chang substitute Bill. \nToday We Do\n\nWe reviewed homeworks.\nWe added find book by id.\nWe added a new dictionary\, books_by_name\, to store books whose key is its title/name.\nWe added find book by title/name.\n\nHomework\n\nMake find book by title/name case insensitive. To do this\, you have to make sure to lowercase the books_by_name key when adding new book. AND you also need to make sure to lowercase user entered book title/name when checking if a book exists in the dictionary. AND when retrieving a book from dictionary.\nAdd “6. List all books before year 2010” feature. To do this\, you have to use for loop to go through each element inside the list similar to “3. List all books”. But inside the for loop you need to use if statement to check if book.year is less than 2010.\nAll the BookSystem python files have been uploaded into google drive.
URL:https://www.ayclogic.com/event/5-pm-python-oop-bill-han/
CATEGORIES:OOP Python,Python Class
END:VEVENT
BEGIN:VEVENT
DTSTART;TZID=America/Los_Angeles:20220712T173000
DTEND;TZID=America/Los_Angeles:20220712T183000
DTSTAMP:20260423T173335
CREATED:20220713T013012Z
LAST-MODIFIED:20220713T013012Z
UID:13911-1657647000-1657650600@www.ayclogic.com
SUMMARY:5:30 PM - Intro to Python - Parna
DESCRIPTION:Today We Do\n\nWe went the homework from last week\nWe went over functions with return values\n\nHomework\n\npgs. 138\, 139
URL:https://www.ayclogic.com/event/530-pm-intro-to-python-parna-18/
END:VEVENT
BEGIN:VEVENT
DTSTART;TZID=America/Los_Angeles:20220712T180000
DTEND;TZID=America/Los_Angeles:20220712T190000
DTSTAMP:20260423T173335
CREATED:20220715T211227Z
LAST-MODIFIED:20220715T211227Z
UID:13945-1657648800-1657652400@www.ayclogic.com
SUMMARY:6 PM – Scratch Level 1 – Yitong
DESCRIPTION:Today we:\n\nTook the Scratch Level 1 test\n\nHomework:\nNo homework!
URL:https://www.ayclogic.com/event/6-pm-scratch-level-1-yitong-43/
CATEGORIES:Scratch Class,Scratch Class Level 1
END:VEVENT
BEGIN:VEVENT
DTSTART;TZID=America/Los_Angeles:20220712T180000
DTEND;TZID=America/Los_Angeles:20220712T190000
DTSTAMP:20260423T173335
CREATED:20220718T064810Z
LAST-MODIFIED:20220718T064810Z
UID:13984-1657648800-1657652400@www.ayclogic.com
SUMMARY:6PM - Digital Illustration 1
DESCRIPTION:TUESDAY \n \nToday we continued the Simba project and added all the shading on his body. \nLayers so far: \n\nLayer 4 – Lines\nLayer 3 – Shading colors (clipped down)\nLayer 2 – Flat Color\nLayer 1 – Sketch (turned off)\n\n  \nHOMEWORK \nmake sure your layers are correct and that all the shading and coloring is caught up to the example in the image above.
URL:https://www.ayclogic.com/event/6pm-digital-illustration-1-9/
CATEGORIES:Beginner Digital Illustration,Digital Illustration
END:VEVENT
END:VCALENDAR