BEGIN:VCALENDAR
VERSION:2.0
PRODID:-//American Young Coder - ECPv6.10.1.1//NONSGML v1.0//EN
CALSCALE:GREGORIAN
METHOD:PUBLISH
X-WR-CALNAME:American Young Coder
X-ORIGINAL-URL:https://www.ayclogic.com
X-WR-CALDESC:Events for American Young Coder
REFRESH-INTERVAL;VALUE=DURATION:PT1H
X-Robots-Tag:noindex
X-PUBLISHED-TTL:PT1H
BEGIN:VTIMEZONE
TZID:America/Los_Angeles
BEGIN:DAYLIGHT
TZOFFSETFROM:-0800
TZOFFSETTO:-0700
TZNAME:PDT
DTSTART:20220313T100000
END:DAYLIGHT
BEGIN:STANDARD
TZOFFSETFROM:-0700
TZOFFSETTO:-0800
TZNAME:PST
DTSTART:20221106T090000
END:STANDARD
END:VTIMEZONE
BEGIN:VEVENT
DTSTART;TZID=America/Los_Angeles:20220713T140000
DTEND;TZID=America/Los_Angeles:20220713T160000
DTSTAMP:20260423T172539
CREATED:20220715T200441Z
LAST-MODIFIED:20220715T200441Z
UID:13941-1657720800-1657728000@www.ayclogic.com
SUMMARY:2 PM - Intro To Python - Bill
DESCRIPTION:Today We:\n\nContinued to work on the Hang Man project\nLearned about the “in” boolean operator\nCreated a hint system to show how many letters the user has guessed\nCreated an update hint function\nAdded a win message and a lose message\nFinished the Hang Man project\nLearned about how to fix errors\n\nYour HW:\n\nGo to this website link: https://www.ayclogic.com/fixing-python-bugs/\nCopy and paste the First Code box into your Thonny\nFix all the errors in the code and the expected result is in the second box on the link
URL:https://www.ayclogic.com/event/2-pm-intro-to-python-bill-8/
END:VEVENT
BEGIN:VEVENT
DTSTART;TZID=America/Los_Angeles:20220713T170000
DTEND;TZID=America/Los_Angeles:20220713T180000
DTSTAMP:20260423T172539
CREATED:20220718T063903Z
LAST-MODIFIED:20220718T063903Z
UID:13977-1657731600-1657735200@www.ayclogic.com
SUMMARY:5PM - Digital Illustration 3
DESCRIPTION:WEDNESDAY \n \nToday we reviewed all the student’s progress in sketching a room in “one-point-perspective”. Since most projects had many problems\, we took the time to slowly go over each important line when drawing a room in “one-point-perspective” and what makes it work. \nWe use three types of lines: \n\nHorizontal lines\nVertical lines\nToward the point lines\n\nHOMEWORK \nPlease review your own project and review the teacher’s image above. \nMake sure each type of line are in the correct places. If you have questions\, prepare them and ask in class for anything that is unclear.
URL:https://www.ayclogic.com/event/5pm-digital-illustration-3-10/
CATEGORIES:Digital Illustration,Intermediate Digital Illustration
END:VEVENT
BEGIN:VEVENT
DTSTART;TZID=America/Los_Angeles:20220713T180000
DTEND;TZID=America/Los_Angeles:20220713T190000
DTSTAMP:20260423T172539
CREATED:20220714T034025Z
LAST-MODIFIED:20220714T034025Z
UID:13923-1657735200-1657738800@www.ayclogic.com
SUMMARY:6 PM - Intro To Python - Gamas
DESCRIPTION:Today We Do\n\nWe reviewed everyone Turtle Project.\nWe answered students questions about their projects.\nWe learned how to draw letter P in different colors forever.\n\nHomework\n\nThe Turtle project is supposed to be due today. But it is extended to next week July 20. Make sure your code follow this project criteria: https://www.ayclogic.com/intro-to-python-final-project-criteria/\nIf you have question about your project\, please send email to gamas@ayclogic.com and attach your code or upload your code to google drive. Don’t wait until the last minute to ask question as I usually need at least 24 hours to response to your email.
URL:https://www.ayclogic.com/event/6-pm-intro-to-python-gamas-16/
CATEGORIES:Python Class,Python Level 1
END:VEVENT
BEGIN:VEVENT
DTSTART;TZID=America/Los_Angeles:20220713T190000
DTEND;TZID=America/Los_Angeles:20220713T200000
DTSTAMP:20260423T172539
CREATED:20220715T051433Z
LAST-MODIFIED:20220715T051433Z
UID:13936-1657738800-1657742400@www.ayclogic.com
SUMMARY:7PM - Intro to Python - Latisha
DESCRIPTION:Today We Do\n\nCreated the function Rectangle\n\nHomework\n\nDraw the head\, face\, and the neck of the robot in the file that we worked on today\, July13_RobotBuilder.py\n\n \nIf you have any questions\, please send an email to latisha@ayclogic.com
URL:https://www.ayclogic.com/event/7pm-intro-to-python-latisha-4/
END:VEVENT
BEGIN:VEVENT
DTSTART;TZID=America/Los_Angeles:20220713T190000
DTEND;TZID=America/Los_Angeles:20220713T200000
DTSTAMP:20260423T172539
CREATED:20220721T000134Z
LAST-MODIFIED:20220721T000134Z
UID:14000-1657738800-1657742400@www.ayclogic.com
SUMMARY:7 PM Intro To Java - Alex
DESCRIPTION:Today We Did:\n\nWe continued with the School System project\, adding in the find student and edit teacher.\nWe made it so that the find student would return a student for us so that we could use it multiple times.\n\nFor Homework:\n\nEdit the findTeacher code so that it is similar to the findStudent code in which it will return a teacher rather than just print out the information.\nAlso create the editTeacher using the findTeacher code so that it is shorter than it would normally be.
URL:https://www.ayclogic.com/event/7-pm-intro-to-java-alex-8/
CATEGORIES:Introduction To Java,Java
END:VEVENT
END:VCALENDAR