BEGIN:VCALENDAR
VERSION:2.0
PRODID:-//American Young Coder - ECPv6.10.1.1//NONSGML v1.0//EN
CALSCALE:GREGORIAN
METHOD:PUBLISH
X-WR-CALNAME:American Young Coder
X-ORIGINAL-URL:https://www.ayclogic.com
X-WR-CALDESC:Events for American Young Coder
REFRESH-INTERVAL;VALUE=DURATION:PT1H
X-Robots-Tag:noindex
X-PUBLISHED-TTL:PT1H
BEGIN:VTIMEZONE
TZID:America/Los_Angeles
BEGIN:DAYLIGHT
TZOFFSETFROM:-0800
TZOFFSETTO:-0700
TZNAME:PDT
DTSTART:20220313T100000
END:DAYLIGHT
BEGIN:STANDARD
TZOFFSETFROM:-0700
TZOFFSETTO:-0800
TZNAME:PST
DTSTART:20221106T090000
END:STANDARD
END:VTIMEZONE
BEGIN:VEVENT
DTSTART;TZID=America/Los_Angeles:20220714T050000
DTEND;TZID=America/Los_Angeles:20220714T180000
DTSTAMP:20260423T185242
CREATED:20220715T012552Z
LAST-MODIFIED:20220715T012552Z
UID:13927-1657774800-1657821600@www.ayclogic.com
SUMMARY:5 PM - Scratch 1 - Allison
DESCRIPTION:What we did today\n\nWe started working on the Funny Faces Project.\nWe made a head sprite\, eyes sprite\, mouth sprite\, and nose sprite (+costumes).\nWe set coordinates for the head sprite.\n\nHomework\n\nMove your sprites around to your desired place\, then set the coordinates for the rest of the sprites. (Use the head sprite as reference).
URL:https://www.ayclogic.com/event/5-pm-scratch-1-allison-2/
CATEGORIES:Scratch Class,Scratch Class Level 1
END:VEVENT
BEGIN:VEVENT
DTSTART;TZID=America/Los_Angeles:20220714T170000
DTEND;TZID=America/Los_Angeles:20220714T180000
DTSTAMP:20260423T185242
CREATED:20220721T225830Z
LAST-MODIFIED:20220721T225830Z
UID:14015-1657818000-1657821600@www.ayclogic.com
SUMMARY:THU - 5 PM - Python Game Development - Gamas
DESCRIPTION:Today We Do\n\nWe reviewed each individual game project.\nWe continued with Shoot Balloon project.\n\nHomework\n\nFinish your game project\, they are due next week 07/21
URL:https://www.ayclogic.com/event/thu-5-pm-python-game-development-gamas/
CATEGORIES:Python Class,Python Game Development
END:VEVENT
BEGIN:VEVENT
DTSTART;TZID=America/Los_Angeles:20220714T173000
DTEND;TZID=America/Los_Angeles:20220714T183000
DTSTAMP:20260423T185242
CREATED:20220715T013136Z
LAST-MODIFIED:20220715T013136Z
UID:13929-1657819800-1657823400@www.ayclogic.com
SUMMARY:5:30 PM - Intro to Python - Parna
DESCRIPTION:Today We Do\n\nWe reviewed last weeks homework.\nStarted reviewing for quiz.\n\nHomework\n\nPage 123-124 TRY IT YOURSELF 7-4\, 7-5\, 7-6\, 7-7\nComplete these exercises (CLICK ON LINK): https://www.ayclogic.com/intro-to-python-exercises/
URL:https://www.ayclogic.com/event/530-pm-intro-to-python-parna-19/
END:VEVENT
BEGIN:VEVENT
DTSTART;TZID=America/Los_Angeles:20220714T190000
DTEND;TZID=America/Los_Angeles:20220714T200000
DTSTAMP:20260423T185242
CREATED:20220717T225658Z
LAST-MODIFIED:20220717T225806Z
UID:13975-1657825200-1657828800@www.ayclogic.com
SUMMARY:7:00 PM - Intro to Python - Parna
DESCRIPTION:Today We Do\n\nGave Feedback on Turtle project progress\nWe went over how to draw the letter A using Turtle\nWe went over how to code the kaleidospiral using Turtle\n\nHomework\n\nMake some progress on your turtle project. Your project is due on July 21st.
URL:https://www.ayclogic.com/event/700-pm-intro-to-python-parna-4/
END:VEVENT
BEGIN:VEVENT
DTSTART;TZID=America/Los_Angeles:20220714T200000
DTEND;TZID=America/Los_Angeles:20220714T210000
DTSTAMP:20260423T185242
CREATED:20220715T041232Z
LAST-MODIFIED:20220715T041232Z
UID:13932-1657828800-1657832400@www.ayclogic.com
SUMMARY:8 PM - Digital Illustration - Abigail
DESCRIPTION:What we did today\n\nWe started working on the Snowman drawing.\nWe sketched out the snowman.\nWe outlined the snowman to make our line art.\nWe colored the snowman using base colors.\n\nHomework\n\nChoose 2 colors (one lighter and one darker) to color the hat and the scarf.\nExample in light pink & dark pink.
URL:https://www.ayclogic.com/event/8-pm-digital-illustration-abigail-2/
CATEGORIES:Beginner Digital Illustration,Digital Illustration
END:VEVENT
END:VCALENDAR