BEGIN:VCALENDAR
VERSION:2.0
PRODID:-//American Young Coder - ECPv6.10.1.1//NONSGML v1.0//EN
CALSCALE:GREGORIAN
METHOD:PUBLISH
X-WR-CALNAME:American Young Coder
X-ORIGINAL-URL:https://www.ayclogic.com
X-WR-CALDESC:Events for American Young Coder
REFRESH-INTERVAL;VALUE=DURATION:PT1H
X-Robots-Tag:noindex
X-PUBLISHED-TTL:PT1H
BEGIN:VTIMEZONE
TZID:America/Los_Angeles
BEGIN:DAYLIGHT
TZOFFSETFROM:-0800
TZOFFSETTO:-0700
TZNAME:PDT
DTSTART:20220313T100000
END:DAYLIGHT
BEGIN:STANDARD
TZOFFSETFROM:-0700
TZOFFSETTO:-0800
TZNAME:PST
DTSTART:20221106T090000
END:STANDARD
END:VTIMEZONE
BEGIN:VEVENT
DTSTART;TZID=America/Los_Angeles:20220715T170000
DTEND;TZID=America/Los_Angeles:20220715T180000
DTSTAMP:20260423T173310
CREATED:20220716T010551Z
LAST-MODIFIED:20220716T010551Z
UID:13948-1657904400-1657908000@www.ayclogic.com
SUMMARY:5 PM – Scratch Level 1 – Yitong
DESCRIPTION:Today we:\n\nLearned how to use the Pen extension\nMade the Cat sprite draw a square\nMade the Cat sprite draw a triangle\n\nHomework:\n\nMake the Cat sprite draw the rectangle and the octagon
URL:https://www.ayclogic.com/event/5-pm-scratch-level-1-yitong-5/
CATEGORIES:Scratch Class,Scratch Class Level 1
END:VEVENT
BEGIN:VEVENT
DTSTART;TZID=America/Los_Angeles:20220715T190000
DTEND;TZID=America/Los_Angeles:20220715T190000
DTSTAMP:20260423T173310
CREATED:20220716T030111Z
LAST-MODIFIED:20220716T030111Z
UID:13951-1657911600-1657911600@www.ayclogic.com
SUMMARY:7 PM - Python Game Development - Gamas
DESCRIPTION:Homework\n\nin main.py\, create game_over_page method which should be very similar to game_landing_page method.\nThe big GAME OVER text is just a text\, similar to how you guys did the score text. But use a bigger font. Create a new font size 100.\nWhen the player hit the tube\, display GAME OVER page:\n\nMake progress on your final project.
URL:https://www.ayclogic.com/event/7-pm-python-game-development-gamas-3/
CATEGORIES:OOP Python,Python Class
END:VEVENT
BEGIN:VEVENT
DTSTART;TZID=America/Los_Angeles:20220715T190000
DTEND;TZID=America/Los_Angeles:20220715T200000
DTSTAMP:20260423T173310
CREATED:20220716T225848Z
LAST-MODIFIED:20220716T225848Z
UID:13970-1657911600-1657915200@www.ayclogic.com
SUMMARY:7 PM Scratch Level 2 - Alex
DESCRIPTION:Today We Did:\n\nWe took the final Scratch test for level 2.\nThe tests will be graded by Tuesday night so expect to see them by then or possibly earlier.
URL:https://www.ayclogic.com/event/7-pm-scratch-level-2-alex/
CATEGORIES:Scratch Class,Scratch Class Level 2
END:VEVENT
END:VCALENDAR