BEGIN:VCALENDAR
VERSION:2.0
PRODID:-//American Young Coder - ECPv6.10.1.1//NONSGML v1.0//EN
CALSCALE:GREGORIAN
METHOD:PUBLISH
X-ORIGINAL-URL:https://www.ayclogic.com
X-WR-CALDESC:Events for American Young Coder
REFRESH-INTERVAL;VALUE=DURATION:PT1H
X-Robots-Tag:noindex
X-PUBLISHED-TTL:PT1H
BEGIN:VTIMEZONE
TZID:America/Los_Angeles
BEGIN:DAYLIGHT
TZOFFSETFROM:-0800
TZOFFSETTO:-0700
TZNAME:PDT
DTSTART:20220313T100000
END:DAYLIGHT
BEGIN:STANDARD
TZOFFSETFROM:-0700
TZOFFSETTO:-0800
TZNAME:PST
DTSTART:20221106T090000
END:STANDARD
END:VTIMEZONE
BEGIN:VEVENT
DTSTART;TZID=America/Los_Angeles:20220719T070000
DTEND;TZID=America/Los_Angeles:20220719T200000
DTSTAMP:20260423T185433
CREATED:20220722T052750Z
LAST-MODIFIED:20220808T212405Z
UID:14027-1658214000-1658260800@www.ayclogic.com
SUMMARY:7 PM - 3D Animation Beginner
DESCRIPTION:Week – 04 3D Animation Beginner\nToday we do:\nHow to use maya: \n\nHow to Playblast the homework\nHow to create bouncing ball with personalities\nHow to animate bouncing ball with tail – part 1\n\nHomework:\nCreate a bouncing ball with tail: \n\nJump forward 2 times\nJump and turn back\nAnd make huge jump back.
URL:https://www.ayclogic.com/event/7-pm-3d-animation-beginner-3/
END:VEVENT
BEGIN:VEVENT
DTSTART;TZID=America/Los_Angeles:20220719T170000
DTEND;TZID=America/Los_Angeles:20220719T180000
DTSTAMP:20260423T185433
CREATED:20220723T223748Z
LAST-MODIFIED:20220723T235602Z
UID:14051-1658250000-1658253600@www.ayclogic.com
SUMMARY:5 PM - Python OOP - Bill
DESCRIPTION:Gamas substitute \nToday We Do\n\nWe finished with the Book system.\n\nHomework\n\nCreate a new project in Pycharm “MonsterInheritance”. If you are having problem creating a new Pycharm project\, no worries\, you can do this homework inside Book System project\nCreate a new file monster.py. Inside the file\, create a new Monster class with the following attributes:\n\nspecies\nhealth\nmax_attack\n\n\nInside Monster class\, create a new method get_info(self) which will RETURN (not print) like this “<species> – <health> healths – <max_attack> Max attack points.”\nCreate a new file monster_system.py. Inside create MonsterSystem class.\nInside MonsterSystem class\, create application_loop(self) which will continuously display the following menu and get input from user. If user enter “exit”\, stop the loop.\nCall the MonsterSystem application_loop method to run the program.\n\nWelcome to AYCLOGIC Adventure game.\n\nYour have 200 health remaining.\nPlease choose your monster: \n- Troll - 50 healths - 30 Max attack points.\n- Water Golem - 30 healths - 20 Max attack points.\n- Dragon - 100 healths - 50 Max attack points.\nEnter your selection (enter "exit" to quit): asdfasdf\nYou have entered an invalid selection. Please try again\n\nYour have 200 health remaining.\nPlease choose your monster: \n- Troll - 50 healths - 30 Max attack points.\n- Water Golem - 30 healths - 20 Max attack points.\n- Dragon - 100 healths - 50 Max attack points.\nEnter your selection (enter "exit" to quit): exit\nThank you for playing AYCLOGIC Monster Adventure\n 
URL:https://www.ayclogic.com/event/5-pm-python-oop-bill-14/
CATEGORIES:OOP Python,Python Class
END:VEVENT
BEGIN:VEVENT
DTSTART;TZID=America/Los_Angeles:20220719T173000
DTEND;TZID=America/Los_Angeles:20220719T183000
DTSTAMP:20260423T185433
CREATED:20220720T055354Z
LAST-MODIFIED:20220720T055429Z
UID:13997-1658251800-1658255400@www.ayclogic.com
SUMMARY:5:30 PM - Intro to Python - Parna
DESCRIPTION:Today We Do\n\nWe went over the homework from last week\nWe went over how to get a random number and how to get a random element from a list\nWe went over one version of the Magic 8 Ball program using random.randint\n\nHomework\n\nProblem https://www.ayclogic.com/intro-to-python/magic-8-ball/\nDo above problem using random.choice instead of random.randint\nName it <Date>_Magic8Ball_V2.py
URL:https://www.ayclogic.com/event/530-pm-intro-to-python-parna-20/
END:VEVENT
BEGIN:VEVENT
DTSTART;TZID=America/Los_Angeles:20220719T180000
DTEND;TZID=America/Los_Angeles:20220719T190000
DTSTAMP:20260423T185433
CREATED:20220726T070428Z
LAST-MODIFIED:20220726T070428Z
UID:14078-1658253600-1658257200@www.ayclogic.com
SUMMARY:6PM - Digital Illustration 1
DESCRIPTION:TUESDAY \nToday we finished Simba. And also added the background. \nIf you want to add anything to the background you can\, but no other homework
URL:https://www.ayclogic.com/event/6pm-digital-illustration-1-10/
CATEGORIES:Beginner Digital Illustration,Digital Illustration
END:VEVENT
END:VCALENDAR