BEGIN:VCALENDAR
VERSION:2.0
PRODID:-//American Young Coder - ECPv6.10.1.1//NONSGML v1.0//EN
CALSCALE:GREGORIAN
METHOD:PUBLISH
X-ORIGINAL-URL:https://www.ayclogic.com
X-WR-CALDESC:Events for American Young Coder
REFRESH-INTERVAL;VALUE=DURATION:PT1H
X-Robots-Tag:noindex
X-PUBLISHED-TTL:PT1H
BEGIN:VTIMEZONE
TZID:America/Los_Angeles
BEGIN:DAYLIGHT
TZOFFSETFROM:-0800
TZOFFSETTO:-0700
TZNAME:PDT
DTSTART:20220313T100000
END:DAYLIGHT
BEGIN:STANDARD
TZOFFSETFROM:-0700
TZOFFSETTO:-0800
TZNAME:PST
DTSTART:20221106T090000
END:STANDARD
END:VTIMEZONE
BEGIN:VEVENT
DTSTART;TZID=America/Los_Angeles:20220721T170000
DTEND;TZID=America/Los_Angeles:20220721T180000
DTSTAMP:20260423T185031
CREATED:20220722T011614Z
LAST-MODIFIED:20220722T011614Z
UID:14020-1658422800-1658426400@www.ayclogic.com
SUMMARY:5 PM - Scratch 1 - Allison
DESCRIPTION:What we did today\n\nWe finished the Funny Faces project\nWe made the Hair sprite\, Hat sprite\, Bowtie sprite\, and the eyebrow sprite.\nWe started working on the Spiralizer project.\nWe created clones of the ball sprite.\nWe forever turned the clones 10 degrees and move 2 steps.\nWe deleted the sprites when touching the edge.\n\nHomework\n\nDo page 98 and 99 on your pink Scratch book.
URL:https://www.ayclogic.com/event/5-pm-scratch-1-allison-3/
CATEGORIES:Scratch Class,Scratch Class Level 1
END:VEVENT
BEGIN:VEVENT
DTSTART;TZID=America/Los_Angeles:20220721T170000
DTEND;TZID=America/Los_Angeles:20220721T180000
DTSTAMP:20260423T185031
CREATED:20220722T022216Z
LAST-MODIFIED:20220722T022216Z
UID:14018-1658422800-1658426400@www.ayclogic.com
SUMMARY:5 PM - Python Game Development - Gamas
DESCRIPTION:Today We Do\n\nWe reviewed the finished version of the students’ games\n\nCow and Panda Attack\nDoodle Marathon\n\n\nWe continued with Shoot Balloon game by adding target\, by randomizing the color of the balloon. And we also clean up the balloon after it goes off the screen.\n\nHomework\n\nAdd collision detection between Balloon and Target. The balloon has to disappear.\nAdd a score attribute which will be increased by 1 every time a balloon is popped.\nDisplay the score on the top left corner.
URL:https://www.ayclogic.com/event/5-pm-python-game-development-gamas-4/
CATEGORIES:Python Class,Python Game Development
END:VEVENT
BEGIN:VEVENT
DTSTART;TZID=America/Los_Angeles:20220721T173000
DTEND;TZID=America/Los_Angeles:20220721T183000
DTSTAMP:20260423T185031
CREATED:20220722T015426Z
LAST-MODIFIED:20220722T015426Z
UID:14022-1658424600-1658428200@www.ayclogic.com
SUMMARY:5:30 PM - Intro to Python - Parna
DESCRIPTION:Topics covered in class:\n\nWe reviewed material for your quiz next week!\n\nHomework:\n\n\n\nYou don’t have any homework besides studying for your quiz!\nReview all content from the past weeks including: for loops\, if/else statements\, getting input from user\, while loops\, data types\, lists\, string formatting\nPlease try to come to class 10 minutes early!\n\n\n\nIf you have any questions or need help\, email me at parna@ayclogic.com
URL:https://www.ayclogic.com/event/530-pm-intro-to-python-parna-21/
END:VEVENT
BEGIN:VEVENT
DTSTART;TZID=America/Los_Angeles:20220721T190000
DTEND;TZID=America/Los_Angeles:20220721T200000
DTSTAMP:20260423T185031
CREATED:20220722T202512Z
LAST-MODIFIED:20220722T202512Z
UID:14031-1658430000-1658433600@www.ayclogic.com
SUMMARY:7: 00 PM - Intro to Python - Parna
DESCRIPTION:Today We Do\n\nGave feedback on Turtle Project submissions.\nWent over Grocery System Program.\n\nHomework\n\nYou have one week to improve your code on the Turtle Project to raise your grade on the assignment.\nAdd an additional item to the purchase list from our Grocery System program called “Frozen Pizza”. Add to the total price and shopping cart accordingly.\nExpected Behavior should be like this:\n\nWhat do you want to purchase:\n1. Milk - $5\n2. Ice Cream - $4\n3. Bread - $6\n4. Frozen Pizza - $20\n99. I am done\, checkout please\nEnter your selection: 1\nYou have purchased Milk for $5\n\nWhat do you want to purchase:\n1. Milk - $5\n2. Ice Cream - $4\n3. Bread - $6\n4. Frozen Pizza - $20\n99. I am done\, checkout please\nEnter your selection: 4\nYou have purchased Frozen Pizza for $20.\n\nWhat do you want to purchase:\n1. Milk - $5\n2. Ice Cream - $4\n3. Bread - $6\n4. Frozen Pizza - $20\n99. I am done\, checkout please\nEnter your selection: 99\n\nYou have purchased the following items: \nmilk\nfrozen pizza\nPlease pay $25\, thank you for your business.\n\n\n 
URL:https://www.ayclogic.com/event/7-00-pm-intro-to-python-parna/
END:VEVENT
END:VCALENDAR