BEGIN:VCALENDAR
VERSION:2.0
PRODID:-//American Young Coder - ECPv6.10.1.1//NONSGML v1.0//EN
CALSCALE:GREGORIAN
METHOD:PUBLISH
X-ORIGINAL-URL:https://www.ayclogic.com
X-WR-CALDESC:Events for American Young Coder
REFRESH-INTERVAL;VALUE=DURATION:PT1H
X-Robots-Tag:noindex
X-PUBLISHED-TTL:PT1H
BEGIN:VTIMEZONE
TZID:America/Los_Angeles
BEGIN:DAYLIGHT
TZOFFSETFROM:-0800
TZOFFSETTO:-0700
TZNAME:PDT
DTSTART:20220313T100000
END:DAYLIGHT
BEGIN:STANDARD
TZOFFSETFROM:-0700
TZOFFSETTO:-0800
TZNAME:PST
DTSTART:20221106T090000
END:STANDARD
END:VTIMEZONE
BEGIN:VEVENT
DTSTART;TZID=America/Los_Angeles:20220727T140000
DTEND;TZID=America/Los_Angeles:20220727T160000
DTSTAMP:20260423T173328
CREATED:20220729T010956Z
LAST-MODIFIED:20220731T013247Z
UID:14116-1658930400-1658937600@www.ayclogic.com
SUMMARY:2 PM - Intro To Python - Bill
DESCRIPTION:Today We:\n\nDid the Shopping Cart System\nDid the Robux System\n\nYour HW:\n\nStudy for the Final Test on Monday August 1st\nThings to study recomendations:\n\nGetting User Input\nFunctions and Functions with return values\nTurtle\nHow to get random numbers\nFor loops (using range and list)\nwhile loops\nif statements\nData types\nShopping Cart system and Robux System projects\n\n\nOther Things you can do:\n\nRemake the following projects without looking at the answers:\n\nShopping Cart System\nRobux System\nTurtle – Face
URL:https://www.ayclogic.com/event/2-pm-intro-to-python-bill-12/
END:VEVENT
BEGIN:VEVENT
DTSTART;TZID=America/Los_Angeles:20220727T170000
DTEND;TZID=America/Los_Angeles:20220727T180000
DTSTAMP:20260423T173328
CREATED:20220802T080902Z
LAST-MODIFIED:20220802T080902Z
UID:14192-1658941200-1658944800@www.ayclogic.com
SUMMARY:5PM - Digital Illustration 3
DESCRIPTION:WEDNESDAY \nToday we finished up the lines so far in the room. We drew in the curtains. We added color to some of the furniture. \nHOMEWORK \n\nPart 1 – On one of your “Lines” layers\, add 2 or more items to your room to make it look more full and not so empty\nPart 2 – Add color to the personal stuff that you drew in from last week’s homework\, and also today’s extra items (from Part 1).
URL:https://www.ayclogic.com/event/5pm-digital-illustration-3-12/
CATEGORIES:Digital Illustration,Intermediate Digital Illustration
END:VEVENT
BEGIN:VEVENT
DTSTART;TZID=America/Los_Angeles:20220727T180000
DTEND;TZID=America/Los_Angeles:20220727T190000
DTSTAMP:20260423T173328
CREATED:20220728T022147Z
LAST-MODIFIED:20220728T022147Z
UID:14102-1658944800-1658948400@www.ayclogic.com
SUMMARY:6 PM - Intro To Python - Gamas
DESCRIPTION:Today We Do\n\nWe started with Kaleido spiral.\n\nHomework\n\nCurrently\, the Kaleido spiral only have 3 colors: red\, green and blue. Add more colors to it. Add any three colors to it.\nAlso create a new file\, call it July27_GroceryShoppingCart.py. Inside this file\, continuously (forever loop) display the following menu to the user until user enter “4” then stop the program. If you are confused how to display multi-lines menu or prompt input\, look at your book page 115. In that page\, you can see the code to create 2 lines input. Hopefully\, you can figure out how to create 5 lines of input if you know how to do 2 lines.\n\nWhat do you want to purchase:\n1. Milk - $5\n2. Ice Cream - $4\n3. Bread - $6\n4. I am done\, checkout please\nEnter your selection: 1\n\nWhat do you want to purchase:\n1. Milk - $5\n2. Ice Cream - $4\n3. Bread - $6\n4. I am done\, checkout please\nEnter your selection: 2\n\nWhat do you want to purchase:\n1. Milk - $5\n2. Ice Cream - $4\n3. Bread - $6\n4. I am done\, checkout please\nEnter your selection: 3\n\nWhat do you want to purchase:\n1. Milk - $5\n2. Ice Cream - $4\n3. Bread - $6\n4. I am done\, checkout please\nEnter your selection: 4
URL:https://www.ayclogic.com/event/6-pm-intro-to-python-gamas-18/
CATEGORIES:Python Class,Python Level 1
END:VEVENT
BEGIN:VEVENT
DTSTART;TZID=America/Los_Angeles:20220727T190000
DTEND;TZID=America/Los_Angeles:20220727T200000
DTSTAMP:20260423T173328
CREATED:20220730T010057Z
LAST-MODIFIED:20220730T010057Z
UID:14126-1658948400-1658952000@www.ayclogic.com
SUMMARY:7PM - Intro to Python - Latisha
DESCRIPTION:Today We Do\n\nFinished Robot Builder\nStarted making face1\n\nHomework\n\nFinish the face1 function from class\nMake changes to project proposal and email the new version to latisha@ayclogic.com\n\n \nIf you have any questions\, please send an email to latisha@ayclogic.com
URL:https://www.ayclogic.com/event/7pm-intro-to-python-latisha-6/
END:VEVENT
END:VCALENDAR