BEGIN:VCALENDAR
VERSION:2.0
PRODID:-//American Young Coder - ECPv6.10.1.1//NONSGML v1.0//EN
CALSCALE:GREGORIAN
METHOD:PUBLISH
X-WR-CALNAME:American Young Coder
X-ORIGINAL-URL:https://www.ayclogic.com
X-WR-CALDESC:Events for American Young Coder
REFRESH-INTERVAL;VALUE=DURATION:PT1H
X-Robots-Tag:noindex
X-PUBLISHED-TTL:PT1H
BEGIN:VTIMEZONE
TZID:America/Los_Angeles
BEGIN:DAYLIGHT
TZOFFSETFROM:-0800
TZOFFSETTO:-0700
TZNAME:PDT
DTSTART:20220313T100000
END:DAYLIGHT
BEGIN:STANDARD
TZOFFSETFROM:-0700
TZOFFSETTO:-0800
TZNAME:PST
DTSTART:20221106T090000
END:STANDARD
END:VTIMEZONE
BEGIN:VEVENT
DTSTART;TZID=America/Los_Angeles:20220728T170000
DTEND;TZID=America/Los_Angeles:20220728T180000
DTSTAMP:20260423T172524
CREATED:20220729T011025Z
LAST-MODIFIED:20220729T011025Z
UID:14114-1659027600-1659031200@www.ayclogic.com
SUMMARY:5 PM - Scratch 1 - Allison
DESCRIPTION:What we did today\n\nWe finished the Spiralizer project.\nWe added the pen extension and made a pensize variable.\nWe added color effects to the pen and clones.\nWe started the Drawing Shapes project.\nWe drew the square and the rectangle.\n\nHomework\n\nFinish drawing the rest of the shapes. (triangle & octagon)\nRemember to put “wait 0.5 secs” between every coordinate.\nRemember to use broadcast for every shape.
URL:https://www.ayclogic.com/event/5-pm-scratch-1-allison-4/
CATEGORIES:Scratch Class,Scratch Class Level 1
END:VEVENT
BEGIN:VEVENT
DTSTART;TZID=America/Los_Angeles:20220728T170000
DTEND;TZID=America/Los_Angeles:20220728T180000
DTSTAMP:20260423T172524
CREATED:20220811T235955Z
LAST-MODIFIED:20220811T235955Z
UID:14312-1659027600-1659031200@www.ayclogic.com
SUMMARY:5 PM - Python Game Development - Gamas
DESCRIPTION:Today We Did\n\nWe continued with Shoot Balloon project.\nWe drew the target lines.\nWe added hitbox in both target and the balloon.\nWe added collision detection on target and balloons.\n\nHomework\n\nThe balloon should not be popped until after user click on the balloon.\nCreate Bad Balloon text on the balloon.
URL:https://www.ayclogic.com/event/5-pm-python-game-development-gamas-5/
CATEGORIES:Python Class,Python Game Development
END:VEVENT
BEGIN:VEVENT
DTSTART;TZID=America/Los_Angeles:20220728T173000
DTEND;TZID=America/Los_Angeles:20220728T183000
DTSTAMP:20260423T172524
CREATED:20220802T211424Z
LAST-MODIFIED:20220802T211424Z
UID:14198-1659029400-1659033000@www.ayclogic.com
SUMMARY:5:30 PM - Intro to Python - Parna
DESCRIPTION:Today We Did:\n\nHad 1 hour quiz\n\nHomework:\n\nNo Homework!\n\n 
URL:https://www.ayclogic.com/event/530-pm-intro-to-python-parna-23/
END:VEVENT
BEGIN:VEVENT
DTSTART;TZID=America/Los_Angeles:20220728T190000
DTEND;TZID=America/Los_Angeles:20220728T200000
DTSTAMP:20260423T172524
CREATED:20220730T063747Z
LAST-MODIFIED:20220730T063747Z
UID:14135-1659034800-1659038400@www.ayclogic.com
SUMMARY:7 PM - Intro to Python - Parna
DESCRIPTION:Today We Do\n\nWe went over the RobuxShoppingCart Program\n\nHomework\n\nEdit the current RobuxShoppingCart program so that a function can be used to purchase items from the menu and add them to the shopping cart. Look for repetition in code to help create this function that we began coding in class.\nExpected Behavior should be like this:\n\nWhat do you want to do:\n1. Buy hat 100 Robux\n2. Buy hair 150 Robux\n3. VIP Server 500 Robux\n4. Add more Robux\n5. Exit\nEnter your selection: 1\nYou have purchased a Hat. You have 200 robux remaining\n\nWhat do you want to do:\n1. Buy hat 100 Robux\n2. Buy hair 150 Robux\n3. VIP Server 500 Robux\n4. Add more Robux\n5. Exit\nEnter your selection: 3\nYou only have 200 robux left. Therefore you cannot purchase VIP Server for 500 robux.\n\nWhat do you want to do:\n1. Buy hat 100 Robux\n2. Buy hair 150 Robux\n3. VIP Server 500 Robux\n4. Add more Robux\n5. Exit\nEnter your selection: 4\nEnter your Credit Card number: ABCD1234\nThank you for purchasing 200 Robux. You have 400 robux remaining.\n\nWhat do you want to do:\n1. Buy hat 100 Robux\n2. Buy hair 150 Robux\n3. VIP Server 500 Robux\n4. Add more Robux\n5. Exit\nEnter your selection: 2\nYou have purchased a Hair. You have 250 robux remaining\n\nWhat do you want to do:\n1. Buy hat 100 Robux\n2. Buy hair 150 Robux\n3. VIP Server 500 Robux\n4. Add more Robux\n5. Exit\nEnter your selection: 5
URL:https://www.ayclogic.com/event/7-pm-intro-to-python-parna-5/
END:VEVENT
END:VCALENDAR