BEGIN:VCALENDAR
VERSION:2.0
PRODID:-//American Young Coder - ECPv6.10.1.1//NONSGML v1.0//EN
CALSCALE:GREGORIAN
METHOD:PUBLISH
X-WR-CALNAME:American Young Coder
X-ORIGINAL-URL:https://www.ayclogic.com
X-WR-CALDESC:Events for American Young Coder
REFRESH-INTERVAL;VALUE=DURATION:PT1H
X-Robots-Tag:noindex
X-PUBLISHED-TTL:PT1H
BEGIN:VTIMEZONE
TZID:America/Los_Angeles
BEGIN:DAYLIGHT
TZOFFSETFROM:-0800
TZOFFSETTO:-0700
TZNAME:PDT
DTSTART:20220313T100000
END:DAYLIGHT
BEGIN:STANDARD
TZOFFSETFROM:-0700
TZOFFSETTO:-0800
TZNAME:PST
DTSTART:20221106T090000
END:STANDARD
END:VTIMEZONE
BEGIN:VEVENT
DTSTART;TZID=America/Los_Angeles:20220804T170000
DTEND;TZID=America/Los_Angeles:20220804T180000
DTSTAMP:20260423T161522
CREATED:20220805T011017Z
LAST-MODIFIED:20220805T011017Z
UID:14209-1659632400-1659636000@www.ayclogic.com
SUMMARY:5 PM Scratch Level 1 - Alex Sub
DESCRIPTION:Today We Did:\n\nToday we started with creating the Animal Crossing project.\nWe explained x and y\, with how x is for moving left and right\, and that y is for moving up and down.\nAlso talked about directions and all the different directions to face.\n\nFor Homework:\n\nCreate a new sprite that is a bat.\nMake the bat start at the top of the screen and at x: -100\nThe bat should move downwards to the bottom of the screen just like how we moved the mouse and the bear.\nWhen the bat reaches the bottom of the screen\, make the bat say “I have reached the ground”
URL:https://www.ayclogic.com/event/5-pm-scratch-level-1-alex-sub/
CATEGORIES:Scratch Class,Scratch Class Level 1
END:VEVENT
BEGIN:VEVENT
DTSTART;TZID=America/Los_Angeles:20220804T173000
DTEND;TZID=America/Los_Angeles:20220804T183000
DTSTAMP:20260423T161522
CREATED:20220805T012813Z
LAST-MODIFIED:20220805T012813Z
UID:14211-1659634200-1659637800@www.ayclogic.com
SUMMARY:5:30 PM - Intro to Python - Parna
DESCRIPTION:Topics covered in class today:\n\nWe reviewed Quiz 1\, which you guys took last week.\nWe briefly went over functions: how to create functions\, call functions\, and pass in parameters to functions.\n\nIf you have any questions\, please email me at parna@ayclogic.com \nHomework\n\nNo homework
URL:https://www.ayclogic.com/event/530-pm-intro-to-python-parna-25/
END:VEVENT
BEGIN:VEVENT
DTSTART;TZID=America/Los_Angeles:20220804T190000
DTEND;TZID=America/Los_Angeles:20220804T200000
DTSTAMP:20260423T161522
CREATED:20220806T160907Z
LAST-MODIFIED:20220806T160907Z
UID:14235-1659639600-1659643200@www.ayclogic.com
SUMMARY:7:00 PM - Intro to Python - Parna
DESCRIPTION:Today we did:\n\nFinished Robux Shopping Cart program\nStarted reviewing for Final Exam on August 18th\n\nHomework\n\nReview Turtle complex shape functions (draw face function)\, Grocery System program\, and Robux Sopping cart program. Bring in any questions before final to review next week.
URL:https://www.ayclogic.com/event/700-pm-intro-to-python-parna-5/
END:VEVENT
END:VCALENDAR