BEGIN:VCALENDAR
VERSION:2.0
PRODID:-//American Young Coder - ECPv6.10.1.1//NONSGML v1.0//EN
CALSCALE:GREGORIAN
METHOD:PUBLISH
X-WR-CALNAME:American Young Coder
X-ORIGINAL-URL:https://www.ayclogic.com
X-WR-CALDESC:Events for American Young Coder
REFRESH-INTERVAL;VALUE=DURATION:PT1H
X-Robots-Tag:noindex
X-PUBLISHED-TTL:PT1H
BEGIN:VTIMEZONE
TZID:America/Los_Angeles
BEGIN:DAYLIGHT
TZOFFSETFROM:-0800
TZOFFSETTO:-0700
TZNAME:PDT
DTSTART:20220313T100000
END:DAYLIGHT
BEGIN:STANDARD
TZOFFSETFROM:-0700
TZOFFSETTO:-0800
TZNAME:PST
DTSTART:20221106T090000
END:STANDARD
END:VTIMEZONE
BEGIN:VEVENT
DTSTART;TZID=America/Los_Angeles:20220805T080000
DTEND;TZID=America/Los_Angeles:20220805T170000
DTSTAMP:20260423T161533
CREATED:20220806T005846Z
LAST-MODIFIED:20220806T005846Z
UID:14224-1659686400-1659718800@www.ayclogic.com
SUMMARY:5 PM Scratch Level 1 - Alex Substitute
DESCRIPTION:Today We Did:\n\nWe finished up the Animal Crossing project by adding in a beetle and making it move upwards.\nWe also started the Tunnel of Doom project.\nCreated the cat and also the tunnel.\n\nFor Homework:\n\nUpdate your tunnel to how you want it to look\, take as much time as you want.\nBroadcast the message “Well Done” when the cat touches the home button.\nCreate a new banner that has a message to congratulate the player when they win.\nThe banner should receive the message and show itself\, it should not be seen at the start of the game.
URL:https://www.ayclogic.com/event/5-pm-scratch-level-1-alex-substitute/
CATEGORIES:Scratch Class,Scratch Class Level 1
END:VEVENT
BEGIN:VEVENT
DTSTART;TZID=America/Los_Angeles:20220805T173000
DTEND;TZID=America/Los_Angeles:20220805T183000
DTSTAMP:20260423T161533
CREATED:20220806T013254Z
LAST-MODIFIED:20220806T161102Z
UID:14226-1659720600-1659724200@www.ayclogic.com
SUMMARY:5:30 PM - Intro to Python - Alex W. Substitute
DESCRIPTION:Today We Do\n\nWe went the homework from last week\nWe learned some built-in functions for the String data type\n\nHomework\n\nCreate <date>_StringHomework2.py page 25. TRY IT YOURSELF: 2-3\, 2-4\, 2-5 and 2-6
URL:https://www.ayclogic.com/event/530-pm-intro-to-python-alex-w/
END:VEVENT
END:VCALENDAR