BEGIN:VCALENDAR
VERSION:2.0
PRODID:-//American Young Coder - ECPv6.10.1.1//NONSGML v1.0//EN
CALSCALE:GREGORIAN
METHOD:PUBLISH
X-WR-CALNAME:American Young Coder
X-ORIGINAL-URL:https://www.ayclogic.com
X-WR-CALDESC:Events for American Young Coder
REFRESH-INTERVAL;VALUE=DURATION:PT1H
X-Robots-Tag:noindex
X-PUBLISHED-TTL:PT1H
BEGIN:VTIMEZONE
TZID:America/Los_Angeles
BEGIN:DAYLIGHT
TZOFFSETFROM:-0800
TZOFFSETTO:-0700
TZNAME:PDT
DTSTART:20220313T100000
END:DAYLIGHT
BEGIN:STANDARD
TZOFFSETFROM:-0700
TZOFFSETTO:-0800
TZNAME:PST
DTSTART:20221106T090000
END:STANDARD
END:VTIMEZONE
BEGIN:VEVENT
DTSTART;TZID=America/Los_Angeles:20220806T070000
DTEND;TZID=America/Los_Angeles:20220806T200000
DTSTAMP:20260423T161536
CREATED:20220807T032320Z
LAST-MODIFIED:20220807T032320Z
UID:14255-1659769200-1659816000@www.ayclogic.com
SUMMARY:7 PM - Digital Illustration - Abigail
DESCRIPTION:What we did today\n\n We colored Aang.\nWe shaded and put lighting on Aang.\nWe started working on the background.\n\nHomework\n\n Finish drawing the background. (The blob on the ground is a shadow.)
URL:https://www.ayclogic.com/event/7-pm-digital-illustration-abigail-3/
CATEGORIES:Beginner Digital Illustration,Digital Illustration
END:VEVENT
BEGIN:VEVENT
DTSTART;TZID=America/Los_Angeles:20220806T080000
DTEND;TZID=America/Los_Angeles:20220806T090000
DTSTAMP:20260423T161536
CREATED:20220806T160601Z
LAST-MODIFIED:20220806T161026Z
UID:14233-1659772800-1659776400@www.ayclogic.com
SUMMARY:8AM - Intro to Python - Saagar Substitute
DESCRIPTION:Today we did:\n\nWent over built-in functions for list: append()\, insert()\, pop()\, remove()\, del\nReviewed for loops (for each and for loop with range())\nCombined for loops\, if statements\, and list logic to go traverse a list of integer elements and analyze them\n\nHomework\n\nCreate python file called “Aug6_ForLoopHomework.py”. Read pages 54-55\, and do TRY IT YOURSELF from page 56.
URL:https://www.ayclogic.com/event/8am-intro-to-python-substitute-parna/
END:VEVENT
BEGIN:VEVENT
DTSTART;TZID=America/Los_Angeles:20220806T100000
DTEND;TZID=America/Los_Angeles:20220806T110000
DTSTAMP:20260423T161536
CREATED:20220813T043329Z
LAST-MODIFIED:20220813T043329Z
UID:14337-1659780000-1659783600@www.ayclogic.com
SUMMARY:10 AM - Minecraft Modding with Java - Gamas
DESCRIPTION:Homework\n\nAdd saturn_layer_2.png into your Minecraft project. Place the image into src/main/resources/assets/aycessentials/textures/models/armor/ folder. You can find saturn_layer_2.png image below.\n\nCustomize saturn_layer_2.png so it match your saturn_leggings armor.
URL:https://www.ayclogic.com/event/10-am-minecraft-modding-with-java-gamas-5/
CATEGORIES:Java,Minecraft Modding With Java
END:VEVENT
BEGIN:VEVENT
DTSTART;TZID=America/Los_Angeles:20220806T130000
DTEND;TZID=America/Los_Angeles:20220806T140000
DTSTAMP:20260423T161536
CREATED:20220809T063859Z
LAST-MODIFIED:20220809T063859Z
UID:14288-1659790800-1659794400@www.ayclogic.com
SUMMARY:1 PM Intro to Java - Alex
DESCRIPTION:Today We Did:\n\nWe continued with the AYCLOGIC Email project and were able to finish multiple parts.\nWe were able to finish the login menu and also explained how we could transfer the account from one method to another so that it could be used there.\n\nFor Homework:\n\nThis week’s homework is going to be creating the EmailMessage.java class which is going to be used to save and show it to whoever the email is sent to.\nThe attributes should be as listed below:\nAlso\, make sure to create all the getters and setters for the attributes along with the constructor.\n\n    private String senderEmail;\n    private String recipientEmail;\n    private String subject;\n    private String content;
URL:https://www.ayclogic.com/event/1-pm-intro-to-java-alex-9/
CATEGORIES:Introduction To Java,Java
END:VEVENT
BEGIN:VEVENT
DTSTART;TZID=America/Los_Angeles:20220806T140000
DTEND;TZID=America/Los_Angeles:20220806T150000
DTSTAMP:20260423T161536
CREATED:20220806T162913Z
LAST-MODIFIED:20220806T162913Z
UID:14239-1659794400-1659798000@www.ayclogic.com
SUMMARY:SAT - 2 PM - Intro To Python - Gamas
DESCRIPTION:The class was on 8 AM \nToday We Did\n\nWe went over String homework. We learned about String built-in functions: .title()\, .upper()\, .lower()\, .strip(). We learned about String formater.\nWe learned about Float/Double and Boolean data types.\nWe started learning about IF ELSE statement.\n\nHomework\n\nCreate a new file Aug6_IFElSE_Homework.py\nCopy codes from pages 79-81. Run the code one by one\,\nDo page 84\, TRY IT YOURSELF: 5-3\, 5-4
URL:https://www.ayclogic.com/event/sat-2-pm-intro-to-python-gamas/
CATEGORIES:Python Class,Python Level 1
END:VEVENT
BEGIN:VEVENT
DTSTART;TZID=America/Los_Angeles:20220806T150000
DTEND;TZID=America/Los_Angeles:20220806T160000
DTSTAMP:20260423T161536
CREATED:20220809T064150Z
LAST-MODIFIED:20220809T064150Z
UID:14290-1659798000-1659801600@www.ayclogic.com
SUMMARY:3 PM Scratch Level 2 - Alex Substitute
DESCRIPTION:Today We Did:\n\nWe took the test today!\nTest results should be out by Thursday.
URL:https://www.ayclogic.com/event/3-pm-scratch-level-2-alex-substitute-2/
CATEGORIES:Scratch Class,Scratch Class Level 2
END:VEVENT
BEGIN:VEVENT
DTSTART;TZID=America/Los_Angeles:20220806T160000
DTEND;TZID=America/Los_Angeles:20220806T170000
DTSTAMP:20260423T161536
CREATED:20220807T000256Z
LAST-MODIFIED:20220807T000542Z
UID:14245-1659801600-1659805200@www.ayclogic.com
SUMMARY:4 PM - Python Game Development
DESCRIPTION:Today: \n\nWe went over the homework.\nWe added animation to the birds.\nWe added a delay to slow down the flapping of wings for the birds.\nNote: I pushed the code to this branch: https://gitlab.com/gsugiart/dragon_birdie/-/blob/SAT_4PM_Chester\n\nHomework: \n\nCreate a new sprite file “player.py” and sprite “Player” to represent the dragon-birdie player which the user will control.  This should appear on the screen using the “assets/player-1.png” image.  Make sure to resize so it appears about the same size as a bird.\nAdd logic so the player will flap its wings.  You can use a similar technique we used for “bird.py”.  In this case there will be 4 different images “player-1.png” through “”player-4.png”.
URL:https://www.ayclogic.com/event/4-pm-python-game-development-17/
CATEGORIES:Python Game Development
END:VEVENT
BEGIN:VEVENT
DTSTART;TZID=America/Los_Angeles:20220806T163000
DTEND;TZID=America/Los_Angeles:20220806T173000
DTSTAMP:20260423T161536
CREATED:20220811T224708Z
LAST-MODIFIED:20220811T224742Z
UID:14308-1659803400-1659807000@www.ayclogic.com
SUMMARY:4:30 PM - Scratch 1 - Allison
DESCRIPTION:Gamas Chang substitute. \nToday We Did\n\nWe reviewed how to do both questions on practice test.\n\nHomework\n\nFinish the practice test questions. For each of the projects\, SHARE the project\, copy and paste the project link into the google form and click submit.
URL:https://www.ayclogic.com/event/430-pm-scratch-1-allison-3/
CATEGORIES:Scratch Class,Scratch Class Level 1
END:VEVENT
BEGIN:VEVENT
DTSTART;TZID=America/Los_Angeles:20220806T170000
DTEND;TZID=America/Los_Angeles:20220806T180000
DTSTAMP:20260423T161536
CREATED:20220809T210639Z
LAST-MODIFIED:20220809T210639Z
UID:14295-1659805200-1659808800@www.ayclogic.com
SUMMARY:5 PM -  Python OOP - Latisha
DESCRIPTION:Gamas Subs \nToday We Did\n\nWe went over Practice Final. We added to add a new driver.\n\nHomework\n\nFinish the Practice Final codes.\n\nList all drivers\nBook a Trip\n\n\nLook at the instructions and expected result in the Practice Final google form.
URL:https://www.ayclogic.com/event/5-pm-python-oop-latisha-2/
CATEGORIES:OOP Python,Python Class
END:VEVENT
BEGIN:VEVENT
DTSTART;TZID=America/Los_Angeles:20220806T180000
DTEND;TZID=America/Los_Angeles:20220806T190000
DTSTAMP:20260423T161536
CREATED:20220812T005833Z
LAST-MODIFIED:20220812T005833Z
UID:14314-1659808800-1659812400@www.ayclogic.com
SUMMARY:6 PM - Python OOP - Bill
DESCRIPTION:Today We:\n\nUsed dictionaries in our Shopping Cart project\nFinished the Shopping Cart project\nLearned about classes and instances\n\nYour HW:\n\nCreate 3 more GroceryItem instances:\nIce Cream\nBread\nSoup
URL:https://www.ayclogic.com/event/6-pm-python-oop-bill-2/
END:VEVENT
END:VCALENDAR