BEGIN:VCALENDAR
VERSION:2.0
PRODID:-//American Young Coder - ECPv6.10.1.1//NONSGML v1.0//EN
CALSCALE:GREGORIAN
METHOD:PUBLISH
X-WR-CALNAME:American Young Coder
X-ORIGINAL-URL:https://www.ayclogic.com
X-WR-CALDESC:Events for American Young Coder
REFRESH-INTERVAL;VALUE=DURATION:PT1H
X-Robots-Tag:noindex
X-PUBLISHED-TTL:PT1H
BEGIN:VTIMEZONE
TZID:America/Los_Angeles
BEGIN:DAYLIGHT
TZOFFSETFROM:-0800
TZOFFSETTO:-0700
TZNAME:PDT
DTSTART:20220313T100000
END:DAYLIGHT
BEGIN:STANDARD
TZOFFSETFROM:-0700
TZOFFSETTO:-0800
TZNAME:PST
DTSTART:20221106T090000
END:STANDARD
END:VTIMEZONE
BEGIN:VEVENT
DTSTART;TZID=America/Los_Angeles:20220810T170000
DTEND;TZID=America/Los_Angeles:20220810T180000
DTSTAMP:20260423T161532
CREATED:20220811T013349Z
LAST-MODIFIED:20220811T013349Z
UID:14300-1660150800-1660154400@www.ayclogic.com
SUMMARY:5 PM - Scratch 2 - Abigail
DESCRIPTION:Today we:\n\nFinished adding code for the Lightning sprite.\nAdded collision code for the Asteroid sprite.\nAdded the Bomb and Fireball variables to keep track of clones.\nMade a FirePowerUp sprite.\n\nHomework:\n\nWhen the player presses the Up-Arrow key\, switch the costume to Rocketship-A\nWhen the player presses the Down-Arrow key\, switch the costume to Rocketship-E\nWhen the player presses the Left-Arrow key\, switch the costume to Rocketship-B\nWhen the player presses the Right-Arrow key\, switch the costume to Rocketship-D
URL:https://www.ayclogic.com/event/5-pm-scratch-2-abigail/
CATEGORIES:Scratch Class,Scratch Class Level 2
END:VEVENT
BEGIN:VEVENT
DTSTART;TZID=America/Los_Angeles:20220810T180000
DTEND;TZID=America/Los_Angeles:20220810T190000
DTSTAMP:20260423T161532
CREATED:20220812T070848Z
LAST-MODIFIED:20220812T070848Z
UID:14326-1660154400-1660158000@www.ayclogic.com
SUMMARY:6PM - Intro to Python - Gamas
DESCRIPTION:Today We Do\n\nFinished Grocery System\n\nHomework\n\nIn a file called Aug10_RobuxSystem\, show the menu below and continuously ask for user input until the user enters 5\, then break. If the user enters anything other than 1-5\, print “invalid selection”\n\nWhat do you want to do: \n1. Buy hat 100 Robux\n2. Buy hair 150 Robux\n3. VIP Server 500 Robux\n4. Add more Robux\n5. Exit\nEnter your selection:\nIf you have any questions\, please send an email to latisha@ayclogic.com
URL:https://www.ayclogic.com/event/6pm-intro-to-python-gamas-2/
END:VEVENT
BEGIN:VEVENT
DTSTART;TZID=America/Los_Angeles:20220810T190000
DTEND;TZID=America/Los_Angeles:20220810T200000
DTSTAMP:20260423T161532
CREATED:20220812T071726Z
LAST-MODIFIED:20220812T071726Z
UID:14328-1660158000-1660161600@www.ayclogic.com
SUMMARY:7PM - Intro to Python - Latisha
DESCRIPTION:Today We Do\n\nFinished face2 function\nLearned how to make letters in turtle\n\nHomework\n\nContinue working on final project\, Due September 7\n\nIf you have any questions\, please send an email to latisha@ayclogic.com
URL:https://www.ayclogic.com/event/7pm-intro-to-python-latisha-8/
END:VEVENT
END:VCALENDAR