BEGIN:VCALENDAR
VERSION:2.0
PRODID:-//American Young Coder - ECPv6.10.1.1//NONSGML v1.0//EN
CALSCALE:GREGORIAN
METHOD:PUBLISH
X-ORIGINAL-URL:https://www.ayclogic.com
X-WR-CALDESC:Events for American Young Coder
REFRESH-INTERVAL;VALUE=DURATION:PT1H
X-Robots-Tag:noindex
X-PUBLISHED-TTL:PT1H
BEGIN:VTIMEZONE
TZID:America/Los_Angeles
BEGIN:DAYLIGHT
TZOFFSETFROM:-0800
TZOFFSETTO:-0700
TZNAME:PDT
DTSTART:20220313T100000
END:DAYLIGHT
BEGIN:STANDARD
TZOFFSETFROM:-0700
TZOFFSETTO:-0800
TZNAME:PST
DTSTART:20221106T090000
END:STANDARD
END:VTIMEZONE
BEGIN:VEVENT
DTSTART;TZID=America/Los_Angeles:20220813T100000
DTEND;TZID=America/Los_Angeles:20220813T110000
DTSTAMP:20260423T161905
CREATED:20220813T193238Z
LAST-MODIFIED:20220813T193238Z
UID:14343-1660384800-1660388400@www.ayclogic.com
SUMMARY:10 AM - Minecraft Modding - Gamas
DESCRIPTION:Today We Did\n\nWe learned about static variables and method.\nWe started creating Ore generation to minecraft world.\n\nHomework\n\nDownload and install https://www.blockbench.net/\nDo the quickstart tutorial\n\nhttps://www.youtube.com/watch?v=xC81Q3HGraE
URL:https://www.ayclogic.com/event/10-am-minecraft-modding-gamas/
CATEGORIES:Java,Minecraft Modding With Java
END:VEVENT
BEGIN:VEVENT
DTSTART;TZID=America/Los_Angeles:20220813T100000
DTEND;TZID=America/Los_Angeles:20220813T120000
DTSTAMP:20260423T161905
CREATED:20220813T040228Z
LAST-MODIFIED:20220813T040228Z
UID:14335-1660384800-1660392000@www.ayclogic.com
SUMMARY:SAT - 10 AM - Scratch 2  - Gamas
DESCRIPTION:Today We Did\n\nWe went over the solution of the last week test to make sure they knew their mistakes.\nWe went ahead and do the test retake.
URL:https://www.ayclogic.com/event/sat-10-am-scratch-2-gamas-5/
CATEGORIES:Scratch Class,Scratch Class Level 2
END:VEVENT
BEGIN:VEVENT
DTSTART;TZID=America/Los_Angeles:20220813T130000
DTEND;TZID=America/Los_Angeles:20220813T140000
DTSTAMP:20260423T161905
CREATED:20220817T150037Z
LAST-MODIFIED:20220818T035823Z
UID:14411-1660395600-1660399200@www.ayclogic.com
SUMMARY:1 PM - Intro To Java - Alex Lee
DESCRIPTION:Today We Did\n\nWe continued with EmailApplication program\nWe added EmailMainApplication.createEmailMessafe(EmailAccount)\n\nHomework\n\nInside EmailMainApplication.checkInbox(EmailAccount) display email message from emailMessageMap.\nTo test your code\, login using one account l(et say gamas@ayclogic.com) and send an email to another email (let say ben@ayclogic.com). Logout and login as ben@ayclogic.com and check ben’s inbox.\nExample\n\nWelcome to AYCLOGIC Email System.\n\nPlease select one of the items below:\n1. Create new email account\n2. Login\n3. List all email accounts.\n4. Exit\nPlease make your selection (1-4): 3\n\nThere are total of 3 email accounts in the system\n1. Benjamin - ben@ayclogic.com\n2. Gamas - gamas@ayclogic.com\n3. Aidan - aidan@ayclogic.com\n\nPlease select one of the items below:\n1. Create new email account\n2. Login\n3. List all email accounts.\n4. Exit\nPlease make your selection (1-4): 2\nEnter your login email and password\nemail: gamas@ayclogic.com\nPassword: abcd\n\nGamas\, please select from below:\n1. Check your inbox\n2. Create new email message\n3. Logout\nEnter your selection: 2\nSend to: ben@ayclogic.com\nSubject: Your Python Final Test\nContent: Congrats you got 100%.\n\nGamas\, please select from below:\n1. Check your inbox\n2. Create new email message\n3. Logout\nEnter your selection: '3\n\nGamas\, please select from below:\n1. Check your inbox\n2. Create new email message\n3. Logout\nEnter your selection: 3\nYou have logged out\n\nPlease select one of the items below:\n1. Create new email account\n2. Login\n3. List all email accounts.\n4. Exit\nPlease make your selection (1-4): 2\nEnter your login email and password\nemail: ben@ayclogic.com\nPassword: abcd\n\nBenjamin\, please select from below:\n1. Check your inbox\n2. Create new email message\n3. Logout\nEnter your selection: 1\nFROM: gamas@ayclogic.com - SUBJECT Your Python Final Test - Congrats you got 100%.
URL:https://www.ayclogic.com/event/1-pm-intro-to-java-alex-lee-2/
CATEGORIES:Introduction To Java,Java
END:VEVENT
BEGIN:VEVENT
DTSTART;TZID=America/Los_Angeles:20220813T160000
DTEND;TZID=America/Los_Angeles:20220813T170000
DTSTAMP:20260423T161905
CREATED:20220814T005138Z
LAST-MODIFIED:20220814T005138Z
UID:14347-1660406400-1660410000@www.ayclogic.com
SUMMARY:4PM - Python Game Development - Latisha
DESCRIPTION:Today We Do\n\nMade Player class\nMade player move using WASD Keys\nMade player flip directions\n\nHomework\n\nMake Fireball class in fireball.py using bullet.png and make it move right. If you press the space key\, add a fireball to the the fireball group\n\nIf you have any questions\, please send an email to latisha@ayclogic.com
URL:https://www.ayclogic.com/event/4pm-python-game-development-latisha-3/
END:VEVENT
BEGIN:VEVENT
DTSTART;TZID=America/Los_Angeles:20220813T163000
DTEND;TZID=America/Los_Angeles:20220813T173000
DTSTAMP:20260423T161905
CREATED:20220814T004053Z
LAST-MODIFIED:20220814T004053Z
UID:14345-1660408200-1660411800@www.ayclogic.com
SUMMARY:4:30 PM – Scratch Level 1 – Allison
DESCRIPTION:Today We:\n\nReviewed the Practice Test\n\nHomework:\n\nStudy for the Final Test (which is next week on Saturday\, August 20)\nCome to our next class 10 minutes early (come into the zoom meeting at 4:20 PM) so I can explain test instructions\nIf you’d like\, you can study the resources attached below to prepare for the test\nContact us at gamas@ayclogic.com or allison@ayclogic.com if you have any questions or need any help\n\nResources:\n\nSpaceship V1.0: https://scratch.mit.edu/projects/266884838\nAnimal Crossing: https://scratch.mit.edu/projects/559936031\nBirthday Card: https://scratch.mit.edu/projects/557279686\nCat Art: https://scratch.mit.edu/projects/331671044\nAnimal Race: https://scratch.mit.edu/projects/537193836\nYour Practice Final Test\n\nClick on the link below to see a picture of a coordinate plane with labeled coordinates. Make sure to memorize the coordinates (the ones in red). \nNumbered Shapes In Grid – Labeled
URL:https://www.ayclogic.com/event/430-pm-scratch-level-1-allison-6/
CATEGORIES:Scratch Class,Scratch Class Level 1
END:VEVENT
BEGIN:VEVENT
DTSTART;TZID=America/Los_Angeles:20220813T170000
DTEND;TZID=America/Los_Angeles:20220813T180000
DTSTAMP:20260423T161905
CREATED:20220814T005837Z
LAST-MODIFIED:20220814T005837Z
UID:14349-1660410000-1660413600@www.ayclogic.com
SUMMARY:5PM - OOP - Latisha
DESCRIPTION:Today We Do\n\nFinished going over Driver System\n\nHomework\n\nStudy for Final Test\, next week from 5pm-7pm. Please come on time so we can start on time. Open notes\, open Pycharm.\n\nIf you have any questions\, please send an email to latisha@ayclogic.com
URL:https://www.ayclogic.com/event/5pm-oop-latisha-4/
END:VEVENT
BEGIN:VEVENT
DTSTART;TZID=America/Los_Angeles:20220813T180000
DTEND;TZID=America/Los_Angeles:20220813T190000
DTSTAMP:20260423T161905
CREATED:20220820T025033Z
LAST-MODIFIED:20220820T025033Z
UID:14446-1660413600-1660417200@www.ayclogic.com
SUMMARY:6 PM - Python OOP - Bill
DESCRIPTION:Today We:\n\nLearned about classes\nLearned about instances of the class\nLearned about methods\n\nYour HW:\n\nCreate a new file called “Aug_13_ClassesHW2”\nPage 162 – TRY IT YOURSELF\nPage 163 to Page 166 – copy code to Thonny and run it.
URL:https://www.ayclogic.com/event/6-pm-python-oop-bill-3/
END:VEVENT
BEGIN:VEVENT
DTSTART;TZID=America/Los_Angeles:20220813T190000
DTEND;TZID=America/Los_Angeles:20220813T200000
DTSTAMP:20260423T161905
CREATED:20220814T032054Z
LAST-MODIFIED:20220814T032054Z
UID:14364-1660417200-1660420800@www.ayclogic.com
SUMMARY:7 PM - Digital Illustration - Abigail
DESCRIPTION:What we did today\n\nWe started working on the starry night drawing.\nWe colored and drew the sky using the airbrush tool.\n\nHomework\n\nLay out where you want the trees to be on your drawing. (don’t draw the leaves\, just draw the stem)
URL:https://www.ayclogic.com/event/7-pm-digital-illustration-abigail-4/
CATEGORIES:Beginner Digital Illustration,Digital Illustration
END:VEVENT
END:VCALENDAR