BEGIN:VCALENDAR
VERSION:2.0
PRODID:-//American Young Coder - ECPv6.10.1.1//NONSGML v1.0//EN
CALSCALE:GREGORIAN
METHOD:PUBLISH
X-WR-CALNAME:American Young Coder
X-ORIGINAL-URL:https://www.ayclogic.com
X-WR-CALDESC:Events for American Young Coder
REFRESH-INTERVAL;VALUE=DURATION:PT1H
X-Robots-Tag:noindex
X-PUBLISHED-TTL:PT1H
BEGIN:VTIMEZONE
TZID:America/Los_Angeles
BEGIN:DAYLIGHT
TZOFFSETFROM:-0800
TZOFFSETTO:-0700
TZNAME:PDT
DTSTART:20220313T100000
END:DAYLIGHT
BEGIN:STANDARD
TZOFFSETFROM:-0700
TZOFFSETTO:-0800
TZNAME:PST
DTSTART:20221106T090000
END:STANDARD
END:VTIMEZONE
BEGIN:VEVENT
DTSTART;TZID=America/Los_Angeles:20220818T170000
DTEND;TZID=America/Los_Angeles:20220818T180000
DTSTAMP:20260423T161634
CREATED:20220819T010048Z
LAST-MODIFIED:20220819T010048Z
UID:14433-1660842000-1660845600@www.ayclogic.com
SUMMARY:5 PM - Python Game Development - Gamas
DESCRIPTION:Today We Did\n\nWe added score on top of the explode image.\nWe started working on bug.py\n\nHomework\n\nContinue working on bug.py so you can have the following\n\nDisplay the bug on the screen with its wing flapping.\nMake the bug appear once every 3 seconds\, from left side of the screen to the right side of the screen.\nWhen it goes off the screen\, kill it.
URL:https://www.ayclogic.com/event/5-pm-python-game-development-gamas-7/
CATEGORIES:Python Class,Python Game Development
END:VEVENT
BEGIN:VEVENT
DTSTART;TZID=America/Los_Angeles:20220818T170000
DTEND;TZID=America/Los_Angeles:20220818T180000
DTSTAMP:20260423T161634
CREATED:20220819T014957Z
LAST-MODIFIED:20220819T014957Z
UID:14439-1660842000-1660845600@www.ayclogic.com
SUMMARY:5 PM - Scratch Level 1 - Allison
DESCRIPTION:Today we:\n\nAdded a score\nAdded a timer\nAdded a variable to keep track of the difficulty level\nCoded to turn the video off when the space bar is clicked\nLearned how to make a Splat clone appear when one splat disappears\nCoded only 10 Splat clones to show up at a time\nRandomized the clones’ sizes\nFinished the Window Cleaner project\n\nHomework:\n\nCreate a new Scratch project and title it “Practice 1 – Moving”\nIn this project\, code the Cat sprite to start at the right edge when the Green Flag is clicked and make it move/walk all the way to the left. Make sure it has a walking animation (hint: switch costumes)\nAdd a Bat sprite to start at the top edge when the Green Flag is clicked and make it move/fly all the way to the bottom. Make sure it has a flying animation (hint: switch costumes) \nNote: do not use the code “glide” \nContact us if you have any questions or need any help
URL:https://www.ayclogic.com/event/5-pm-scratch-level-1-allison-34/
CATEGORIES:Scratch Class,Scratch Class Level 1
END:VEVENT
BEGIN:VEVENT
DTSTART;TZID=America/Los_Angeles:20220818T173000
DTEND;TZID=America/Los_Angeles:20220818T183000
DTSTAMP:20260423T161634
CREATED:20220819T012846Z
LAST-MODIFIED:20220819T012846Z
UID:14437-1660843800-1660847400@www.ayclogic.com
SUMMARY:5:30 PM - Intro to Python - Parna
DESCRIPTION:Today We Do\n\nWe went the homework from last week\nWe went over functions with return values\n\nHomework\n\npgs. 138\, 139
URL:https://www.ayclogic.com/event/530-pm-intro-to-python-parna-28/
END:VEVENT
END:VCALENDAR