BEGIN:VCALENDAR
VERSION:2.0
PRODID:-//American Young Coder - ECPv6.10.1.1//NONSGML v1.0//EN
CALSCALE:GREGORIAN
METHOD:PUBLISH
X-WR-CALNAME:American Young Coder
X-ORIGINAL-URL:https://www.ayclogic.com
X-WR-CALDESC:Events for American Young Coder
REFRESH-INTERVAL;VALUE=DURATION:PT1H
X-Robots-Tag:noindex
X-PUBLISHED-TTL:PT1H
BEGIN:VTIMEZONE
TZID:America/Los_Angeles
BEGIN:DAYLIGHT
TZOFFSETFROM:-0800
TZOFFSETTO:-0700
TZNAME:PDT
DTSTART:20220313T100000
END:DAYLIGHT
BEGIN:STANDARD
TZOFFSETFROM:-0700
TZOFFSETTO:-0800
TZNAME:PST
DTSTART:20221106T090000
END:STANDARD
END:VTIMEZONE
BEGIN:VEVENT
DTSTART;TZID=America/Los_Angeles:20220819T170000
DTEND;TZID=America/Los_Angeles:20220819T180000
DTSTAMP:20260423T161530
CREATED:20220820T010944Z
LAST-MODIFIED:20220820T010944Z
UID:14442-1660928400-1660932000@www.ayclogic.com
SUMMARY:5 PM – Scratch 1 – Yitong
DESCRIPTION:What we did today:\n\nFinished the Spiralizer project.\n\nHomework:\n\nWhen the player presses the Space bar on the keyboard\, delete the clones and erase everything the pen drew on the screen.
URL:https://www.ayclogic.com/event/5-pm-scratch-1-yitong-2/
CATEGORIES:Scratch Class,Scratch Class Level 1
END:VEVENT
BEGIN:VEVENT
DTSTART;TZID=America/Los_Angeles:20220819T170000
DTEND;TZID=America/Los_Angeles:20220819T180000
DTSTAMP:20260423T161530
CREATED:20220820T025219Z
LAST-MODIFIED:20220820T025219Z
UID:14448-1660928400-1660932000@www.ayclogic.com
SUMMARY:5 PM - Python OOP - Bill
DESCRIPTION:Today We:\n\nLearned about classes\nLearned about instances of the class\nLearned about methods\n\nYour HW:\n\nCreate a new file called “Aug_19_ClassesHW2”\nPage 162 – TRY IT YOURSELF\nPage 163 to Page 166 – copy code to Thonny and run it.
URL:https://www.ayclogic.com/event/5-pm-python-oop-bill-19/
END:VEVENT
BEGIN:VEVENT
DTSTART;TZID=America/Los_Angeles:20220819T173000
DTEND;TZID=America/Los_Angeles:20220819T183000
DTSTAMP:20260423T161530
CREATED:20220820T014527Z
LAST-MODIFIED:20220820T014527Z
UID:14444-1660930200-1660933800@www.ayclogic.com
SUMMARY:5:30 PM - Intro to Python - Alex W.
DESCRIPTION:Today we did:\n\nGetting user input with the input function\nConverting user input to a number\nAdding to variables with +=\nIntro to lists\nIndexing lists\nGetting the length of lists\n\nHomework:\n\nRead pages 114-116\nComplete Try it yourself 7-1\,7-2\n\nIf you have any questions\, you can email me at alexwalburg@ayclogic.com
URL:https://www.ayclogic.com/event/530-pm-intro-to-python-alex-w-2/
END:VEVENT
BEGIN:VEVENT
DTSTART;TZID=America/Los_Angeles:20220819T190000
DTEND;TZID=America/Los_Angeles:20220819T200000
DTSTAMP:20260423T161530
CREATED:20220820T051701Z
LAST-MODIFIED:20220820T051722Z
UID:14452-1660935600-1660939200@www.ayclogic.com
SUMMARY:7 PM - Python Game Development - Gamas
DESCRIPTION:Today We Did\n\nWe continued with Flappy Bird project. We made sure the Flappy Bird cannot jump when in falling mode.\nWhen user click the Play button\, the location of the bird is reset back to 100\,100.\nWhen user click the Play button\, the player.fall_speed is reset back to 0.\n\nHomework\n\nContinue with your team project according to your team google project doc.
URL:https://www.ayclogic.com/event/7-pm-python-game-development-gamas-5/
CATEGORIES:Python Class,Python Game Development
END:VEVENT
END:VCALENDAR