BEGIN:VCALENDAR
VERSION:2.0
PRODID:-//American Young Coder - ECPv6.10.1.1//NONSGML v1.0//EN
CALSCALE:GREGORIAN
METHOD:PUBLISH
X-ORIGINAL-URL:https://www.ayclogic.com
X-WR-CALDESC:Events for American Young Coder
REFRESH-INTERVAL;VALUE=DURATION:PT1H
X-Robots-Tag:noindex
X-PUBLISHED-TTL:PT1H
BEGIN:VTIMEZONE
TZID:America/Los_Angeles
BEGIN:DAYLIGHT
TZOFFSETFROM:-0800
TZOFFSETTO:-0700
TZNAME:PDT
DTSTART:20220313T100000
END:DAYLIGHT
BEGIN:STANDARD
TZOFFSETFROM:-0700
TZOFFSETTO:-0800
TZNAME:PST
DTSTART:20221106T090000
END:STANDARD
END:VTIMEZONE
BEGIN:VEVENT
DTSTART;TZID=America/Los_Angeles:20220824T170000
DTEND;TZID=America/Los_Angeles:20220824T180000
DTSTAMP:20260423T161819
CREATED:20220824T235115Z
LAST-MODIFIED:20220831T235106Z
UID:14533-1661360400-1661364000@www.ayclogic.com
SUMMARY:5 PM – Scratch Level 1 – Allison
DESCRIPTION:Today we:\n\nReviewed and remade another version of the Animal Crossing project\nCoded the Mouse and Bear sprites to move\nCreated the Banner sprite and coded it to hide\nCoded the Mouse sprite to say “hello” after reaching the right edge\nCoded the Banner sprite to show up after the Bear sprite reaches the left edge\nAdded a background\n\nHomework:\n\nAdd a Dot sprite and a Star sprite\nCode the Star sprite to hide when the game starts.\nCode the Dot sprite to start from the bottom edge when the game starts\, and then code it to walk to the top edge. Code the Dot sprite to have a walking animation.\nWhen the Dot sprite reaches the top edge\, code the Star sprite to show up. \nAdd a Bat sprite.\nCode the Bat sprite to start from the top edge when the game starts\, and then code it to fly to the bottom edge. Code the Bat sprite to have a flying animation.\nWhen the Bat sprite reaches the bottom edge\, code the Bat sprite say “Hello everyone!” \nContact us at gamas@ayclogic.com or allison@ayclogic.com if you have any questions or need any help.
URL:https://www.ayclogic.com/event/5-pm-scratch-level-1-allison-35/
CATEGORIES:Scratch Class,Scratch Class Level 1
END:VEVENT
BEGIN:VEVENT
DTSTART;TZID=America/Los_Angeles:20220824T170000
DTEND;TZID=America/Los_Angeles:20220824T180000
DTSTAMP:20260423T161819
CREATED:20220826T232058Z
LAST-MODIFIED:20220827T045559Z
UID:14554-1661360400-1661364000@www.ayclogic.com
SUMMARY:5 PM - Scratch 2 - Abigail
DESCRIPTION:What we did today\n\nWe started working on the Cheese Chase project.\nWe made our maze.\nWe added controls to our mouse\, using our own blocks.\n\nHomework\n\nMake another maze/costume into the Maze sprite\, that maze is going to be for our Level 2. (Make the maze slightly easier than the first maze.)\nAdd a gradient background of whatever colors you want.
URL:https://www.ayclogic.com/event/5-pm-scratch-2-abigail-3/
CATEGORIES:Scratch Class,Scratch Class Level 2
END:VEVENT
BEGIN:VEVENT
DTSTART;TZID=America/Los_Angeles:20220824T180000
DTEND;TZID=America/Los_Angeles:20220824T190000
DTSTAMP:20260423T161819
CREATED:20220826T203715Z
LAST-MODIFIED:20220826T203930Z
UID:14535-1661364000-1661367600@www.ayclogic.com
SUMMARY:6 PM - Intro To Python - Gamas
DESCRIPTION:Today We Did\n\nWe continued with Robux System. We added purchase_item function to eliminate code duplication.\nWe keep track robux_spent by creating a new variable.\n\nHomework\n\nContinue with Robux system\, add a feature to keep track of items purchased that are less than 200 robux. Look at the example below\n\nWhat do you want to do: \n1. Buy hat 100 Robux\n2. Buy hair 150 Robux\n3. VIP Server 500 Robux\n4. Add more Robux\n5. Exit\nEnter your selection: 4\nHow much robux you want to add: 1000\nYour robux balance is now 1300\n\nWhat do you want to do: \n1. Buy hat 100 Robux\n2. Buy hair 150 Robux\n3. VIP Server 500 Robux\n4. Add more Robux\n5. Exit\nEnter your selection: 1\nYou purchased a Hat\, you have 1200 robux remaining\n\nWhat do you want to do: \n1. Buy hat 100 Robux\n2. Buy hair 150 Robux\n3. VIP Server 500 Robux\n4. Add more Robux\n5. Exit\nEnter your selection: 3\nYou purchased a VIP Server\, you have 700 robux remaining\n\nWhat do you want to do: \n1. Buy hat 100 Robux\n2. Buy hair 150 Robux\n3. VIP Server 500 Robux\n4. Add more Robux\n5. Exit\nEnter your selection: 5\n\nYou have purchased the following items:\nHat\nVip Server\n\nThese are items that you purchased that are less than 200 robux: \nHat\n\nYour remaining robux is 700 robux.\n\nYou have spent 600 robux.
URL:https://www.ayclogic.com/event/6-pm-intro-to-python-gamas-20/
CATEGORIES:Python Class,Python Level 1
END:VEVENT
BEGIN:VEVENT
DTSTART;TZID=America/Los_Angeles:20220824T180000
DTEND;TZID=America/Los_Angeles:20220824T200000
DTSTAMP:20260423T161819
CREATED:20220825T031134Z
LAST-MODIFIED:20220825T031134Z
UID:14539-1661364000-1661371200@www.ayclogic.com
SUMMARY:Competitive Programming
DESCRIPTION:Homework: \n\nhttps://docs.google.com/presentation/d/1uaxoYlgTNEkjh7UTQTbejzZuRgHl5J3EPfQSntV-YcA/edit#slide=id.g14433beda7b_0_523\nhttps://docs.google.com/presentation/d/1uaxoYlgTNEkjh7UTQTbejzZuRgHl5J3EPfQSntV-YcA/edit#slide=id.g14433beda7b_0_533\n\nPlease send email to aaron@ayclogic.com if you have issue accessing the slide. \n 
URL:https://www.ayclogic.com/event/competitive-programming-2/
END:VEVENT
BEGIN:VEVENT
DTSTART;TZID=America/Los_Angeles:20220824T190000
DTEND;TZID=America/Los_Angeles:20220824T200000
DTSTAMP:20260423T161819
CREATED:20220825T025933Z
LAST-MODIFIED:20220825T025933Z
UID:14537-1661367600-1661371200@www.ayclogic.com
SUMMARY:7 PM Intro To Java - Alexander Lee
DESCRIPTION:Today We Did:\n\nToday we finished up the School System using Map project by going through adding\, listing\, and finding the Teacher.\nWe also went through how to fix errors and the two different types of errors which are syntax errors and runtime errors.\n\nFor Homework:\n\nCreate a new project which is titled WED7PM_EmailApplication\nIn the project\, create two files\, one is going to be EmailMainApplication and the other will be EmailAccount.\nIn the EmailAccount\, make sure to have 3 attributes which will be name\, password\, and email.\nThe EmailAccount should have a constructor and also have all the getters and setters.\nIn the EmailMainApplication\, make sure to create a new variable which is the menu which is posted below.\nThere should be a forever loop to continuously print the menu to the user and get the user response.\nAdd in the exit for when you enter 4.\n\nprivate String menu = """\n        \nPlease select one of the item below:\n        1. Create new email account\n        2. Login\n        3. List all email accounts.\n        4. Exit\n        Please make your selection (1-4): """;
URL:https://www.ayclogic.com/event/7-pm-intro-to-java-alexander-lee-3/
CATEGORIES:Introduction To Java,Java
END:VEVENT
BEGIN:VEVENT
DTSTART;TZID=America/Los_Angeles:20220824T190000
DTEND;TZID=America/Los_Angeles:20220824T200000
DTSTAMP:20260423T161819
CREATED:20220825T031911Z
LAST-MODIFIED:20220825T032012Z
UID:14542-1661367600-1661371200@www.ayclogic.com
SUMMARY:7PM - Intro to Python - Latisha
DESCRIPTION:Today We Did\n\nFinished kaleidospiral\nStarted Grocery Shopping Cart\n\nHomework\n\nContinue working on final project\, Due September 7\nExtra Credit: Combine robot builder and kaleidospiral like in the example below. First 2 people to email me their solutions will get 5% on final test. Make sure that it looks exactly like the photo below (the colors of the kaleidospiral don’t have to be exactly the same\, but make sure that there are at least 5 colors)\n\n \nIf you have any questions\, please send an email to latisha@ayclogic.com
URL:https://www.ayclogic.com/event/7pm-intro-to-python-latisha-10/
END:VEVENT
END:VCALENDAR