BEGIN:VCALENDAR
VERSION:2.0
PRODID:-//American Young Coder - ECPv6.10.1.1//NONSGML v1.0//EN
CALSCALE:GREGORIAN
METHOD:PUBLISH
X-WR-CALNAME:American Young Coder
X-ORIGINAL-URL:https://www.ayclogic.com
X-WR-CALDESC:Events for American Young Coder
REFRESH-INTERVAL;VALUE=DURATION:PT1H
X-Robots-Tag:noindex
X-PUBLISHED-TTL:PT1H
BEGIN:VTIMEZONE
TZID:America/Los_Angeles
BEGIN:DAYLIGHT
TZOFFSETFROM:-0800
TZOFFSETTO:-0700
TZNAME:PDT
DTSTART:20220313T100000
END:DAYLIGHT
BEGIN:STANDARD
TZOFFSETFROM:-0700
TZOFFSETTO:-0800
TZNAME:PST
DTSTART:20221106T090000
END:STANDARD
END:VTIMEZONE
BEGIN:VEVENT
DTSTART;TZID=America/Los_Angeles:20220825T170000
DTEND;TZID=America/Los_Angeles:20220825T180000
DTSTAMP:20260423T172524
CREATED:20220826T005857Z
LAST-MODIFIED:20220826T005857Z
UID:14548-1661446800-1661450400@www.ayclogic.com
SUMMARY:5 PM - Python Game Development - Gamas
DESCRIPTION:Homework\n\nMake sure the bug can appear from left or right side of the screen. This is very similar to the Bird sprite in the dragon-birdie project.\nIf you have not done it\, kill the bug when it is off the screen. Also do the same thing for balloon sprites.\nWhen we pop the bug\, right now\, the bad balloon also gets destroy. We have to change the code\, so we avoid destroying bad balloons.
URL:https://www.ayclogic.com/event/5-pm-python-game-development-gamas-8/
CATEGORIES:Python Class,Python Game Development
END:VEVENT
BEGIN:VEVENT
DTSTART;TZID=America/Los_Angeles:20220825T173000
DTEND;TZID=America/Los_Angeles:20220825T183000
DTSTAMP:20260423T172524
CREATED:20220826T014249Z
LAST-MODIFIED:20220826T014249Z
UID:14551-1661448600-1661452200@www.ayclogic.com
SUMMARY:5:30 PM - Intro to Python - Parna
DESCRIPTION:Today We Do\n\nStudents want more review on functions\nWent over more examples of functions with return value\n\nHomework\n\nDo all the problems on this link (CLICK LINK): https://www.ayclogic.com/list-inputs-if-and-else-loops-and-function/
URL:https://www.ayclogic.com/event/530-pm-intro-to-python-parna-30/
END:VEVENT
END:VCALENDAR