BEGIN:VCALENDAR
VERSION:2.0
PRODID:-//American Young Coder - ECPv6.10.1.1//NONSGML v1.0//EN
CALSCALE:GREGORIAN
METHOD:PUBLISH
X-WR-CALNAME:American Young Coder
X-ORIGINAL-URL:https://www.ayclogic.com
X-WR-CALDESC:Events for American Young Coder
REFRESH-INTERVAL;VALUE=DURATION:PT1H
X-Robots-Tag:noindex
X-PUBLISHED-TTL:PT1H
BEGIN:VTIMEZONE
TZID:America/Los_Angeles
BEGIN:DAYLIGHT
TZOFFSETFROM:-0800
TZOFFSETTO:-0700
TZNAME:PDT
DTSTART:20220313T100000
END:DAYLIGHT
BEGIN:STANDARD
TZOFFSETFROM:-0700
TZOFFSETTO:-0800
TZNAME:PST
DTSTART:20221106T090000
END:STANDARD
END:VTIMEZONE
BEGIN:VEVENT
DTSTART;TZID=America/Los_Angeles:20220827T090000
DTEND;TZID=America/Los_Angeles:20220827T100000
DTSTAMP:20260423T161634
CREATED:20220827T171319Z
LAST-MODIFIED:20220831T210808Z
UID:14572-1661590800-1661594400@www.ayclogic.com
SUMMARY:9AM - Intro to Python - Saagar
DESCRIPTION:Today we did:\n\nReview for the quiz with trivia style questions:\n\nwent over variables and the different types\nstring concatenation\, f-strings\, string functions\nif\, elif\, else statements\, the different operators like ==\, !=\, <\, >\, <=\, >= as well as and\, or\, not\ngetting input from the user\nconverting using cast functions like str()\, int()\, float()\ncreating lists and indexing into them\n\n\n\nAnnouncement\nThere is no class on September 3rd because of Labor Day weekend. Please look at this page for list of observed holidays for my school: https://www.ayclogic.com/observed-holidays/class will resume on September 10th. \nHomework\n\nCreate python file called “August27_WhileLoopAndReviewHomework.py” and do Page 123-124 TRY IT YOURSELF 7-4\, 7-5\, 7-6\, 7-7.\nHere is also the review worksheet for the quiz: https://www.ayclogic.com/intro-to-python-exercises. As mentioned in class\, try timing yourself and doing the entire quiz without any outside help/resources to get an accurate gauge of how you’re doing. Outside of this\, I highly suggest studding and reviewing on your own all the concepts. The better you study now\, the better you’ll do on the quiz. Study hard now and you’ll do amazing on the quiz. Try your best and feel free to ask any questions you have :).
URL:https://www.ayclogic.com/event/9am-intro-to-python-saagar-5/
CATEGORIES:Python Class,Python Level 1
END:VEVENT
BEGIN:VEVENT
DTSTART;TZID=America/Los_Angeles:20220827T090000
DTEND;TZID=America/Los_Angeles:20220827T100000
DTSTAMP:20260423T161634
CREATED:20220827T180257Z
LAST-MODIFIED:20220827T180257Z
UID:14574-1661590800-1661594400@www.ayclogic.com
SUMMARY:SAT - 9 AM - Intro To Java - Gamas
DESCRIPTION:Today We Did\n\nWe finished Monster Inheritance project.\nWe downloaded and install Android studio.\nWe started Android App – Temperature Converter project.\n\nHomework\n\nNo homework.\nNext week is labor day weekend\, so no class.
URL:https://www.ayclogic.com/event/sat-9-am-intro-to-java-gamas/
CATEGORIES:Introduction To Java,Java
END:VEVENT
BEGIN:VEVENT
DTSTART;TZID=America/Los_Angeles:20220827T100000
DTEND;TZID=America/Los_Angeles:20220827T110000
DTSTAMP:20260423T161634
CREATED:20220827T043752Z
LAST-MODIFIED:20220827T044828Z
UID:14561-1661594400-1661598000@www.ayclogic.com
SUMMARY:10 AM - Indo - Intro To Python - Gamas
DESCRIPTION:Today We Did\n\nWe learned about String data type.\nWe learned about 3 String built-in functions: lower()\, upper()\, title()\nWe learned how to combine String together using Python “f” formatter.\n\nHomework\n\nIf you did not do your homework last week\, please do it.\nCreate Aug26_StringHomework2.py file in Thonny.\nDo page 25. TRY IT YOURSELF : 2-3\,2-4\, 2-5 . If you don’t have the book\, for now you can look at this: page25Python\nHomework is due Friday night. You need to upload your python files to your assigned google drive. You need to have gmail account to upload to google drive.
URL:https://www.ayclogic.com/event/10-am-indo-intro-to-python-gamas-2/
CATEGORIES:Python Class,Python Level 1
END:VEVENT
BEGIN:VEVENT
DTSTART;TZID=America/Los_Angeles:20220827T100000
DTEND;TZID=America/Los_Angeles:20220827T110000
DTSTAMP:20260423T161634
CREATED:20220827T182813Z
LAST-MODIFIED:20220827T182813Z
UID:14576-1661594400-1661598000@www.ayclogic.com
SUMMARY:10 AM - Minecraft Modding with Java - Gamas
DESCRIPTION:Today We Did\n\nWe started creating a new custom Entity Hog.\nWe created Hog texture skin.\nWe learned that HogModel class is generated by BlockBench application.\n\nHomework\n\nNext week (09/03) is labor day weekend so no class next week.\nIn your IntelliJ go to Navigate menu > Class > Class > type in GhastEntity and then press enter. Study in this GhastEntity class\, what actions can this GhastEntity do? to know what GhastEntity can do\, you have to know its goals.
URL:https://www.ayclogic.com/event/10-am-minecraft-modding-with-java-gamas-6/
CATEGORIES:Java,Minecraft Modding With Java
END:VEVENT
BEGIN:VEVENT
DTSTART;TZID=America/Los_Angeles:20220827T130000
DTEND;TZID=America/Los_Angeles:20220827T140000
DTSTAMP:20260423T161634
CREATED:20220827T205332Z
LAST-MODIFIED:20220902T212528Z
UID:14578-1661605200-1661608800@www.ayclogic.com
SUMMARY:1 PM Intro To Java - Alexander Lee
DESCRIPTION:Today We Did:\n\nWe continued with the EmailApplication and were able to finish the project.\nWe were able to figure out the issue of why there was only one email at a time on the list.\n\nFor Homework:\n\nMake sure to take this practice quiz before Friday this week since I will need to grade it.\nThere is actually no class next week due to labor day weekend!\n\n 
URL:https://www.ayclogic.com/event/1-pm-intro-to-java-alexander-lee-6/
CATEGORIES:Introduction To Java,Java
END:VEVENT
BEGIN:VEVENT
DTSTART;TZID=America/Los_Angeles:20220827T140000
DTEND;TZID=America/Los_Angeles:20220827T150000
DTSTAMP:20260423T161634
CREATED:20220827T215745Z
LAST-MODIFIED:20220827T215745Z
UID:14583-1661608800-1661612400@www.ayclogic.com
SUMMARY:2 PM - Intro to Python - Gamas
DESCRIPTION:Homework\n\nCreate Aug27_ForLoopListHW.py\nCopy code from page 55.\nDo page 56 TRY IT YOURSELF: 4-1\, 4-2
URL:https://www.ayclogic.com/event/2-pm-intro-to-python-gamas-19/
CATEGORIES:Python Class,Python Level 1
END:VEVENT
BEGIN:VEVENT
DTSTART;TZID=America/Los_Angeles:20220827T150000
DTEND;TZID=America/Los_Angeles:20220827T160000
DTSTAMP:20260423T161634
CREATED:20220827T225512Z
LAST-MODIFIED:20220827T230129Z
UID:14585-1661612400-1661616000@www.ayclogic.com
SUMMARY:3 PM - Intro To Python -  Sebastian
DESCRIPTION:Today We Did\n\nWe learned about Integer\, Float\, String\, Boolean\nWe learned how to combine String together using + and \,\n\nHomework\n\nCreate a new python file Aug27_StringHomework.py in Thonny.\nCopy codes from page 20 to 23. IntroToPythonP20toP23\nIf you have question to you can email to sebastian@ayclogic.com.\nNo class on Sept 3\, see you in Sept 10.
URL:https://www.ayclogic.com/event/3-pm-intro-to-python-sebastian/
CATEGORIES:Python Class,Python Level 1
END:VEVENT
BEGIN:VEVENT
DTSTART;TZID=America/Los_Angeles:20220827T160000
DTEND;TZID=America/Los_Angeles:20220827T170000
DTSTAMP:20260423T161634
CREATED:20220828T001216Z
LAST-MODIFIED:20220903T005710Z
UID:14592-1661616000-1661619600@www.ayclogic.com
SUMMARY:4 PM - Python Game Development
DESCRIPTION:Today: \n\nWe added collision detection between the player and the bird.\nWe added a new page the landing page when the game is loaded\, and switched to the game in session page when the user left clicks.\nWe added logic so when the player collides with a bird it switches back to the landing page.\n\nHomework: \n\nAdd a logo above the play button.\n\nAdd logic so when a fireball collides with a bird\, both sprites are removed from the screen.\n\nNOTE: There is no class next week (9/3) because of the Labor Day weekend.
URL:https://www.ayclogic.com/event/4-pm-python-game-development-18/
CATEGORIES:Python Game Development
END:VEVENT
BEGIN:VEVENT
DTSTART;TZID=America/Los_Angeles:20220827T160000
DTEND;TZID=America/Los_Angeles:20220827T170000
DTSTAMP:20260423T161634
CREATED:20220828T024720Z
LAST-MODIFIED:20220828T024720Z
UID:14600-1661616000-1661619600@www.ayclogic.com
SUMMARY:4 PM - Android Game Development - Gamas
DESCRIPTION:Today We Did\n\nWe continued with Birdie Mobile game.\nWe started adding Credit page.\n\nHomework\n\nNext week is labor day weekend (09/03) no class. The class will resume on 09/10 at 12 noon.\nAdded credits information on CREDIT page like below
URL:https://www.ayclogic.com/event/4-pm-android-game-development-gamas/
CATEGORIES:Android Game Development,Java
END:VEVENT
BEGIN:VEVENT
DTSTART;TZID=America/Los_Angeles:20220827T163000
DTEND;TZID=America/Los_Angeles:20220827T173000
DTSTAMP:20260423T161634
CREATED:20220902T161721Z
LAST-MODIFIED:20220902T215305Z
UID:14729-1661617800-1661621400@www.ayclogic.com
SUMMARY:4:30 PM - Scratch Level 1 - Allison
DESCRIPTION:Today we:\n\nThere was no class this week.\n\nImportant Note:\n\nTo observe the Labor day weekend\, the school will be closed from Saturday 9/3 to Monday 9/5. Our next class will be on Saturday 9/10.\n\nHomework:\n\nNo homework this week.\nContact us if you have any questions or need any help.
URL:https://www.ayclogic.com/event/430-pm-scratch-level-1-allison-8/
CATEGORIES:Scratch Class,Scratch Class Level 1
END:VEVENT
BEGIN:VEVENT
DTSTART;TZID=America/Los_Angeles:20220827T180000
DTEND;TZID=America/Los_Angeles:20220827T190000
DTSTAMP:20260423T161634
CREATED:20220828T020738Z
LAST-MODIFIED:20220828T022417Z
UID:14595-1661623200-1661626800@www.ayclogic.com
SUMMARY:6 PM - Python OOP - Bill
DESCRIPTION:Gamas subs \nToday We Did\n\nWe reviewed Pizza class homework.\nWe started converting Aug16_ShoppingCartSystemV2.py into Aug27_ShoppingCartSystemV3.py using GroceryItem class. The code that we did in the class can be found in here.\n\nHomework\n\nNext week is labor day weekend (09/03) no class\, class resume on 09/10.\nPage 167\, TRY IT YOURSELF: 9-4\, 9-5. You first have to do page 162 before you can do page 167.
URL:https://www.ayclogic.com/event/6-pm-python-oop-bill-5/
CATEGORIES:OOP Python
END:VEVENT
BEGIN:VEVENT
DTSTART;TZID=America/Los_Angeles:20220827T190000
DTEND;TZID=America/Los_Angeles:20220827T200000
DTSTAMP:20260423T161634
CREATED:20220828T031403Z
LAST-MODIFIED:20220828T031403Z
UID:14606-1661626800-1661630400@www.ayclogic.com
SUMMARY:7 PM - Digital Illustration - Abigail
DESCRIPTION:What we did today\n\nWe started working on the Unicorn drawing.\nWe finished the sketch.\nWe started working on the lineart.\n\nHomework\n\nFinish drawing the lineart.\nAdd the eyes\, nose\, and tail. (Wings are optional!)
URL:https://www.ayclogic.com/event/7-pm-digital-illustration-abigail-6/
CATEGORIES:Beginner Digital Illustration,Digital Illustration
END:VEVENT
END:VCALENDAR