BEGIN:VCALENDAR
VERSION:2.0
PRODID:-//American Young Coder - ECPv6.10.1.1//NONSGML v1.0//EN
CALSCALE:GREGORIAN
METHOD:PUBLISH
X-WR-CALNAME:American Young Coder
X-ORIGINAL-URL:https://www.ayclogic.com
X-WR-CALDESC:Events for American Young Coder
REFRESH-INTERVAL;VALUE=DURATION:PT1H
X-Robots-Tag:noindex
X-PUBLISHED-TTL:PT1H
BEGIN:VTIMEZONE
TZID:America/Los_Angeles
BEGIN:DAYLIGHT
TZOFFSETFROM:-0800
TZOFFSETTO:-0700
TZNAME:PDT
DTSTART:20220313T100000
END:DAYLIGHT
BEGIN:STANDARD
TZOFFSETFROM:-0700
TZOFFSETTO:-0800
TZNAME:PST
DTSTART:20221106T090000
END:STANDARD
END:VTIMEZONE
BEGIN:VEVENT
DTSTART;TZID=America/Los_Angeles:20220829T170000
DTEND;TZID=America/Los_Angeles:20220829T180000
DTSTAMP:20260423T145302
CREATED:20220831T060857Z
LAST-MODIFIED:20220902T010824Z
UID:14674-1661792400-1661796000@www.ayclogic.com
SUMMARY:5 PM - Intro To Python - Bill
DESCRIPTION:Today We:\n\nStarted the More Shapes project\nLearned how to draw circles\nCreated a Face Function\nLearned how to draw slanted rectangles\n\nYour HW:\n\nContinue to work on your Turtle Projects\n\nDue on 9/26\n\n\nNo Class Next Week (9/5)
URL:https://www.ayclogic.com/event/5-pm-intro-to-python-bill-13/
END:VEVENT
BEGIN:VEVENT
DTSTART;TZID=America/Los_Angeles:20220829T180000
DTEND;TZID=America/Los_Angeles:20220829T190000
DTSTAMP:20260423T145302
CREATED:20220830T020703Z
LAST-MODIFIED:20220830T020754Z
UID:14648-1661796000-1661799600@www.ayclogic.com
SUMMARY:6PM - Digital Illustration 2
DESCRIPTION:MONDAY \nToday we continued the Rengoku project. \nToday we did: \n\nFinished the sketch – sketch of the sword on a new layer using the straight ruler and transforming a slight bend to the sword.\nAdded a new FOLDER named “Sketch 2” and put in all the sketch layers inside.\nDecreased the opacity of “Sketch” Folder to 20% and opacity of “Sketch 2” Folder to 30%\nAdded a new layer to start drawing the lines.\nDrew lines for Rengoku’s face\, cloak\, belt\, and start of the hair. NOTE: Notice the thickness of the lines is different depending on if it is the outside or inside part of the drawing.\n\n \nHOMEWORK \n\nPlease finish the lines for his hair and cloak.
URL:https://www.ayclogic.com/event/6pm-digital-illustration-2-14/
CATEGORIES:Digital Illustration,Intermediate Digital Illustration
END:VEVENT
END:VCALENDAR