BEGIN:VCALENDAR
VERSION:2.0
PRODID:-//American Young Coder - ECPv6.10.1.1//NONSGML v1.0//EN
CALSCALE:GREGORIAN
METHOD:PUBLISH
X-ORIGINAL-URL:https://www.ayclogic.com
X-WR-CALDESC:Events for American Young Coder
REFRESH-INTERVAL;VALUE=DURATION:PT1H
X-Robots-Tag:noindex
X-PUBLISHED-TTL:PT1H
BEGIN:VTIMEZONE
TZID:America/Los_Angeles
BEGIN:DAYLIGHT
TZOFFSETFROM:-0800
TZOFFSETTO:-0700
TZNAME:PDT
DTSTART:20220313T100000
END:DAYLIGHT
BEGIN:STANDARD
TZOFFSETFROM:-0700
TZOFFSETTO:-0800
TZNAME:PST
DTSTART:20221106T090000
END:STANDARD
END:VTIMEZONE
BEGIN:VEVENT
DTSTART;TZID=America/Los_Angeles:20220830T170000
DTEND;TZID=America/Los_Angeles:20220830T180000
DTSTAMP:20260423T145631
CREATED:20220831T013004Z
LAST-MODIFIED:20220831T013004Z
UID:14657-1661878800-1661882400@www.ayclogic.com
SUMMARY:5PM - Intro to Python - Alex W.
DESCRIPTION:Today we did\n\nHomework review for new students:\n\nF-Strings\nWhitespace\nEscape characters\nInput\n\n\nLists\n\nCreation\nIndexing\nGetting the size with len\n\n\n\nHomework\n\nIn file Aug30_tell_me_your_age.py: Follow the main instructions under the first bullet point in https://www.ayclogic.com/tell-me-your-age/\nYou can stop at the line “After you are done with number 1\, put the entire program inside a forever loop.” as we do not know how to make loops yet\nIf you have not done the two previous homework assignments yet\, this is your chance to complete them\n\nIf you have any questions about this\, don’t hesitate to email me at alexwalburg@ayclogic.com
URL:https://www.ayclogic.com/event/5pm-intro-to-python-alex-w/
END:VEVENT
BEGIN:VEVENT
DTSTART;TZID=America/Los_Angeles:20220830T170000
DTEND;TZID=America/Los_Angeles:20220830T190000
DTSTAMP:20260423T145631
CREATED:20220831T060730Z
LAST-MODIFIED:20220831T060730Z
UID:14672-1661878800-1661886000@www.ayclogic.com
SUMMARY:5 PM - Python OOP - Bill
DESCRIPTION:Today We:\n\nDid the final exam\n\nYour HW:\n\nNone
URL:https://www.ayclogic.com/event/5-pm-python-oop-bill-21/
END:VEVENT
BEGIN:VEVENT
DTSTART;TZID=America/Los_Angeles:20220830T173000
DTEND;TZID=America/Los_Angeles:20220830T183000
DTSTAMP:20260423T145631
CREATED:20220831T031802Z
LAST-MODIFIED:20220831T031802Z
UID:14669-1661880600-1661884200@www.ayclogic.com
SUMMARY:5:30 PM - Intro To Python - Parna
DESCRIPTION:Gamas subs \nToday We Did\n\nWe had our 2nd quiz today.\n\nHomework\n\nNo homework next week
URL:https://www.ayclogic.com/event/530-pm-intro-to-python-parna-31/
CATEGORIES:Python Class,Python Level 1
END:VEVENT
BEGIN:VEVENT
DTSTART;TZID=America/Los_Angeles:20220830T180000
DTEND;TZID=America/Los_Angeles:20220830T190000
DTSTAMP:20260423T145631
CREATED:20220831T022611Z
LAST-MODIFIED:20220831T022949Z
UID:14659-1661882400-1661886000@www.ayclogic.com
SUMMARY:6 PM – Scratch 2 – Yitong
DESCRIPTION:Today we:\n\nAdded code to delete the FireballPowerUp clones when they get near the bottom of the screen.\n\nHomework:\n\nAdd code to delete the BombPowerUp clones when they get near the bottom of the screen. DO NOT USE “IF TOUCHING EDGE“.\nMake the GameOver sprite. DO NOT DO THE CODE FOR IT.\n\n\nEmail me if you need help: idyllicalyssum@gmail.com
URL:https://www.ayclogic.com/event/6-pm-scratch-2-yitong-5/
CATEGORIES:Scratch Class,Scratch Class Level 2
END:VEVENT
BEGIN:VEVENT
DTSTART;TZID=America/Los_Angeles:20220830T183000
DTEND;TZID=America/Los_Angeles:20220830T193000
DTSTAMP:20260423T145631
CREATED:20220831T220701Z
LAST-MODIFIED:20220831T220823Z
UID:14676-1661884200-1661887800@www.ayclogic.com
SUMMARY:6:30 PM - Scratch Level 1 - Allison
DESCRIPTION:Today we:\n\nContinued the Dino Dance project\nLearned about the “repeat 10” code\nAdded a Ballerina sprite\nCoded the Ballerina sprite to look like the sprite is dancing by switching costumes\n\nImportant Reminders:\n\nThere are new homework rules. After you finish your homework in Scratch\, you have to send an email the night before the day of the class.\nSince our class is on Tuesday\, send an email to allison@ayclogic.com by Monday at 8 PM. In that email\, write down your name and a link to your shared Scratch project homework. Make sure to share your Scratch project.\n\nHomework:\n\nRead and do the codes in the section “Might as well jump!” in Scratch book pg. 47 . Please do the codes in the same project we did in class.\nIf you do not have the book\, please use this link to view the pages: Scratch Pg. 47.\nMake sure your email is confirmed in Scratch so you can share your projects.\nIf you do not have the image below in your notes\, please copy the image on a piece of paper and save it for your notes.\nContact us at gamas@ayclogic.com or allison@ayclogic.com if you have any questions or need any help.\n\n \n 
URL:https://www.ayclogic.com/event/630-pm-scratch-level-1-allison-3/
CATEGORIES:Scratch Class,Scratch Class Level 1
END:VEVENT
BEGIN:VEVENT
DTSTART;TZID=America/Los_Angeles:20220830T190000
DTEND;TZID=America/Los_Angeles:20220830T200000
DTSTAMP:20260423T145631
CREATED:20220831T031526Z
LAST-MODIFIED:20220831T031538Z
UID:14666-1661886000-1661889600@www.ayclogic.com
SUMMARY:7 PM - 3D Animation Beginner
DESCRIPTION:Today we do:\n\nUse reference to create a pose to pose animation\nCreate a running animation for running and jump animation.\n\nHomework:\nContinue working on the other half of the posing animation. \nremember the posing is like a mirror from the first half that we did.
URL:https://www.ayclogic.com/event/7-pm-3d-animation-beginner-9/
END:VEVENT
END:VCALENDAR