BEGIN:VCALENDAR
VERSION:2.0
PRODID:-//American Young Coder - ECPv6.10.1.1//NONSGML v1.0//EN
CALSCALE:GREGORIAN
METHOD:PUBLISH
X-WR-CALNAME:American Young Coder
X-ORIGINAL-URL:https://www.ayclogic.com
X-WR-CALDESC:Events for American Young Coder
REFRESH-INTERVAL;VALUE=DURATION:PT1H
X-Robots-Tag:noindex
X-PUBLISHED-TTL:PT1H
BEGIN:VTIMEZONE
TZID:America/Los_Angeles
BEGIN:DAYLIGHT
TZOFFSETFROM:-0800
TZOFFSETTO:-0700
TZNAME:PDT
DTSTART:20220313T100000
END:DAYLIGHT
BEGIN:STANDARD
TZOFFSETFROM:-0700
TZOFFSETTO:-0800
TZNAME:PST
DTSTART:20221106T090000
END:STANDARD
END:VTIMEZONE
BEGIN:VEVENT
DTSTART;TZID=America/Los_Angeles:20220910T090000
DTEND;TZID=America/Los_Angeles:20220910T100000
DTSTAMP:20260423T145438
CREATED:20220910T165728Z
LAST-MODIFIED:20220910T165807Z
UID:14863-1662800400-1662804000@www.ayclogic.com
SUMMARY:9 AM - Intro To Java - Gamas
DESCRIPTION:Homework\n\nContinue on your Android Temperature Converter project.\nAdd “Celcius” header on top right of the app. Change the id to “convertedTempHeader”.\nUnderneath\, add a text field. Change the id to “convertedTextField”.
URL:https://www.ayclogic.com/event/9-am-intro-to-java-gamas-16/
CATEGORIES:Introduction To Java,Java
END:VEVENT
BEGIN:VEVENT
DTSTART;TZID=America/Los_Angeles:20220910T090000
DTEND;TZID=America/Los_Angeles:20220910T100000
DTSTAMP:20260423T145438
CREATED:20220910T170808Z
LAST-MODIFIED:20220910T170808Z
UID:14867-1662800400-1662804000@www.ayclogic.com
SUMMARY:9AM - Intro to Python - Saagar
DESCRIPTION:Today we did:\n\nWent over the review sheet in depth\nTrivia style questions for more practice for the quiz\n\nHomework\n\nStudy for the quiz!!! I strongly recommend doing practice problems and using the notes from today’s class when we went over review sheet to study. If you are able to do the problems on the review sheet comfortably\, you will do well on the quiz. Study hard now and it’ll pay off later!!! As always\, if you have questions\, feel free to email me. GOOD LUCK!!!
URL:https://www.ayclogic.com/event/9am-intro-to-python-saagar-6/
CATEGORIES:Python Class,Python Level 1
END:VEVENT
BEGIN:VEVENT
DTSTART;TZID=America/Los_Angeles:20220910T100000
DTEND;TZID=America/Los_Angeles:20220910T110000
DTSTAMP:20260423T145438
CREATED:20220910T040943Z
LAST-MODIFIED:20220917T041727Z
UID:14859-1662804000-1662807600@www.ayclogic.com
SUMMARY:10 AM - Indo - Intro To Python - Gamas
DESCRIPTION:Homework\n\nIf you did not do your homework last week or 2 weeks ago or 3 weeks ago\, please do them.\nCreate a new file Sep10_IfElseHomework2.py\nAnswer questions from page 84 and 85: TRY IT YOURSELF 5-3\, 5-4\, 5-5\, 5-6\, 5-7\nSubmit your homework to google drive on Friday night.
URL:https://www.ayclogic.com/event/10-am-indo-intro-to-python-gamas-4/
CATEGORIES:Python Class,Python Level 1
END:VEVENT
BEGIN:VEVENT
DTSTART;TZID=America/Los_Angeles:20220910T120000
DTEND;TZID=America/Los_Angeles:20220910T130000
DTSTAMP:20260423T145438
CREATED:20220910T235543Z
LAST-MODIFIED:20220910T235543Z
UID:14870-1662811200-1662814800@www.ayclogic.com
SUMMARY:12 PM - Android Game Development - Gamas
DESCRIPTION:Homework\n\nContinue on Birdie Mobile game.\nIn main_activity.xml\, add the setting button (using gear.png image).\nWhen this button is clicked\, bring to SettingActivity. This is very similar to when you click the Credit button.
URL:https://www.ayclogic.com/event/12-pm-android-game-development-gamas/
END:VEVENT
BEGIN:VEVENT
DTSTART;TZID=America/Los_Angeles:20220910T130000
DTEND;TZID=America/Los_Angeles:20220910T140000
DTSTAMP:20260423T145438
CREATED:20220916T214016Z
LAST-MODIFIED:20220916T214016Z
UID:14970-1662814800-1662818400@www.ayclogic.com
SUMMARY:1 PM Intro To Java - Alex Lee
DESCRIPTION:Today We Did:\n\nWe reviewed the practice test that you guys did over the week for homework.\nGot through half of the questions and the rest will be covered next week.\n\nFor Homework:\n\nThere is no homework unless you were unable to finish the practice quiz\, make sure to go back and try to figure out how to do it yourself.
URL:https://www.ayclogic.com/event/1-pm-intro-to-java-alex-lee-3/
CATEGORIES:Introduction To Java,Java
END:VEVENT
BEGIN:VEVENT
DTSTART;TZID=America/Los_Angeles:20220910T140000
DTEND;TZID=America/Los_Angeles:20220910T150000
DTSTAMP:20260423T145438
CREATED:20220910T232253Z
LAST-MODIFIED:20220910T232253Z
UID:14876-1662818400-1662822000@www.ayclogic.com
SUMMARY:2 PM – Intro To Python – Sebastian
DESCRIPTION:Today We Did\n\nString functionalities:  .title()\, .upper()\, .lower()\nFormatted strings: f””\nRemoving end spaces: .rstrip()\, .lstrip()\, .strip()\n\nHomework\n\nCreate a new Python file SEP10_StringHomework2.py in Thonny.\nOn page 25\, try the following by yourself: 2-3\, 2-4\, 2-5\, and 2-6\nIf you have questions\, you can email me: sebastian@ayclogic.com
URL:https://www.ayclogic.com/event/2-pm-intro-to-python-sebastian/
CATEGORIES:Python Class,Python Level 1
END:VEVENT
BEGIN:VEVENT
DTSTART;TZID=America/Los_Angeles:20220910T140000
DTEND;TZID=America/Los_Angeles:20220910T150000
DTSTAMP:20260423T145438
CREATED:20220911T222628Z
LAST-MODIFIED:20220911T222628Z
UID:14897-1662818400-1662822000@www.ayclogic.com
SUMMARY:2 PM - Intro To Python - Gamas
DESCRIPTION:Today We Did\n\nWe learned about For Loop in Range.\nWe learned about While Loop\nWe learned about +=\, -=\, *=\, /= shortcuts\n\nHomework\n\nCreate Sep10_WhileLoopHomework.py\nInside the file copy codes from page 118 to 121.\nAlso do TRY IT YOURSELF from page 123: 7-4 and 7-5.\nCreate Sep10_StudentTestScoresSystem.py and do the python exercise from https://www.ayclogic.com/student-scores/
URL:https://www.ayclogic.com/event/2-pm-intro-to-python-gamas-20/
CATEGORIES:Python Class,Python Level 1
END:VEVENT
BEGIN:VEVENT
DTSTART;TZID=America/Los_Angeles:20220910T150000
DTEND;TZID=America/Los_Angeles:20220910T160000
DTSTAMP:20260423T145438
CREATED:20220910T232508Z
LAST-MODIFIED:20220910T232508Z
UID:14879-1662822000-1662825600@www.ayclogic.com
SUMMARY:3 PM – Intro To Python – Sebastian
DESCRIPTION:Today We Did\n\nString functionalities:  .title()\, .upper()\, .lower()\nFormatted strings: f””\nEscape keys: \n \t\n\nHomework\n\nCreate a new Python file SEP10_StringHomework2.py in Thonny.\nOn page 25\, try the following by yourself: 2-3\, 2-4\, 2-5\, and 2-6\nIf you have questions\, you can email me: sebastian@ayclogic.com
URL:https://www.ayclogic.com/event/3-pm-intro-to-python-sebastian-3/
CATEGORIES:Python Class,Python Level 1
END:VEVENT
BEGIN:VEVENT
DTSTART;TZID=America/Los_Angeles:20220910T160000
DTEND;TZID=America/Los_Angeles:20220910T170000
DTSTAMP:20260423T145438
CREATED:20220913T054053Z
LAST-MODIFIED:20220913T054053Z
UID:14910-1662825600-1662829200@www.ayclogic.com
SUMMARY:4PM - Python Game Development - Latisha
DESCRIPTION:Today: \n\nAdd logo to landing page\nAdd score text\nWorked on logic to make play button clickable\n\nHomework: \n\nShow clouds and birds on the landing page\n\nIf you have any questions\, please send an email to latisha@ayclogic.com
URL:https://www.ayclogic.com/event/4pm-python-game-development-latisha-5/
END:VEVENT
BEGIN:VEVENT
DTSTART;TZID=America/Los_Angeles:20220910T163000
DTEND;TZID=America/Los_Angeles:20220910T173000
DTSTAMP:20260423T145438
CREATED:20220912T001901Z
LAST-MODIFIED:20220912T001901Z
UID:14903-1662827400-1662831000@www.ayclogic.com
SUMMARY:4:30 PM - Scratch Level 2 - Allison
DESCRIPTION:Today we:\n\nReviewed the Final Test\nStarted the Spaceship 2.0 project\nAdded the Fireball sprite\nChanged the direction the Fireball sprite is facing\nCreated a Fireball clone when the space key is pressed\nCoded the Fireball clone to go to the Rocketship when it is created\nCoded the Fireball clone to go up after it is created\nCoded the Fireball clone to delete when it reaches the top edge\n\nHomework:\n\nAdd a Lightning Sprite\nCode the Rocketship sprite to create a clone of the Lightning sprite when the “b” key is pressed\nCode the Lightning clone to go to the Rocketship when it is created\nCode the Lightning clone to go up after it is created\nCode the Lightning clone to delete when it reaches the top edge\nContact us if you have any questions or need any help.
URL:https://www.ayclogic.com/event/430-pm-scratch-level-2-allison/
CATEGORIES:Scratch Class,Scratch Class Level 2
END:VEVENT
BEGIN:VEVENT
DTSTART;TZID=America/Los_Angeles:20220910T180000
DTEND;TZID=America/Los_Angeles:20220910T190000
DTSTAMP:20260423T145438
CREATED:20220911T021956Z
LAST-MODIFIED:20220911T021956Z
UID:14884-1662832800-1662836400@www.ayclogic.com
SUMMARY:5 PM - Minecraft Modding with Java - Gamas
DESCRIPTION:Today We Did\n\nWe started doing Saturn Sword custom weapon. But we were stuck\, we were not able to display the Saturn Sword in the combat section properly.\n\nHomework\n\nFix the Saturn Sword not displayed properly by doing the following.\n\nGo to this file resources/assets/aycessentials/models/items/saturn_sword.json\nChange from “layers0” to “layer0”.\nChange from “aycessentials:items/saturn_sword.png” into “aycessentials:items/saturn_sword”.\nRerun your minecraft program and see if you can see your custom sword now.\nIf you can see it\, then equip the sword to your player and see if you can kill powerful enemy by summoning let say wither skeleton. Type this to summon whither “/summon minecraft:whither_skeleton.” . Count how many hit it take to kill whither skeleton using Saturn Sword. After this\, get Nether Sword from your inventory\, summon whiter skeleton again and see how many hit it takes you to kill this enemy.
URL:https://www.ayclogic.com/event/5-pm-minecraft-modding-with-java-gamas/
CATEGORIES:Minecraft Modding With Java
END:VEVENT
BEGIN:VEVENT
DTSTART;TZID=America/Los_Angeles:20220910T180000
DTEND;TZID=America/Los_Angeles:20220910T190000
DTSTAMP:20260423T145438
CREATED:20220912T010720Z
LAST-MODIFIED:20220912T010720Z
UID:14905-1662832800-1662836400@www.ayclogic.com
SUMMARY:6 PM - Python OOP - Bill
DESCRIPTION:Today We:\n\nReviewed the Homework\nContinued the Shopping cart V3 project\nAdded the items to the list instead of the name\nFinished the Shopping Cart V3 project\n\nYour HW:\n\nCreate a new file called Sep_10_ClassHW4\nCreate a Robot class with the following attributes:\n\nName – String\nAction- String\nBattery – Integer between (0 to 100) default starts at 0\n\n\nGive the Robot class a method called charge with 1 parameter: energy\n\nWhen called\, it will add energy to the battery attribute of the robot\nMake it so the battery cannot go above 100 (if the battery amount goes over 100\, the battery attribute is set to 100 after adding energy to battery)\n\n\nGive the class a method called Perform_Action that does the following:\n\nSubtract a random number (1-10) from battery attribute\nPrints out statement like this: “<name> robot completes the action: <action> – Battery Remaining: (<battery> / 100 )”\n\n\nCreate an empty list called garage\nFill the garage list with 3 robot instances\nLoop through each Robot and fully charge them all
URL:https://www.ayclogic.com/event/6-pm-python-oop-bill-6/
END:VEVENT
BEGIN:VEVENT
DTSTART;TZID=America/Los_Angeles:20220910T190000
DTEND;TZID=America/Los_Angeles:20220910T200000
DTSTAMP:20260423T145438
CREATED:20220911T031941Z
LAST-MODIFIED:20220911T031941Z
UID:14886-1662836400-1662840000@www.ayclogic.com
SUMMARY:7 PM - Digital Illustration - Abigail
DESCRIPTION:What we did today\n\nWe continued to work on the Unicorn/Alicorn drawing.\nWe added the base colors.\nWe colored in details for the mane.\nWe darkened the hooves\, wings\, and ears\, with an airbrush.\n\nHomework\n\nMake a new layer and clip it on the base color layer.\nChange the blending mode to “add”.\nAdd little sparkles\, hearts\, stars\, etc. onto the darkened areas. Use “Dip Pen (Soft)”.
URL:https://www.ayclogic.com/event/7-pm-digital-illustration-abigail-7/
CATEGORIES:Beginner Digital Illustration,Digital Illustration
END:VEVENT
END:VCALENDAR