BEGIN:VCALENDAR
VERSION:2.0
PRODID:-//American Young Coder - ECPv6.10.1.1//NONSGML v1.0//EN
CALSCALE:GREGORIAN
METHOD:PUBLISH
X-ORIGINAL-URL:https://www.ayclogic.com
X-WR-CALDESC:Events for American Young Coder
REFRESH-INTERVAL;VALUE=DURATION:PT1H
X-Robots-Tag:noindex
X-PUBLISHED-TTL:PT1H
BEGIN:VTIMEZONE
TZID:America/Los_Angeles
BEGIN:DAYLIGHT
TZOFFSETFROM:-0800
TZOFFSETTO:-0700
TZNAME:PDT
DTSTART:20220313T100000
END:DAYLIGHT
BEGIN:STANDARD
TZOFFSETFROM:-0700
TZOFFSETTO:-0800
TZNAME:PST
DTSTART:20221106T090000
END:STANDARD
END:VTIMEZONE
BEGIN:VEVENT
DTSTART;TZID=America/Los_Angeles:20220921T050000
DTEND;TZID=America/Los_Angeles:20220921T180000
DTSTAMP:20260423T145648
CREATED:20220922T191032Z
LAST-MODIFIED:20220922T191433Z
UID:15120-1663736400-1663783200@www.ayclogic.com
SUMMARY:5 PM – Scratch Level 1 – Allison
DESCRIPTION:Today we:\n\nFinished the Birthday Card project\nStarted the Customized Birthday Card project\nAdded a background\nAdded the Arrow1 and Arrow2 sprites\nCoded the Arrow1 and Arrow2 sprites to move towards the Button sprite\nCoded the Arrow1 and Arrow2 sprites to show when the Green Flag is clicked\nCoded the Arrow1 and Arrow2 sprites to hide when the Button sprite is clicked\n\nHomework:\n\nFor this project\, please take two pictures of yourself. Please also take two pictures of someone else like your guardian. Make sure these pictures are saved on the device you are using for Scratch. Please ask someone for help if needed.\nUpload one picture of yourself as the Shark 1 sprite.\nUpload the other picture of yourself as the Shark 2 sprite.\nUpload the picture of the other person as the Button sprite.\nUpload the other picture of the other person as the Cake sprite.\nContact us if you have any questions or need any help.
URL:https://www.ayclogic.com/event/5-pm-scratch-level-1-allison-39/
CATEGORIES:Scratch Class,Scratch Class Level 1
END:VEVENT
BEGIN:VEVENT
DTSTART;TZID=America/Los_Angeles:20220921T170000
DTEND;TZID=America/Los_Angeles:20220921T180000
DTSTAMP:20260423T145648
CREATED:20220922T013347Z
LAST-MODIFIED:20220922T013347Z
UID:15088-1663779600-1663783200@www.ayclogic.com
SUMMARY:5 PM - Scratch 2 - Abigail
DESCRIPTION:What we did today\n\nWe finished working on the Fantastic Flower project.\nWe started working on the List Tutorial Project.\n\nHomework\n\nAlter the project so you only like swimming\, talking\, and python. For the rest of the activities\, change them to “I don’t like”.\nI forgot the mention this during class\, but rename your project to “List Tutorial”.\n\n(If you need help with homework\, email me at abigail@ayclogic.com.)
URL:https://www.ayclogic.com/event/5-pm-scratch-2-abigail-7/
CATEGORIES:Scratch Class,Scratch Class Level 2
END:VEVENT
BEGIN:VEVENT
DTSTART;TZID=America/Los_Angeles:20220921T170000
DTEND;TZID=America/Los_Angeles:20220921T180000
DTSTAMP:20260423T145648
CREATED:20220927T202134Z
LAST-MODIFIED:20220928T211614Z
UID:15208-1663779600-1663783200@www.ayclogic.com
SUMMARY:5PM - Digital Illustration 3
DESCRIPTION:WEDNESDAY \nToday we continued the Tanjiro and Nezuko project. \nToday we did: \n\nFixed Tanjiro’s arm in the sketch\nContinued Nezuko’s lines\n\n \nHOMEWORK \n\nIf you are behind\, check last week’s homework\nOn a new layer\, start to sketch the characters you chose onto the stick figures you drew last time.\n\n ->
URL:https://www.ayclogic.com/event/5pm-digital-illustration-3-18/
CATEGORIES:Digital Illustration,Intermediate Digital Illustration
END:VEVENT
BEGIN:VEVENT
DTSTART;TZID=America/Los_Angeles:20220921T180000
DTEND;TZID=America/Los_Angeles:20220921T200000
DTSTAMP:20260423T145648
CREATED:20220922T031136Z
LAST-MODIFIED:20220922T031136Z
UID:15090-1663783200-1663790400@www.ayclogic.com
SUMMARY:Competitive Programming
DESCRIPTION:Homework: \nImplement Graph with \n\nDictionary(this is what I implemented in class)\nList of Edges(this is the first way of represent we discussed in class\, you can assume weight is always 1)\n\nFollowing methods are required to be implemented: \nget_edges(): return all edges \nget_nodes(): return all nodes \nget_connected_nodes(node1): return all nodes connected with node1 \ndelete_edge(node1\, node2): delete the node between node1 and node2 \n  \n  \n  \n 
URL:https://www.ayclogic.com/event/competitive-programming-5/
END:VEVENT
BEGIN:VEVENT
DTSTART;TZID=America/Los_Angeles:20220921T190000
DTEND;TZID=America/Los_Angeles:20220921T200000
DTSTAMP:20260423T145648
CREATED:20220923T061547Z
LAST-MODIFIED:20220923T061547Z
UID:15138-1663786800-1663790400@www.ayclogic.com
SUMMARY:7 PM WED Intro To Java - Alexander Lee
DESCRIPTION:Today We Did:\n\nWe continued with the EmailApplication and were able to finish the project.\nWe were able to figure out the issue of why there was only one email at a time on the list.\n\nFor Homework:\n\nMake sure to take this practice quiz before Friday this week since I will need to grade it.
URL:https://www.ayclogic.com/event/7-pm-wed-intro-to-java-alexander-lee/
CATEGORIES:Introduction To Java,Java
END:VEVENT
BEGIN:VEVENT
DTSTART;TZID=America/Los_Angeles:20220921T190000
DTEND;TZID=America/Los_Angeles:20220921T200000
DTSTAMP:20260423T145648
CREATED:20220925T040401Z
LAST-MODIFIED:20220925T040434Z
UID:15182-1663786800-1663790400@www.ayclogic.com
SUMMARY:7PM - Intro to Python - Latisha
DESCRIPTION:Today: \n\nTook final test\n\nHomework: \n\nNone\n\nIf you have any questions\, please send an email to latisha@ayclogic.com
URL:https://www.ayclogic.com/event/15182/
END:VEVENT
END:VCALENDAR