BEGIN:VCALENDAR
VERSION:2.0
PRODID:-//American Young Coder - ECPv6.10.1.1//NONSGML v1.0//EN
CALSCALE:GREGORIAN
METHOD:PUBLISH
X-ORIGINAL-URL:https://www.ayclogic.com
X-WR-CALDESC:Events for American Young Coder
REFRESH-INTERVAL;VALUE=DURATION:PT1H
X-Robots-Tag:noindex
X-PUBLISHED-TTL:PT1H
BEGIN:VTIMEZONE
TZID:America/Los_Angeles
BEGIN:DAYLIGHT
TZOFFSETFROM:-0800
TZOFFSETTO:-0700
TZNAME:PDT
DTSTART:20220313T100000
END:DAYLIGHT
BEGIN:STANDARD
TZOFFSETFROM:-0700
TZOFFSETTO:-0800
TZNAME:PST
DTSTART:20221106T090000
END:STANDARD
END:VTIMEZONE
BEGIN:VEVENT
DTSTART;TZID=America/Los_Angeles:20220923T170000
DTEND;TZID=America/Los_Angeles:20220923T180000
DTSTAMP:20260423T145800
CREATED:20220924T032409Z
LAST-MODIFIED:20221001T000536Z
UID:15147-1663952400-1663956000@www.ayclogic.com
SUMMARY:5 PM – Scratch 1 – Yitong
DESCRIPTION:Today we:\n\nMade the Birthday Cake sprite play music when the button is pressed.\nMade the two Shark sprites sing when the music is played.\nMade the two Shark sprites switch costumes when they sing.\nMade a Banner sprite.\nMade the Banner sprite glide in from the corner and tilt from left to right.\n\nHomework:\n\nSave a picture of yourself and your mom. Make sure you have it ready for next Friday!\n\nEmail your homework: yitong@ayclogic.com\nMr. Gamas’ email: gamas@ayclogic.com
URL:https://www.ayclogic.com/event/5-pm-scratch-1-yitong-7/
CATEGORIES:Scratch Class,Scratch Class Level 1
END:VEVENT
BEGIN:VEVENT
DTSTART;TZID=America/Los_Angeles:20220923T173000
DTEND;TZID=America/Los_Angeles:20220923T183000
DTSTAMP:20260423T145800
CREATED:20220924T024318Z
LAST-MODIFIED:20220924T024318Z
UID:15142-1663954200-1663957800@www.ayclogic.com
SUMMARY:5:30 PM - Python Game Development - Bill
DESCRIPTION:Today We:\n\nCreated GitLab accounts\nConnected Pycharm to GitLab project\nStarted the dragon_birdie project\nConfigured pycharm\nLearned about constant variables (FPS\, WIDTH\, HEIGHT)\nLearned how to add images onto the screen\n\nYour HW:\n\nNone
URL:https://www.ayclogic.com/event/530-pm-python-game-development-bill/
END:VEVENT
BEGIN:VEVENT
DTSTART;TZID=America/Los_Angeles:20220923T173000
DTEND;TZID=America/Los_Angeles:20220923T183000
DTSTAMP:20260423T145800
CREATED:20220924T215137Z
LAST-MODIFIED:20220924T215137Z
UID:15160-1663954200-1663957800@www.ayclogic.com
SUMMARY:5:30PM - Intro To Python - Alex W.
DESCRIPTION:Today We Do\n\nReviewed rules for quiz(Postponed until the week after next week)\n\nThe quiz will be on October 14th\n\n\nPracticed finding where the error is based off of an error\nReviewed questions 1-5 of the homework problems\n\nHomework\n\nComplete any questions you did not finish in last weeks homework\nIf you want additional problems\, here are some optional challenge questions: https://drive.google.com/file/d/1SMr_ui1DnPc3OCgUgIeYCMg3L4wXoIbT/view?usp=sharing\n\nIf you have any questions\, you can email me at alexwalburg@ayclogic.com
URL:https://www.ayclogic.com/event/530pm-intro-to-python-alex-w-3/
END:VEVENT
BEGIN:VEVENT
DTSTART;TZID=America/Los_Angeles:20220923T190000
DTEND;TZID=America/Los_Angeles:20220923T200000
DTSTAMP:20260423T145800
CREATED:20220924T023451Z
LAST-MODIFIED:20220924T025643Z
UID:15140-1663959600-1663963200@www.ayclogic.com
SUMMARY:7 PM - Python Game Development - Gamas
DESCRIPTION:Homework\n\nAdd background sound in Flappy Bird: “assets/sound/Happy Baby.wav”\nAdd sound effect when bird collide with tube: “assets/sound/plop.wav”\nMake credit button bigger when you hover your mouse.\nContinue with your team project look at the google doc
URL:https://www.ayclogic.com/event/7-pm-python-game-development-gamas-8/
END:VEVENT
END:VCALENDAR