BEGIN:VCALENDAR
VERSION:2.0
PRODID:-//American Young Coder - ECPv6.10.1.1//NONSGML v1.0//EN
CALSCALE:GREGORIAN
METHOD:PUBLISH
X-WR-CALNAME:American Young Coder
X-ORIGINAL-URL:https://www.ayclogic.com
X-WR-CALDESC:Events for American Young Coder
REFRESH-INTERVAL;VALUE=DURATION:PT1H
X-Robots-Tag:noindex
X-PUBLISHED-TTL:PT1H
BEGIN:VTIMEZONE
TZID:America/Los_Angeles
BEGIN:DAYLIGHT
TZOFFSETFROM:-0800
TZOFFSETTO:-0700
TZNAME:PDT
DTSTART:20220313T100000
END:DAYLIGHT
BEGIN:STANDARD
TZOFFSETFROM:-0700
TZOFFSETTO:-0800
TZNAME:PST
DTSTART:20221106T090000
END:STANDARD
END:VTIMEZONE
BEGIN:VEVENT
DTSTART;TZID=America/Los_Angeles:20220924T090000
DTEND;TZID=America/Los_Angeles:20220924T100000
DTSTAMP:20260423T145437
CREATED:20220924T165722Z
LAST-MODIFIED:20220924T165722Z
UID:15151-1664010000-1664013600@www.ayclogic.com
SUMMARY:9 AM - Intro To Java - Gamas
DESCRIPTION:Today We Did\n\nWe continued with Temperature Converter Android app project.\nWe get Fahrenheit from one text field\, converted into Celcius and set it to another text field.\nWe added the spinner for conversion option.\nWe made some text fields bold and bigger.\n\nHomework\n\nNo homework
URL:https://www.ayclogic.com/event/9-am-intro-to-java-gamas-18/
CATEGORIES:Introduction To Java,Java
END:VEVENT
BEGIN:VEVENT
DTSTART;TZID=America/Los_Angeles:20220924T090000
DTEND;TZID=America/Los_Angeles:20220924T100000
DTSTAMP:20260423T145437
CREATED:20220924T170811Z
LAST-MODIFIED:20220930T020452Z
UID:15153-1664010000-1664013600@www.ayclogic.com
SUMMARY:9AM - Intro to Python - Saagar Mahadev
DESCRIPTION:Today we did:\n\nReviewed the quiz in detail and went over common mistakes and how to prevent them in the future\nIntroduced functions with no return values – how to call define them\, call them\, use parameters\, why they’re useful\n\nHomework\n\nHomework: 130\, 131 (TRY IT YOURSELF)\, 132
URL:https://www.ayclogic.com/event/9am-intro-to-python-saagar-mahadev/
CATEGORIES:Python Class,Python Level 1
END:VEVENT
BEGIN:VEVENT
DTSTART;TZID=America/Los_Angeles:20220924T100000
DTEND;TZID=America/Los_Angeles:20220924T110000
DTSTAMP:20260423T145437
CREATED:20220924T040654Z
LAST-MODIFIED:20220924T040654Z
UID:15149-1664013600-1664017200@www.ayclogic.com
SUMMARY:10 AM - Intro To Python - Indo - Gamas
DESCRIPTION:Homework\n\nCreate Sep24_InputFromShellHomework2.py’\nDo  TRY IT YOURSELF from page 117: 7-1 and 7-2.\nTo do 7-2\, you have to look at example in page 116 with the “How tall are you\, in inches?”
URL:https://www.ayclogic.com/event/10-am-intro-to-python-indo-gamas/
END:VEVENT
BEGIN:VEVENT
DTSTART;TZID=America/Los_Angeles:20220924T100000
DTEND;TZID=America/Los_Angeles:20220924T110000
DTSTAMP:20260423T145437
CREATED:20220924T181552Z
LAST-MODIFIED:20220924T181552Z
UID:15156-1664013600-1664017200@www.ayclogic.com
SUMMARY:10 AM - Minecraft Modding with Java - Gamas
DESCRIPTION:Today We Did\n\nWe reviewed how we added our custom Modded Entity.\nWe started creating a new Modded Entity from block bench.\n\nHomework\n\nMake your new Modded entity in block bench better with better texture and color.
URL:https://www.ayclogic.com/event/10-am-minecraft-modding-with-java-gamas-8/
END:VEVENT
BEGIN:VEVENT
DTSTART;TZID=America/Los_Angeles:20220924T140000
DTEND;TZID=America/Los_Angeles:20220924T150000
DTSTAMP:20260423T145437
CREATED:20220924T215752Z
LAST-MODIFIED:20220927T235834Z
UID:15162-1664028000-1664031600@www.ayclogic.com
SUMMARY:2 PM – Intro To Python – Sebastian
DESCRIPTION:Today We Did\n\nLearned how to get input from the shell: input()\nLearned how to add part of one string to another (+=)\nReviewed if\, elif\, else\n\nHomework\n\nHomework due in Google Drive Friday night before class\nCreate a new Python file SEP24_IfElseHomework.py in Thonny.\nPage 84\, 5-3\, 5-4\nNumber 3 only from https://www.ayclogic.com/list-inputs-if-and-else-loops-and-function/
URL:https://www.ayclogic.com/event/2-pm-intro-to-python-sebastian-3/
CATEGORIES:Python Class,Python Level 1
END:VEVENT
BEGIN:VEVENT
DTSTART;TZID=America/Los_Angeles:20220924T140000
DTEND;TZID=America/Los_Angeles:20220924T150000
DTSTAMP:20260423T145437
CREATED:20220925T012628Z
LAST-MODIFIED:20220925T012628Z
UID:15171-1664028000-1664031600@www.ayclogic.com
SUMMARY:2 PM - Intro To Python - Gamas
DESCRIPTION:Today We Did\n\nWe reviewed the 1st quiz result.\nWe learned how to add Python dependency PyVCF3 module.\nWe learned how to read VCF file.\n\nHomework\n\nCreate Sep24_PythonHomework.py\nDo question #1\, #2\, #3 only from https://www.ayclogic.com/list-inputs-if-and-else-loops-and-function/\nDo question #9 and #10 from https://www.ayclogic.com/intro-to-python-exercises/
URL:https://www.ayclogic.com/event/2-pm-intro-to-python-gamas-21/
CATEGORIES:Python Class,Python Level 1
END:VEVENT
BEGIN:VEVENT
DTSTART;TZID=America/Los_Angeles:20220924T150000
DTEND;TZID=America/Los_Angeles:20220924T160000
DTSTAMP:20260423T145437
CREATED:20220924T231036Z
LAST-MODIFIED:20220927T235826Z
UID:15167-1664031600-1664035200@www.ayclogic.com
SUMMARY:3 PM – Intro To Python – Sebastian
DESCRIPTION:Today We Did\n\nLearned how to get input from the shell: input()\nLearned how to add part of one string to another (+=)\nReviewed if\, elif\, else\n\nHomework\n\nHomework due in Google Drive Friday night before class\nCreate a new Python file SEP24_IfElseHomework.py in Thonny.\nPage 84\, 5-3\, 5-4\nNumber 3 only from https://www.ayclogic.com/list-inputs-if-and-else-loops-and-function/
URL:https://www.ayclogic.com/event/3-pm-intro-to-python-sebastian-5/
CATEGORIES:Python Class,Python Level 1
END:VEVENT
BEGIN:VEVENT
DTSTART;TZID=America/Los_Angeles:20220924T160000
DTEND;TZID=America/Los_Angeles:20220924T170000
DTSTAMP:20260423T145437
CREATED:20220925T035759Z
LAST-MODIFIED:20220925T035759Z
UID:15178-1664035200-1664038800@www.ayclogic.com
SUMMARY:4PM - Python Game Development - Latisha
DESCRIPTION:Today: \n\nEmptied bird and fireball groups when the game resets\nCreated Giant Fireball\n\nHomework: \n\nFix the giant fireball so when the player’s direction is RIGHT\, the fireball is still shooting from the front of the player.\n\nIf you have any questions\, please send an email to latisha@ayclogic.com
URL:https://www.ayclogic.com/event/4pm-python-game-development-latisha-7/
END:VEVENT
BEGIN:VEVENT
DTSTART;TZID=America/Los_Angeles:20220924T163000
DTEND;TZID=America/Los_Angeles:20220924T173000
DTSTAMP:20260423T145437
CREATED:20220926T083415Z
LAST-MODIFIED:20220926T083415Z
UID:15187-1664037000-1664040600@www.ayclogic.com
SUMMARY:4:30 PM – Scratch Level 2 – Allison
DESCRIPTION:Today we:\n\nContinued the Spaceship 2.0 project\nAdded codes to the Bomb clones\nCoded the Asteroid clone to delete if it touches the Fireball clone\nCoded the Fireball clone to delete if it touches the Asteroid clone\nCreated a variable called “Bomb” to keep track of how many bombs the player has left\nAdded codes so that the player can use a bomb only if the Bomb variable is greater than 0\nAdded codes so that the player has two bombs to use when the game starts\n\nHomework:\n\nCode the Asteroid clone to delete if it touches the Bomb clone\nCode the Bomb clone to delete if it touches the Asteroid clone\nContact us if you have any questions or need any help.
URL:https://www.ayclogic.com/event/430-pm-scratch-level-2-allison-3/
CATEGORIES:Scratch Class,Scratch Class Level 2
END:VEVENT
BEGIN:VEVENT
DTSTART;TZID=America/Los_Angeles:20220924T170000
DTEND;TZID=America/Los_Angeles:20220924T180000
DTSTAMP:20260423T145437
CREATED:20220925T005817Z
LAST-MODIFIED:20220925T005817Z
UID:15169-1664038800-1664042400@www.ayclogic.com
SUMMARY:5 PM - Minecraft Modding with Java - Gamas
DESCRIPTION:Homework\n\nSimilar to how we create SaturnFireball Axe\, we want to create Jupiter Dragon Fireball Axe.\nCreate JupiterDragonFireballAxe.java\, put it in the same directory as the SaturnFireballAxe.java.\nMake a copy of saturn_fireball_axe.png into jupiter_axe.png and change the texture using fire alpaca or photoshop.\nAnd follow other stuff that you guys did for the SaturnFireballAxe.java.\nIf you did it correctly\, then when you hold this jupiter axe and do right click\, you will be able to launch a purple and black and purple dragon fireball.
URL:https://www.ayclogic.com/event/5-pm-minecraft-modding-with-java-gamas-3/
END:VEVENT
BEGIN:VEVENT
DTSTART;TZID=America/Los_Angeles:20220924T180000
DTEND;TZID=America/Los_Angeles:20220924T190000
DTSTAMP:20260423T145437
CREATED:20220926T024558Z
LAST-MODIFIED:20220928T060948Z
UID:15185-1664042400-1664046000@www.ayclogic.com
SUMMARY:6 PM - Python OOP - Bill
DESCRIPTION:Today We:\n\nContinued the school application project\nCreated a main application class\nCreated a main loop method\nCreated the add_new_student function\nCreated student_list attribute\n\nYour HW:\n\nCreate a teacher_list attribute in the main application class\nCreate add_new_teacher method like we did for student in class\nMake it so the new method is called when the user enters “5” to the main menu
URL:https://www.ayclogic.com/event/6-pm-python-oop-bill-8/
END:VEVENT
BEGIN:VEVENT
DTSTART;TZID=America/Los_Angeles:20220924T190000
DTEND;TZID=America/Los_Angeles:20220924T200000
DTSTAMP:20260423T145437
CREATED:20220925T031611Z
LAST-MODIFIED:20220925T031611Z
UID:15174-1664046000-1664049600@www.ayclogic.com
SUMMARY:7 PM - Digital Illustration - Abigail
DESCRIPTION:What we did today\n\nWe finished working on the Unicorn drawing.\nWe started working on the Light house drawing.\n\nHomework\n\nShade the rock (remember to shade the reflection too!)\nYou can shade the rock on the same layer. OR make a new layer\, clip it on the rock\, and then later merge the layers.\nUse the eyedropper tool to pick out darker and lighter grays to shade the rock.
URL:https://www.ayclogic.com/event/7-pm-digital-illustration-abigail-9/
CATEGORIES:Beginner Digital Illustration,Digital Illustration
END:VEVENT
END:VCALENDAR