BEGIN:VCALENDAR
VERSION:2.0
PRODID:-//American Young Coder - ECPv6.10.1.1//NONSGML v1.0//EN
CALSCALE:GREGORIAN
METHOD:PUBLISH
X-WR-CALNAME:American Young Coder
X-ORIGINAL-URL:https://www.ayclogic.com
X-WR-CALDESC:Events for American Young Coder
REFRESH-INTERVAL;VALUE=DURATION:PT1H
X-Robots-Tag:noindex
X-PUBLISHED-TTL:PT1H
BEGIN:VTIMEZONE
TZID:America/Los_Angeles
BEGIN:DAYLIGHT
TZOFFSETFROM:-0800
TZOFFSETTO:-0700
TZNAME:PDT
DTSTART:20220313T100000
END:DAYLIGHT
BEGIN:STANDARD
TZOFFSETFROM:-0700
TZOFFSETTO:-0800
TZNAME:PST
DTSTART:20221106T090000
END:STANDARD
END:VTIMEZONE
BEGIN:VEVENT
DTSTART;TZID=America/Los_Angeles:20220926T170000
DTEND;TZID=America/Los_Angeles:20220926T180000
DTSTAMP:20260423T133815
CREATED:20220928T060808Z
LAST-MODIFIED:20220928T060808Z
UID:15238-1664211600-1664215200@www.ayclogic.com
SUMMARY:5 PM - Intro To Python - Bill
DESCRIPTION:Today We: \n\nReviewed Quiz 2\nLearned more about turtle functions for turtle project\n\nYour HW: \n\nContinue to work on your turtle project\n\nDue October 10th (1 week extension)
URL:https://www.ayclogic.com/event/5-pm-intro-to-python-bill-16/
END:VEVENT
BEGIN:VEVENT
DTSTART;TZID=America/Los_Angeles:20220926T180000
DTEND;TZID=America/Los_Angeles:20220926T190000
DTSTAMP:20260423T133815
CREATED:20221002T211249Z
LAST-MODIFIED:20221002T211249Z
UID:15425-1664215200-1664218800@www.ayclogic.com
SUMMARY:6PM - Digital Illustration 2
DESCRIPTION:MONDAY \nToday we continued the Rengoku Project. \nWe did: – Finished the lines and started on the coloring. \nHOMEWORK \nFinish coloring Rengoku in all the flat colors. Below is an example of how much you should have done.
URL:https://www.ayclogic.com/event/6pm-digital-illustration-2-16/
CATEGORIES:Digital Illustration,Intermediate Digital Illustration
END:VEVENT
END:VCALENDAR