BEGIN:VCALENDAR
VERSION:2.0
PRODID:-//American Young Coder - ECPv6.10.1.1//NONSGML v1.0//EN
CALSCALE:GREGORIAN
METHOD:PUBLISH
X-WR-CALNAME:American Young Coder
X-ORIGINAL-URL:https://www.ayclogic.com
X-WR-CALDESC:Events for American Young Coder
REFRESH-INTERVAL;VALUE=DURATION:PT1H
X-Robots-Tag:noindex
X-PUBLISHED-TTL:PT1H
BEGIN:VTIMEZONE
TZID:America/Los_Angeles
BEGIN:DAYLIGHT
TZOFFSETFROM:-0800
TZOFFSETTO:-0700
TZNAME:PDT
DTSTART:20220313T100000
END:DAYLIGHT
BEGIN:STANDARD
TZOFFSETFROM:-0700
TZOFFSETTO:-0800
TZNAME:PST
DTSTART:20221106T090000
END:STANDARD
END:VTIMEZONE
BEGIN:VEVENT
DTSTART;TZID=America/Los_Angeles:20220928T170000
DTEND;TZID=America/Los_Angeles:20220928T180000
DTSTAMP:20260423T132605
CREATED:20220929T011303Z
LAST-MODIFIED:20220929T011303Z
UID:15249-1664384400-1664388000@www.ayclogic.com
SUMMARY:5 PM - Scratch 2 - Abigail
DESCRIPTION:What we did today\n\nWe worked on revising the MHALL project.\nWe used Lists.\nWe added the Happy Birthday song in the project.\n\nHomework\n\nAdd the “Ode to Joy” song to the project. (The music sheet is in “project resources”)\nRemember to make a new list and name it “Ode to Joy”.
URL:https://www.ayclogic.com/event/5-pm-scratch-2-abigail-8/
CATEGORIES:Scratch Class,Scratch Class Level 2
END:VEVENT
BEGIN:VEVENT
DTSTART;TZID=America/Los_Angeles:20220928T170000
DTEND;TZID=America/Los_Angeles:20220928T180000
DTSTAMP:20260423T132605
CREATED:20221002T213655Z
LAST-MODIFIED:20221002T213655Z
UID:15431-1664384400-1664388000@www.ayclogic.com
SUMMARY:5PM - Digital Illustration 3
DESCRIPTION:WEDNESDAY \nToday we continued the Nezuko and Tanjiro project. \nToday we did: \n\nFinished Nezuko’s lines\nStarted on Tanjiro’s lines\n\n \nHOMEWORK \nOn a different layer\, add the complete sketch of your characters. It doesn’t have to be neat\, but it should be helpful to you when we do the lines layer. \nhere is my example below \n->
URL:https://www.ayclogic.com/event/5pm-digital-illustration-3-19/
CATEGORIES:Digital Illustration,Intermediate Digital Illustration
END:VEVENT
BEGIN:VEVENT
DTSTART;TZID=America/Los_Angeles:20220928T170000
DTEND;TZID=America/Los_Angeles:20220928T180000
DTSTAMP:20260423T132605
CREATED:20221004T181356Z
LAST-MODIFIED:20221004T181356Z
UID:15447-1664384400-1664388000@www.ayclogic.com
SUMMARY:5 PM – Scratch Level 1 – Allison
DESCRIPTION:Today we:\n\nContinued the Customized Birthday Card\nReviewed the homework and uploaded pictures as costumes\nChanged where the sprite starts and moves\n\nHomework:\n\nNo homework this week. Enjoy!\nContact us if you have any questions or need any help
URL:https://www.ayclogic.com/event/5-pm-scratch-level-1-allison-40/
CATEGORIES:Scratch Class,Scratch Class Level 1
END:VEVENT
BEGIN:VEVENT
DTSTART;TZID=America/Los_Angeles:20220928T180000
DTEND;TZID=America/Los_Angeles:20220928T190000
DTSTAMP:20260423T132605
CREATED:20220929T021044Z
LAST-MODIFIED:20220929T025035Z
UID:15252-1664388000-1664391600@www.ayclogic.com
SUMMARY:6 PM - Python OOP - Gamas
DESCRIPTION:Today We Did\n\nWe installed Python 3.10\nWe installed Pycharm community edition\nWe started learning about Python dictionary.\n\nHomework\n\nCreate new python file in Pycharm. Sep28_DictionaryHomework.py\nCopy codes from page 92 to 95.
URL:https://www.ayclogic.com/event/6-pm-python-oop-gamas/
CATEGORIES:OOP Python,Python Class
END:VEVENT
BEGIN:VEVENT
DTSTART;TZID=America/Los_Angeles:20220928T190000
DTEND;TZID=America/Los_Angeles:20220928T200000
DTSTAMP:20260423T132605
CREATED:20221004T182922Z
LAST-MODIFIED:20221004T182922Z
UID:15451-1664391600-1664395200@www.ayclogic.com
SUMMARY:7PM - Intro to Python - Latisha
DESCRIPTION:Today: \n\nReviewed final test\n\nHomework: \n\nNone\n\nIf you have any questions\, please send an email to latisha@ayclogic.com
URL:https://www.ayclogic.com/event/7pm-intro-to-python-latisha-14/
END:VEVENT
END:VCALENDAR