BEGIN:VCALENDAR
VERSION:2.0
PRODID:-//American Young Coder - ECPv6.10.1.1//NONSGML v1.0//EN
CALSCALE:GREGORIAN
METHOD:PUBLISH
X-WR-CALNAME:American Young Coder
X-ORIGINAL-URL:https://www.ayclogic.com
X-WR-CALDESC:Events for American Young Coder
REFRESH-INTERVAL;VALUE=DURATION:PT1H
X-Robots-Tag:noindex
X-PUBLISHED-TTL:PT1H
BEGIN:VTIMEZONE
TZID:America/Los_Angeles
BEGIN:DAYLIGHT
TZOFFSETFROM:-0800
TZOFFSETTO:-0700
TZNAME:PDT
DTSTART:20220313T100000
END:DAYLIGHT
BEGIN:STANDARD
TZOFFSETFROM:-0700
TZOFFSETTO:-0800
TZNAME:PST
DTSTART:20221106T090000
END:STANDARD
END:VTIMEZONE
BEGIN:VEVENT
DTSTART;TZID=America/Los_Angeles:20220929T173000
DTEND;TZID=America/Los_Angeles:20220929T183000
DTSTAMP:20260423T132607
CREATED:20220930T020519Z
LAST-MODIFIED:20221001T003202Z
UID:15324-1664472600-1664476200@www.ayclogic.com
SUMMARY:530PM - Intro To Python - Alex W.
DESCRIPTION:Today we Did\n\nContinued to review functions\nReviewed functions with return values\n\nHomework\n\nComplete last weeks homework with this weeks additional knowledge\n\nIf you have any questions\, please reach out to me at alexwalburg@ayclogic.com
URL:https://www.ayclogic.com/event/530pm-intro-to-python-alex-w-4/
END:VEVENT
BEGIN:VEVENT
DTSTART;TZID=America/Los_Angeles:20220929T190000
DTEND;TZID=America/Los_Angeles:20220929T200000
DTSTAMP:20260423T132607
CREATED:20221004T183653Z
LAST-MODIFIED:20221004T183653Z
UID:15453-1664478000-1664481600@www.ayclogic.com
SUMMARY:7PM - OOP Python - Latisha
DESCRIPTION:Today We Did\n\nContinued learning about Classes\n\nHomework\n\nDo pg.167 TRY-IT-YOURSELF and copy pg163-166 in a file called Sept29_ClassHomework2.py\n\nIf you have any questions\, feel free to email me at latisha@ayclogic.com
URL:https://www.ayclogic.com/event/7pm-oop-python-latisha-2/
END:VEVENT
END:VCALENDAR