BEGIN:VCALENDAR
VERSION:2.0
PRODID:-//American Young Coder - ECPv6.10.1.1//NONSGML v1.0//EN
CALSCALE:GREGORIAN
METHOD:PUBLISH
X-WR-CALNAME:American Young Coder
X-ORIGINAL-URL:https://www.ayclogic.com
X-WR-CALDESC:Events for American Young Coder
REFRESH-INTERVAL;VALUE=DURATION:PT1H
X-Robots-Tag:noindex
X-PUBLISHED-TTL:PT1H
BEGIN:VTIMEZONE
TZID:America/Los_Angeles
BEGIN:DAYLIGHT
TZOFFSETFROM:-0800
TZOFFSETTO:-0700
TZNAME:PDT
DTSTART:20220313T100000
END:DAYLIGHT
BEGIN:STANDARD
TZOFFSETFROM:-0700
TZOFFSETTO:-0800
TZNAME:PST
DTSTART:20221106T090000
END:STANDARD
END:VTIMEZONE
BEGIN:VEVENT
DTSTART;TZID=America/Los_Angeles:20221004T173000
DTEND;TZID=America/Los_Angeles:20221004T183000
DTSTAMP:20260423T131805
CREATED:20221005T020838Z
LAST-MODIFIED:20221005T021311Z
UID:15457-1664904600-1664908200@www.ayclogic.com
SUMMARY:5:30 PM – Intro To Python – Richard
DESCRIPTION:Today We Did:\n\nWe finished building our robot with 3 arms by using our left_arm and right_arm functions.\nWe reviewed for loops and then learned how to draw a circle.\n\nCode from class (Oct4_FinishedRobotArms.py): https://drive.google.com/drive/folders/1HS7Vf6hpZPBjnJQyanP75hIa6Krz4YsN \nThe top half contains the code needed to do the homework. The bottom half (commented out) is just the finished robot code in case you want to look at it. \nHomework:\n\nMake a function called “face” that draws a circular face\, 2 circular eyeballs\, 2 circular pupils\, and a rectangle mouth.\n\nPlease make use of the rectangle and circle functions we have created\, and by passing in the face function parameters instead of manually plugging in numbers to the rectangle and circle functions. Think about what parameters our face function should have. See reference below. \n \nPlease email me if you have any questions: richardli@ayclogic.com
URL:https://www.ayclogic.com/event/530-pm-intro-to-python-richard-2/
CATEGORIES:Python Class,Python Level 1
END:VEVENT
BEGIN:VEVENT
DTSTART;TZID=America/Los_Angeles:20221004T173000
DTEND;TZID=America/Los_Angeles:20221004T183000
DTSTAMP:20260423T131805
CREATED:20221005T035813Z
LAST-MODIFIED:20221005T035813Z
UID:15473-1664904600-1664908200@www.ayclogic.com
SUMMARY:5:15PM - Intro To Python - Alex W.
DESCRIPTION:Today We Did\n\nLearned the rules for next weeks quiz\n\n10 questions\nMultiple choice\, fill in the blank\, full code response\nCan use Thonny\, cannot look at old code\n\n\nReviewed the review questions for the quiz\n\nHomework\n\nReview for next weeks quiz. If you have questions or want challenge problems email me at alexwalburg@ayclogic.com
URL:https://www.ayclogic.com/event/515pm-intro-to-python-alex-w/
END:VEVENT
BEGIN:VEVENT
DTSTART;TZID=America/Los_Angeles:20221004T180000
DTEND;TZID=America/Los_Angeles:20221004T190000
DTSTAMP:20260423T131805
CREATED:20221005T020351Z
LAST-MODIFIED:20221005T020351Z
UID:15456-1664906400-1664910000@www.ayclogic.com
SUMMARY:6 PM Scratch Level 1 - Alexander Lee
DESCRIPTION:Today We Did:\n\nWe continued with the Animal Race project.\nLearned about broadcasting and when I receive.\nAlso talked about wait until again\, and how we were able to use the if then code.\n\nFor Homework: \n\nDo page 62 in your scratch book\, which is just the start of the Ask Gobo project.\nHere is the page below if you do not have it.
URL:https://www.ayclogic.com/event/6-pm-scratch-level-1-alexander-lee-2/
CATEGORIES:Scratch Class,Scratch Class Level 1
END:VEVENT
BEGIN:VEVENT
DTSTART;TZID=America/Los_Angeles:20221004T180000
DTEND;TZID=America/Los_Angeles:20221004T190000
DTSTAMP:20260423T131805
CREATED:20221005T024429Z
LAST-MODIFIED:20221005T024429Z
UID:15462-1664906400-1664910000@www.ayclogic.com
SUMMARY:6 PM – Scratch 2 – Yitong
DESCRIPTION:Today we:\n\nMade the Maze sprite go to the center of the screen.\nChanged the size of the Mouse sprite and made it always start at the upper left corner of the screen.\nAdded collision code for the Mouse sprite.\nMade a myBlock called “Movement.”\n\nHomework:\n\nHOMEWORK IS DUE MONDAY NIGHT!! Please submit by emailing your homework to: yitong@ayclogic.com and Mr. Gamas’s email: gamas@ayclogic.com.\n\nDon’t forget to share your project\, otherwise\, I won’t be to see your code.\nDon’t forget to include the project link in the email. Otherwise\, I cannot see your project.\n\n\nDo page 64 in the Coding book\, #33-35 ONLY.
URL:https://www.ayclogic.com/event/6-pm-scratch-2-yitong-10/
CATEGORIES:Scratch Class,Scratch Class Level 2
END:VEVENT
BEGIN:VEVENT
DTSTART;TZID=America/Los_Angeles:20221004T180000
DTEND;TZID=America/Los_Angeles:20221004T190000
DTSTAMP:20260423T131805
CREATED:20221005T205744Z
LAST-MODIFIED:20221005T205744Z
UID:15483-1664906400-1664910000@www.ayclogic.com
SUMMARY:6PM - Digital Illustration 1
DESCRIPTION:TUESDAY \nToday we continued the Lighthouse project. \nWe did: \n\nAdded the lighthouse on a new layer. STEPS: 1st layer) Light gray lighthouse shape. 2nd layer) Brick details and shading. 3rd layer) Gate details. And then merge all lighthouse layers into one.\n\nHOMEWORK \nMake sure your project is up to date\, and all the layers are correct.
URL:https://www.ayclogic.com/event/6pm-digital-illustration-1-17/
CATEGORIES:Beginner Digital Illustration,Digital Illustration
END:VEVENT
BEGIN:VEVENT
DTSTART;TZID=America/Los_Angeles:20221004T183000
DTEND;TZID=America/Los_Angeles:20221004T193000
DTSTAMP:20260423T131805
CREATED:20221005T194131Z
LAST-MODIFIED:20221005T194254Z
UID:15476-1664908200-1664911800@www.ayclogic.com
SUMMARY:6:30 PM - Scratch Level 1 - Allison
DESCRIPTION:Today We:\n\nContinued the Animal Race project\nReviewed the four directions in Scratch\nCreated the Banner sprite\nCoded the Banner sprite to hide when the game starts\nCoded the Banner sprite to switch to a costume and show when the Bat wins\n\nImportant Reminders:\n\nThere are new homework rules. After you finish your homework in Scratch\, you have to send an email the night before the day of the class.\nSince our class is on Tuesday\, send an email to allison@ayclogic.com by Monday at 8 PM. In that email\, write down your name and a link to your shared Scratch project homework. Make sure to share your Scratch project.\n\nHomework:\n\nWhen the Dog sprite touches the Finish Line sprite\, code the Banner sprite to use the costume that has the text “Dog Win!” and show\nContact us at gamas@ayclogic.com or allison@ayclogic.com if you have any questions or need any help
URL:https://www.ayclogic.com/event/630-pm-scratch-level-1-allison-7/
CATEGORIES:Scratch Class,Scratch Class Level 1
END:VEVENT
BEGIN:VEVENT
DTSTART;TZID=America/Los_Angeles:20221004T190000
DTEND;TZID=America/Los_Angeles:20221004T200000
DTSTAMP:20260423T131805
CREATED:20221012T011709Z
LAST-MODIFIED:20221012T011709Z
UID:15715-1664910000-1664913600@www.ayclogic.com
SUMMARY:7 PM - 3D Animation Beginner
DESCRIPTION:Week 13\nToday we do:\n\nWe learn how to animate the head turn\nHow to create a camera\nhow to use layer in maya\n\nHomework:\nThere is no homework for this week. However you can use the time to refine the running and jumping animation.
URL:https://www.ayclogic.com/event/7-pm-3d-animation-beginner-12/
END:VEVENT
END:VCALENDAR