BEGIN:VCALENDAR
VERSION:2.0
PRODID:-//American Young Coder - ECPv6.10.1.1//NONSGML v1.0//EN
CALSCALE:GREGORIAN
METHOD:PUBLISH
X-WR-CALNAME:American Young Coder
X-ORIGINAL-URL:https://www.ayclogic.com
X-WR-CALDESC:Events for American Young Coder
REFRESH-INTERVAL;VALUE=DURATION:PT1H
X-Robots-Tag:noindex
X-PUBLISHED-TTL:PT1H
BEGIN:VTIMEZONE
TZID:America/Los_Angeles
BEGIN:DAYLIGHT
TZOFFSETFROM:-0800
TZOFFSETTO:-0700
TZNAME:PDT
DTSTART:20220313T100000
END:DAYLIGHT
BEGIN:STANDARD
TZOFFSETFROM:-0700
TZOFFSETTO:-0800
TZNAME:PST
DTSTART:20221106T090000
END:STANDARD
END:VTIMEZONE
BEGIN:VEVENT
DTSTART;TZID=America/Los_Angeles:20221005T170000
DTEND;TZID=America/Los_Angeles:20221005T180000
DTSTAMP:20260423T132544
CREATED:20221006T211616Z
LAST-MODIFIED:20221006T211616Z
UID:15509-1664989200-1664992800@www.ayclogic.com
SUMMARY:5PM - Digital Illustration 3
DESCRIPTION:WEDNESDAY \nToday we continued the Tanjiro and Nezuko project. \nWe did: \n\nFinished the Tanjiro lines\nHis right side arm with the riceball is on a separate layer\n\nThe images below can show you clearly what we did. \n   \nHOMEWORK \n\n1) Look at your Tanjiro and Nezuko project\, and also at the images above. Make sure your project is caught up to class\, and make it nicer if needed.\n2) Continue your two-figures homework project. By now you should be finished with the sketching stage\, and you can start on doing the lines for your project.\n\nStart the lines on a new layer.\nDo each character on a different layer.\nThe lines don’t need to be finished\, but at least 50% (half-way) done.
URL:https://www.ayclogic.com/event/5pm-digital-illustration-3-20/
CATEGORIES:Digital Illustration,Intermediate Digital Illustration
END:VEVENT
BEGIN:VEVENT
DTSTART;TZID=America/Los_Angeles:20221005T170000
DTEND;TZID=America/Los_Angeles:20221005T180000
DTSTAMP:20260423T132544
CREATED:20221007T071755Z
LAST-MODIFIED:20221007T071755Z
UID:15570-1664989200-1664992800@www.ayclogic.com
SUMMARY:5 PM – Scratch Level 1 – Allison
DESCRIPTION:Today we:\n\nFinished the Customized Birthday Card\nStarted the Tunnel of Doom project\nCoded the Cat sprite to start at the starting place when the game starts.\nCoded the Cat sprite to follow the mouse pointer until it touches the Tunnel sprite\nAdded a Home Button sprite and created a Banner sprite\nCoded the Banner sprite to hide when the game starts\nCoded the Banner sprite to show when the Cat touches the Home Button sprite\n\nHomework:\n\nCreate two more costumes for the Tunnel sprite. All costumes must be different from each other.\nContact us if you have any questions or need any help
URL:https://www.ayclogic.com/event/5-pm-scratch-level-1-allison-41/
CATEGORIES:Scratch Class,Scratch Class Level 1
END:VEVENT
BEGIN:VEVENT
DTSTART;TZID=America/Los_Angeles:20221005T180000
DTEND;TZID=America/Los_Angeles:20221005T200000
DTSTAMP:20260423T132544
CREATED:20221006T032039Z
LAST-MODIFIED:20221006T032039Z
UID:15490-1664992800-1665000000@www.ayclogic.com
SUMMARY:Competitive Programming
DESCRIPTION:Homework: \nThere is no specific homework for this week\, please go over the slide and code we discussed in class. \n 
URL:https://www.ayclogic.com/event/competitive-programming-6/
END:VEVENT
BEGIN:VEVENT
DTSTART;TZID=America/Los_Angeles:20221005T190000
DTEND;TZID=America/Los_Angeles:20221005T200000
DTSTAMP:20260423T132544
CREATED:20221011T171943Z
LAST-MODIFIED:20221011T171943Z
UID:15665-1664996400-1665000000@www.ayclogic.com
SUMMARY:7PM - OOP Python - Latisha
DESCRIPTION:Today We Did\n\nLearned about dictionaries\n\nHomework\n\nIn Oct5_DictionaryHomework do pg.92-97 from the textbook and pg.99 TRY IT YOURSELF 6-1 and 6-2\n\nIf you have any questions\, feel free to email me at latisha@ayclogic.com
URL:https://www.ayclogic.com/event/7pm-oop-python-latisha-3/
END:VEVENT
BEGIN:VEVENT
DTSTART;TZID=America/Los_Angeles:20221005T194000
DTEND;TZID=America/Los_Angeles:20221005T204000
DTSTAMP:20260423T132544
CREATED:20221006T040021Z
LAST-MODIFIED:20221006T040021Z
UID:15492-1664998800-1665002400@www.ayclogic.com
SUMMARY:7:40 PM - Scratch 2 - Abigail
DESCRIPTION:What we did today\n\nWe worked on and finished the List Tutorial project.\nWe worked on MHALL with lists.\n\nHomework\n\nFinish working on MHALL with lists.\nCreate 3 more note sprites => A(69)\, B flat(70)\, and C2(72)\nWrite all of the notes of the Happy Birthday song\, and put them in the lists.\nPut pauses after the 6th note(E)\, 12th note(F)\, 19th note(D). You don’t have to do the last 3 notes (C\,C\,F).
URL:https://www.ayclogic.com/event/740-pm-scratch-2-abigail/
CATEGORIES:Scratch Class,Scratch Class Level 2
END:VEVENT
END:VCALENDAR