BEGIN:VCALENDAR
VERSION:2.0
PRODID:-//American Young Coder - ECPv6.10.1.1//NONSGML v1.0//EN
CALSCALE:GREGORIAN
METHOD:PUBLISH
X-WR-CALNAME:American Young Coder
X-ORIGINAL-URL:https://www.ayclogic.com
X-WR-CALDESC:Events for American Young Coder
REFRESH-INTERVAL;VALUE=DURATION:PT1H
X-Robots-Tag:noindex
X-PUBLISHED-TTL:PT1H
BEGIN:VTIMEZONE
TZID:America/Los_Angeles
BEGIN:DAYLIGHT
TZOFFSETFROM:-0800
TZOFFSETTO:-0700
TZNAME:PDT
DTSTART:20220313T100000
END:DAYLIGHT
BEGIN:STANDARD
TZOFFSETFROM:-0700
TZOFFSETTO:-0800
TZNAME:PST
DTSTART:20221106T090000
END:STANDARD
END:VTIMEZONE
BEGIN:VEVENT
DTSTART;TZID=America/Los_Angeles:20221012T170000
DTEND;TZID=America/Los_Angeles:20221012T180000
DTSTAMP:20260423T132554
CREATED:20221013T035129Z
LAST-MODIFIED:20221013T035304Z
UID:15749-1665594000-1665597600@www.ayclogic.com
SUMMARY:5 PM – Scratch Level 1 – Allison
DESCRIPTION:Today we:\n\nContinued the Tunnel of Doom project\nCoded the Cat sprite to play a sound when it touches the Tunnel sprite\nCreated a timer\nCreated a variable called “Best Score” to keep track of the best score\n\nHomework:\n\nRead and do the codes from the Scratch Book Pg. 133 (Note: Continue these codes from the one we started in class)\nContact us if you have any questions or need any help
URL:https://www.ayclogic.com/event/5-pm-scratch-level-1-allison-42/
CATEGORIES:Scratch Class,Scratch Class Level 1
END:VEVENT
BEGIN:VEVENT
DTSTART;TZID=America/Los_Angeles:20221012T170000
DTEND;TZID=America/Los_Angeles:20221012T180000
DTSTAMP:20260423T132554
CREATED:20221017T062542Z
LAST-MODIFIED:20221017T062542Z
UID:15835-1665594000-1665597600@www.ayclogic.com
SUMMARY:5PM - Digital Illustration 3
DESCRIPTION:WEDNESDAY \nToday we continued the Tanjiro and Nezuko project. \n\nToday we started Nezuko colors.\n\n \n \nHOMEWORK \n\n1) Look at your Tanjiro and Nezuko project\, and Make sure your project is caught up to class\, and make it nicer if needed. Click here for last week’s images.\n2) Continue your two-figures homework project. By now you should be finished with the sketching stage\, and you can start on doing the lines for your project.\n\nStart the lines on a new layer.\nDo each character on a different layer.\nThe lines don’t need to be finished\, but at least 50% (half-way) done.
URL:https://www.ayclogic.com/event/5pm-digital-illustration-3-21/
CATEGORIES:Digital Illustration,Intermediate Digital Illustration
END:VEVENT
BEGIN:VEVENT
DTSTART;TZID=America/Los_Angeles:20221012T180000
DTEND;TZID=America/Los_Angeles:20221012T190000
DTSTAMP:20260423T132554
CREATED:20221013T020045Z
LAST-MODIFIED:20221018T022141Z
UID:15739-1665597600-1665601200@www.ayclogic.com
SUMMARY:6 PM - Python OOP - Gamas
DESCRIPTION:Homework\n\nCreate Oct12_LoopingThroughDictionaryHomework.py\nCopy codes from page 100\, 101\, 102.\nCreate Oct12_PhoneBookDictionary.py  and do exercise from below. No need to do “3. List all phone numbers” .\n\nhttps://www.ayclogic.com/phone-book-system/
URL:https://www.ayclogic.com/event/6-pm-python-oop-gamas-2/
CATEGORIES:Python Class,Python Level 1
END:VEVENT
BEGIN:VEVENT
DTSTART;TZID=America/Los_Angeles:20221012T180000
DTEND;TZID=America/Los_Angeles:20221012T200000
DTSTAMP:20260423T132554
CREATED:20221013T030611Z
LAST-MODIFIED:20221013T030611Z
UID:15744-1665597600-1665604800@www.ayclogic.com
SUMMARY:Competitive Programming
DESCRIPTION:Homework: \nGiven two integer arrays arr1 and arr2\, and the integer d\, return the distance value between the two arrays. \nThe distance value is defined as the number of elements arr1[i] such that there is not any element arr2[j] where |arr1[i]-arr2[j]| <= d. \nInput: arr1 = [4\,5\,8]\, arr2 = [10\,9\,1\,8]\, d = 2 \nOutput: 2
URL:https://www.ayclogic.com/event/competitive-programming-7/
END:VEVENT
BEGIN:VEVENT
DTSTART;TZID=America/Los_Angeles:20221012T190000
DTEND;TZID=America/Los_Angeles:20221012T200000
DTSTAMP:20260423T132554
CREATED:20221014T182210Z
LAST-MODIFIED:20221014T182210Z
UID:15762-1665601200-1665604800@www.ayclogic.com
SUMMARY:7PM - OOP Python - Latisha
DESCRIPTION:Today We Did\n\nReviewed Homework\nHow to make a for-loop for Dictionaries\n\nHomework\n\nin Oct5_DictionaryHomework.py do pg.99 TRY-IT-YOURSELF 6-3 and use a for-loop to print do the second part\n\nIf you have any questions\, feel free to email me at latisha@ayclogic.com
URL:https://www.ayclogic.com/event/7pm-oop-python-latisha-6/
END:VEVENT
BEGIN:VEVENT
DTSTART;TZID=America/Los_Angeles:20221012T193000
DTEND;TZID=America/Los_Angeles:20221012T203000
DTSTAMP:20260423T132554
CREATED:20221014T224851Z
LAST-MODIFIED:20221014T224851Z
UID:15764-1665603000-1665606600@www.ayclogic.com
SUMMARY:7:30 PM Intro To Java - Alex Lee
DESCRIPTION:Today We Did:\n\nWe took the first Java quiz today which was to create the BankSystem and BankAccount.\nThe test will be sent to you before the start of the next class.
URL:https://www.ayclogic.com/event/730-pm-intro-to-java-alex-lee-2/
CATEGORIES:Introduction To Java,Java
END:VEVENT
END:VCALENDAR