BEGIN:VCALENDAR
VERSION:2.0
PRODID:-//American Young Coder - ECPv6.10.1.1//NONSGML v1.0//EN
CALSCALE:GREGORIAN
METHOD:PUBLISH
X-ORIGINAL-URL:https://www.ayclogic.com
X-WR-CALDESC:Events for American Young Coder
REFRESH-INTERVAL;VALUE=DURATION:PT1H
X-Robots-Tag:noindex
X-PUBLISHED-TTL:PT1H
BEGIN:VTIMEZONE
TZID:America/Los_Angeles
BEGIN:DAYLIGHT
TZOFFSETFROM:-0800
TZOFFSETTO:-0700
TZNAME:PDT
DTSTART:20220313T100000
END:DAYLIGHT
BEGIN:STANDARD
TZOFFSETFROM:-0700
TZOFFSETTO:-0800
TZNAME:PST
DTSTART:20221106T090000
END:STANDARD
END:VTIMEZONE
BEGIN:VEVENT
DTSTART;TZID=America/Los_Angeles:20221014T170000
DTEND;TZID=America/Los_Angeles:20221014T180000
DTSTAMP:20260423T132352
CREATED:20221015T011047Z
LAST-MODIFIED:20221015T011453Z
UID:15768-1665766800-1665770400@www.ayclogic.com
SUMMARY:5 PM – Scratch 1 – Yitong
DESCRIPTION:Today we:\n\nMade the Eyeball sprite move back and forth.\nMade the Head sprite move back and forth.\nAdded the Boxing Glove sprite.\nMade the Boxing Glove sprite follow the mouse and hit the dummy.\n\nHomework:\n\nMake a separate costume for the Head sprite when it gets punched.\nAdd code to switch to this new costume when the dummy gets punched.\nDownload the Pow image from Project Resources.\n\n\nEmail your homework: yitong@ayclogic.com
URL:https://www.ayclogic.com/event/5-pm-scratch-1-yitong-10/
CATEGORIES:Scratch Class,Scratch Class Level 1
END:VEVENT
BEGIN:VEVENT
DTSTART;TZID=America/Los_Angeles:20221014T173000
DTEND;TZID=America/Los_Angeles:20221014T183000
DTSTAMP:20260423T132352
CREATED:20221015T040707Z
LAST-MODIFIED:20221015T040707Z
UID:15776-1665768600-1665772200@www.ayclogic.com
SUMMARY:5:30 - Intro To Python - Alex W.
DESCRIPTION:Today We Did\n\nReviewed the quiz and results\nWorked on Functions without a return value\n\nHomework\n\nIn Oct14_FunctionNoReturnsHomework: Complete Problems 4-6 at the the following link: https://www.ayclogic.com/list-inputs-if-and-else-loops-and-function/\n\nIf you have any questions\, please contact me at alexwalburg@ayclogic.com
URL:https://www.ayclogic.com/event/530-intro-to-python-alex-w-2/
END:VEVENT
BEGIN:VEVENT
DTSTART;TZID=America/Los_Angeles:20221014T190000
DTEND;TZID=America/Los_Angeles:20221014T200000
DTSTAMP:20260423T132352
CREATED:20221015T024821Z
LAST-MODIFIED:20221015T024821Z
UID:15774-1665774000-1665777600@www.ayclogic.com
SUMMARY:7 PM - Python Game Development - Gamas
DESCRIPTION:Homework\n\nIn Shoot Balloon project\, use target sprite inside main.py so target will appear on the screen.\nContinue on your team project
URL:https://www.ayclogic.com/event/7-pm-python-game-development-gamas-10/
CATEGORIES:Python Class,Python Game Development
END:VEVENT
END:VCALENDAR