BEGIN:VCALENDAR
VERSION:2.0
PRODID:-//American Young Coder - ECPv6.10.1.1//NONSGML v1.0//EN
CALSCALE:GREGORIAN
METHOD:PUBLISH
X-WR-CALNAME:American Young Coder
X-ORIGINAL-URL:https://www.ayclogic.com
X-WR-CALDESC:Events for American Young Coder
REFRESH-INTERVAL;VALUE=DURATION:PT1H
X-Robots-Tag:noindex
X-PUBLISHED-TTL:PT1H
BEGIN:VTIMEZONE
TZID:America/Los_Angeles
BEGIN:DAYLIGHT
TZOFFSETFROM:-0800
TZOFFSETTO:-0700
TZNAME:PDT
DTSTART:20220313T100000
END:DAYLIGHT
BEGIN:STANDARD
TZOFFSETFROM:-0700
TZOFFSETTO:-0800
TZNAME:PST
DTSTART:20221106T090000
END:STANDARD
END:VTIMEZONE
BEGIN:VEVENT
DTSTART;TZID=America/Los_Angeles:20221016T163000
DTEND;TZID=America/Los_Angeles:20221016T173000
DTSTAMP:20260423T131918
CREATED:20221020T020757Z
LAST-MODIFIED:20221020T022512Z
UID:15898-1665937800-1665941400@www.ayclogic.com
SUMMARY:4:30 PM - Python Game Development - Bill
DESCRIPTION:Today We:\n\nContinued to work on the dragon birdie project\n\nYour HW:\n\nCreate a Cloud class like we did for the bird\nThe cloud image assets location should be “assets/cloud1.png”\n\nMake the image be randomly selected like the bird by making the number part of “cloud1.png” be a random number between 1 and 3\n\n\nMake the Cloud move left or right depending on a direction variable like the bird class\nCreate a cloud_group attribute like we did for the bird group\nCreate a cloud_creation_timer to spawn a new cloud every 5 seconds with a random Y attribute
URL:https://www.ayclogic.com/event/530-python-game-development-bill/
END:VEVENT
END:VCALENDAR